{"text_format":"1","workbook":"xlsx","n_sheets":5,"sheets":["申込シート","参加確認 (学校用)","参加者名簿","お断りの方一覧","集計"],"not_rendered":{"charts":0,"images":0,"macros":1,"external_links":0,"defined_names":6,"comments":0,"pivot_tables":0},"unopened":[],"bounds":{"document_bytes":16777216,"sheet_cells":100000,"rows_first":2000,"rows_last":500,"rows_between":2000,"halvings":0,"cell_chars":16384,"cell_head_chars":4096},"cells_cut":0,"cells_raw":0,"read":"whole","date_system":"1900"}

{"sheet":"申込シート","index":0,"n_rows":81,"n_cols":44,"rows_kept":81,"cut":false,"hidden":false,"merged":[[32,1,33,1],[34,1,35,1],[24,13,25,13],[26,13,27,13],[34,4,35,4],[24,5,25,6],[26,5,27,6],[28,5,29,6],[32,5,33,6],[34,5,35,6],[26,4,27,4],[28,4,29,4],[32,7,33,8],[34,7,35,8],[32,13,33,13],[34,13,35,13],[32,9,33,11],[34,9,35,11],[24,12,25,12],[26,12,27,12],[32,12,33,12],[34,12,35,12],[34,2,34,3],[35,2,35,3],[43,1,43,22],[46,1,46,22],[38,1,38,5],[39,1,39,5],[40,1,40,5],[41,1,41,5],[44,1,44,23],[38,6,38,14],[39,6,39,14],[40,6,40,14],[41,6,41,14],[39,17,39,18],[39,19,39,20],[40,19,40,20],[41,19,41,20],[42,19,42,20],[40,17,40,18],[41,17,41,18],[42,17,42,18],[45,1,45,23],[30,1,31,1],[32,2,32,3],[32,4,33,4],[24,9,25,11],[26,9,27,11],[26,22,27,23],[28,22,29,23],[32,22,33,23],[26,19,27,20],[28,19,29,20],[24,15,25,17],[24,18,25,18],[24,21,25,21],[32,15,33,17],[32,18,33,18],[32,21,33,21],[32,14,33,14],[30,2,30,3],[31,2,31,3],[30,4,31,4],[30,5,31,6],[30,7,31,8],[28,15,29,17],[28,18,29,18],[24,1,25,1],[26,1,27,1],[28,1,29,1],[27,2,27,3],[29,2,29,3],[26,2,26,3],[24,2,24,3],[28,2,28,3],[24,4,25,4],[13,8,13,9],[22,4,23,4],[22,7,23,8],[22,9,22,14],[23,9,23,14],[22,5,23,6],[26,14,27,14],[28,9,29,11],[28,12,29,12],[28,14,29,14],[28,13,29,13],[30,12,31,12],[30,13,31,13],[34,14,35,14],[26,7,27,8],[28,7,29,8],[1,1,1,23],[24,7,25,8],[16,3,18,9],[5,16,5,18],[22,22,23,23],[22,2,22,3],[23,2,23,3],[25,2,25,3],[24,22,25,23],[9,17,9,22],[13,17,13,22],[11,17,11,22],[7,17,7,19],[24,14,25,14],[24,19,25,20],[22,15,22,21],[23,15,23,21],[22,1,23,1],[9,8,9,9],[33,2,33,3],[28,21,29,21],[24,44,25,44],[26,44,27,44],[28,44,29,44],[30,44,31,44],[32,44,33,44],[34,44,35,44],[30,14,31,14],[30,15,31,17],[30,18,31,18],[30,19,31,20],[30,21,31,21],[30,22,31,23],[34,15,35,17],[34,18,35,18],[34,21,35,21],[26,15,27,17],[26,18,27,18],[26,21,27,21],[32,19,33,20],[34,19,35,20],[34,22,35,23],[30,9,31,11]]}
[null,null,null,null,null,null,null,null,null,null,null,null,null,null,null,null,null,null,null,null,null,null,null,null,null,null,null,null,null,null,null,null,null,null,null,null,null,null,null,null,null,"北区","加茂川中学校","492-1884"]
[null,"令和５年度\n　　　　　　　鳴滝総合支援学校　オープンキャンパス参加申込シート\n                            （京都市立以外の学校専用）",null,null,null,null,null,null,null,null,null,null,null,null,null,null,null,null,null,null,null,null,null,null,null,null,null,null,null,null,5,null,null,"2014-01-01","本日",null,null,null,null,null,"北","北区","西賀茂中学校","493-7001"]
[null,null,null,null,null,null,null,null,null,null,null,null,null,null,null,null,null,null,null,null,null,null,null,null,null,null,null,null,null,"リスト","6","1",null,"６月１９日(月)",null,"３","男","特別支援","１回目","あり","上京",null,"旭丘中学校","492-1330"]
[null,null,null,null,null,null,null,null,null,null,null,null,null,null,null,null,null,null,null,null,null,null,null,null,null,null,null,null,null,null,"7","2",null,"６月２６日(月)",null,"過年度","女","普通","２回目","なし","左京",null,"衣笠中学校","461-2222"]
[null,"（あて先）京都市立鳴滝総合支援学校　校長",null,null,null,null,null,null,null,null,null,null,null,null,null,null,null,null,null,null,null,null,null,null,null,null,null,null,null,null,"8","3",null,"６月３０日(金)",null,null,null,null,"３回目",null,"中京",null,"京都教育大学附属京都小中学校","431-7133"]
[null,null,null,null,null,null,null,null,null,null,null,null,null,null,null,null,"令和５",null,null,"年",null,"月",null,"日",null,null,null,null,null,null,"9","4",null,"７月　７日(金)",null,null,null,null,"４回目",null,"東山","上京区","烏丸中学校","431-0168"]
[null,null,null,null,null,null,null,null,null,null,null,null,null,null,null,null,null,null,null,null,null,null,null,null,null,null,null,null,null,null,"10","5",null,"９月　４日(月)",null,null,null,null,"５回目",null,"山科",null,"上京中学校","431-8151"]
[null,null,null,null,null,null,null,null,null,null,null,null,null,null,null,null,null,null,null,null,null,null,null,null,null,null,null,null,null,null,"11","6",null,"９月１１日(月)",null,null,null,null,"６回目",null,"下京",null,"嘉楽中学校","431-0312"]
[null,null,null,null,null,null,null,null,null,null,null,null,null,null,null,null,null,null,null,null,null,null,null,null,null,null,null,null,null,null,"12","7",null,"９月１５日(金)",null,null,null,null,"７回目",null,"南",null,"二条中学校","821-1196"]
[null,null,null,null,null,null,null,null,null,null,null,null,null,null,null,"学校名",null,null,null,null,null,null,null,null,null,null,null,null,null,null,"1","8",null,"９月２２日(金)",null,null,null,null,"８回目",null,"右京",null,"北総合支援学校","431-6636"]
[null,null,null,null,null,null,null,null,null,null,null,null,null,null,null,null,null,null,null,null,null,null,null,null,null,null,null,null,null,null,"2","9",null,"　　　　　　　　　　　　　",null,null,null,null,null,null,"西京","左京区","岡崎中学校","771-4191"]
[null,null,null,null,null,null,null,null,null,null,null,null,null,null,null,"電話番号",null,null,null,null,null,null,null,null,null,null,null,null,null,null,null,"10",null,null,null,null,null,null,null,null,"伏見",null,"高野中学校","781-8134"]
[null,null,null,null,null,null,null,null,null,null,null,null,null,null,null,null,null,null,null,null,null,null,null,null,null,null,null,null,null,null,null,"11",null,null,null,null,null,null,null,null,null,null,"下鴨中学校","781-9181"]
[null,null,null,null,null,null,null,null,null,null,null,null,null,null,null,"記入者　",null,null,null,null,null,null,null,null,null,null,null,null,null,null,null,"12",null,null,null,null,null,null,null,null,null,null,"近衛中学校","771-0007"]
[null,null,null,null,null,null,null,null,null,null,null,null,null,null,null,null,null,null,null,null,null,null,null,null,null,null,null,null,null,null,null,"13",null,null,null,null,null,null,null,null,null,null,"修学院中学校","781-3000"]
[null,"１　希望日",null,null,null,null,null,null,null,null,null,null,null,null,null,null,null,null,null,null,null,null,null,null,null,null,null,null,null,null,null,"14",null,null,null,null,null,null,null,null,null,null,"洛北中学校","721-7445"]
[null,null,null,null,null,null,null,null,null,null,null,null,null,null,null,null,null,null,null,null,null,null,null,null,null,null,null,null,null,null,null,"15",null,null,null,null,null,null,null,null,null,null,"大原小中学校","744-2004"]
[null,null,null,null,null,null,null,null,null,null,null,null,null,null,null,null,null,null,null,null,null,null,null,null,null,null,null,null,null,null,null,"16",null,null,null,null,null,null,null,null,null,null,"花背小中学校","746-0131"]
[null,null,null,null,null,null,null,null,null,null,null,null,null,null,null,null,null,null,null,null,null,null,null,null,null,null,null,null,null,null,null,"17",null,null,null,null,null,null,null,null,null,"中京区","北野中学校","463-7101"]
[null,null,null,null,null,null,null,null,null,null,null,null,null,null,null,null,null,null,null,null,null,null,null,null,null,null,null,null,null,null,null,"18",null,null,null,null,null,null,null,null,null,null,"朱雀中学校","841-0205"]
[null,"２　参加者",null,null,null,null,null,null,null,null,null,null,null,null,null,null,null,null,null,null,null,null,null,null,null,null,null,null,null,null,null,"19",null,null,null,null,null,null,null,null,null,null,"京都御池中学校","221-0414"]
[null,"①　高等部卒業後企業就職を希望する中学３年生又は過年度卒業生及び保護者、家族",null,null,null,null,null,null,null,null,null,null,null,null,null,null,null,null,null,null,null,null,null,null,null,null,null,null,null,null,null,"20",null,null,null,null,null,null,null,null,null,null,"中京中学校","801-3266"]
[null,"学年等","ふりがな（上段）",null,"男・女","在籍\n学級",null,"今年度の参加回数",null,"参加保護者名",null,null,null,null,null,"参加保護者名",null,null,null,null,null,null,"個別相談\n希望の有無",null,null,null,null,null,null,null,null,"21",null,null,null,null,null,null,null,null,null,null,"松原中学校","841-0650"]
[null,null,"参加生徒名（下段）",null,null,null,null,null,null,"（生徒との関係）",null,null,null,null,null,"（生徒との関係）",null,null,null,null,null,null,null,null,null,null,null,null,null,null,null,"22",null,null,null,null,null,null,null,null,null,null,"西ノ京中学校","802-3365"]
[null,null,null,null,null,null,null,null,null,null,null,null,null,null,null,null,null,null,null,null,null,null,null,null,null,null,null,null,null,null,null,"23",null,null,null,null,null,null,null,null,null,null,"西京高等学校附属中学校","841-0010"]
[null,null,null,null,null,null,null,null,null,null,null,null,null,null,null,null,null,null,null,null,null,null,null,null,null,null,null,null,null,null,null,"24",null,null,null,null,null,null,null,null,null,null,"洛風中学校","213-2222"]
[null,null,null,null,null,null,null,null,null,null,null,null,null,null,null,null,null,null,null,null,null,null,null,null,null,null,null,null,null,null,null,"25",null,null,null,null,null,null,null,null,null,"東山区","開睛小中学校","533-8811"]
[null,null,null,null,null,null,null,null,null,null,null,null,null,null,null,null,null,null,null,null,null,null,null,null,null,null,null,null,null,null,null,"26",null,null,null,null,null,null,null,null,null,null,"東山泉小中学校","532-0355"]
[null,null,null,null,null,null,null,null,null,null,null,null,null,null,null,null,null,null,null,null,null,null,null,null,null,null,null,null,null,null,null,"27",null,null,null,null,null,null,null,null,null,"山科区","山科中学校","594-1151"]
[null,null,null,null,null,null,null,null,null,null,null,null,null,null,null,null,null,null,null,null,null,null,null,null,null,null,null,null,null,null,null,"28",null,null,null,null,null,null,null,null,null,null,"勧修中学校","591-9111"]
[null,null,null,null,null,null,null,null,null,null,null,null,null,null,null,null,null,null,null,null,null,null,null,null,null,null,null,null,null,null,null,"29",null,null,null,null,null,null,null,null,null,null,"大宅中学校","573-3067"]
[null,null,null,null,null,null,null,null,null,null,null,null,null,null,null,null,null,null,null,null,null,null,null,null,null,null,null,null,null,null,null,"30",null,null,null,null,null,null,null,null,null,null,"安祥寺中学校","592-2848"]
[null,null,null,null,null,null,null,null,null,null,null,null,null,null,null,null,null,null,null,null,null,null,null,null,null,null,null,null,null,null,null,"31",null,null,null,null,null,null,null,null,null,null,"音羽中学校","581-9115"]
[null,null,null,null,null,null,null,null,null,null,null,null,null,null,null,null,null,null,null,null,null,null,null,null,null,null,null,null,null,null,null,null,null,null,null,null,null,null,null,null,null,null,"花山中学校","581-5128"]
[null,null,null,null,null,null,null,null,null,null,null,null,null,null,null,null,null,null,null,null,null,null,null,null,null,null,null,null,null,null,null,null,null,null,null,null,null,null,null,null,null,null,"東総合支援学校","594-6501"]
[null,null,null,null,null,null,null,null,null,null,null,null,null,null,null,null,null,null,null,null,null,null,null,null,null,null,null,null,null,null,null,null,null,null,null,null,null,null,null,null,null,"下京区","下京中学校","371-2100"]
[null,null,null,null,null,null,null,null,null,null,null,null,null,null,null,null,null,null,null,null,null,null,null,null,null,null,null,null,null,null,null,null,null,null,null,null,null,null,null,null,null,null,"七条中学校","313-0972"]
[null,"②　中学校、特別支援学校（中学部）の教職員",null,null,null,null,null,null,null,null,null,null,null,null,null,null,null,null,null,null,null,null,null,null,null,null,null,null,null,null,null,null,null,null,null,null,null,null,null,null,null,null,"洛友中学校","821-2196"]
[null,"教　職　員　の　氏　名",null,null,null,null,"生徒・保護者との関係 ／校務分掌",null,null,null,null,null,null,null,null,null,"参加人数",null,null,null,null,null,null,null,null,null,null,null,null,null,null,null,null,null,null,null,null,null,null,null,null,"南区","八条中学校","681-5264"]
[null,null,null,null,null,null,null,null,null,null,null,null,null,null,null,null,null,"生　徒",null,{"$f":"COUNTA(C26,C28,C30,C32,C34,C36)","v":0},null,"名",null,null,null,null,null,null,null,null,null,null,null,null,null,null,null,null,null,null,null,null,"九条中学校","681-2211"]
[null,null,null,null,null,null,null,null,null,null,null,null,null,null,null,null,null,"保護者",null,{"$f":"COUNTA(J25,J27,J29,J31,J33,J35,P25,P27,P29,P31,P33,P35)","v":0},null,"名",null,null,null,null,null,null,null,null,null,null,null,null,null,null,null,null,null,null,null,null,"洛南中学校","691-0018"]
[null,null,null,null,null,null,null,null,null,null,null,null,null,null,null,null,null,"教職員",null,{"$f":"COUNTA(B40:F42)","v":0},null,"名",null,null,null,null,null,null,null,null,null,null,null,null,null,null,null,null,null,null,null,null,"久世中学校","933-3223"]
[null,null,null,null,null,null,null,null,null,null,null,null,null,null,null,null,null,"合　計",null,{"$f":"SUM(T40:U42)","v":0},null,"名",null,null,null,null,null,null,null,null,null,null,null,null,null,null,null,null,null,null,null,null,"凌風小中学校","693-8222"]
[null,"○欄が不足する場合はファイルをコピーして使用してください",null,null,null,null,null,null,null,null,null,null,null,null,null,null,null,null,null,null,null,null,null,null,null,null,null,null,null,null,null,null,null,null,null,null,null,null,null,null,null,"右京区","蜂ヶ岡中学校","861-2168"]
[null,"○学校からの鳴滝総合支援学校への申込締切日および時刻は、各実施日２週間前の同じ曜日の午後５時です\n○参加申込シートは管理職の先生から電子メールで副教頭 早﨑純一まで 送信していただきます様お願いいたします（セキュリティ強化により外部からExcelデータが受付できませんので、お手数ですが必要事項を入力後、PDFに変換し、メールに添付していただきますようお願いします）\n　E-mail: narutaki-y@edu.city.kyoto.jp\n  （添付されるファイルには、○○の所に貴校の学校名を付けてください）",null,null,null,null,null,null,null,null,null,null,null,null,null,null,null,null,null,null,null,null,null,null,null,null,null,null,null,null,null,null,null,null,null,null,null,null,null,null,null,null,"太秦中学校","872-0037"]
[null,"○参加確認書を電子メールにて送付します（期限内でも参加者数が多い場合は、ご希望に添えないこともあります）",null,null,null,null,null,null,null,null,null,null,null,null,null,null,null,null,null,null,null,null,null,null,null,null,null,null,null,null,null,null,null,null,null,null,null,null,null,null,null,null,"嵯峨中学校","871-0533"]
[null,null,null,null,null,null,null,null,null,null,null,null,null,null,null,null,null,null,null,null,null,null,null,null,null,null,null,null,null,null,null,null,null,null,null,null,null,null,null,null,null,null,"四条中学校","312-0040"]
[null,null,null,null,null,null,null,null,null,null,null,null,null,null,null,null,null,null,null,null,null,null,null,null,null,null,null,null,null,null,null,null,null,null,null,null,null,null,null,null,null,null,"西京極中学校","315-1531"]
[null,null,null,null,null,null,null,null,null,null,null,null,null,null,null,null,null,null,null,null,null,null,null,null,null,null,null,null,null,null,null,null,null,null,null,null,null,null,null,null,null,null,"梅津中学校","882-0910"]
[null,null,null,null,null,null,null,null,null,null,null,null,null,null,null,null,null,null,null,null,null,null,null,null,null,null,null,null,null,null,null,null,null,null,null,null,null,null,null,null,null,null,"西院中学校","312-0365"]
[null,null,null,null,null,null,null,null,null,null,null,null,null,null,null,null,null,null,null,null,null,null,null,null,null,null,null,null,null,null,null,null,null,null,null,null,null,null,null,null,null,null,"高雄中学校","872-1286"]
[null,null,null,null,null,null,null,null,null,null,null,null,null,null,null,null,null,null,null,null,null,null,null,null,null,null,null,null,null,null,null,null,null,null,null,null,null,null,null,null,null,null,"双ヶ丘中学校","463-8165"]
[null,null,null,null,null,null,null,null,null,null,null,null,null,null,null,null,null,null,null,null,null,null,null,null,null,null,null,null,null,null,null,null,null,null,null,null,null,null,null,null,null,null,"京都京北小中学校","852-1133"]
[null,null,null,null,null,null,null,null,null,null,null,null,null,null,null,null,null,null,null,null,null,null,null,null,null,null,null,null,null,null,null,null,null,null,null,null,null,null,null,null,null,null,"宕陰小中学校","0771-44-0310"]
[null,null,null,null,null,null,null,null,null,null,null,null,null,null,null,null,null,null,null,null,null,null,null,null,null,null,null,null,null,null,null,null,null,null,null,null,null,null,null,null,null,null,"鳴滝総合支援学校","461-3221"]
[null,null,null,null,null,null,null,null,null,null,null,null,null,null,null,null,null,null,null,null,null,null,null,null,null,null,null,null,null,null,null,null,null,null,null,null,null,null,null,null,null,"西京区","桂中学校","392-7200"]
[null,null,null,null,null,null,null,null,null,null,null,null,null,null,null,null,null,null,null,null,null,null,null,null,null,null,null,null,null,null,null,null,null,null,null,null,null,null,null,null,null,null,"松尾中学校","391-9622"]
[null,null,null,null,null,null,null,null,null,null,null,null,null,null,null,null,null,null,null,null,null,null,null,null,null,null,null,null,null,null,null,null,null,null,null,null,null,null,null,null,null,null,"桂川中学校","392-9229"]
[null,null,null,null,null,null,null,null,null,null,null,null,null,null,null,null,null,null,null,null,null,null,null,null,null,null,null,null,null,null,null,null,null,null,null,null,null,null,null,null,null,null,"樫原中学校","392-6630"]
[null,null,null,null,null,null,null,null,null,null,null,null,null,null,null,null,null,null,null,null,null,null,null,null,null,null,null,null,null,null,null,null,null,null,null,null,null,null,null,null,null,null,"大枝中学校","333-1112"]
[null,null,null,null,null,null,null,null,null,null,null,null,null,null,null,null,null,null,null,null,null,null,null,null,null,null,null,null,null,null,null,null,null,null,null,null,null,null,null,null,null,null,"洛西中学校","331-6131"]
[null,null,null,null,null,null,null,null,null,null,null,null,null,null,null,null,null,null,null,null,null,null,null,null,null,null,null,null,null,null,null,null,null,null,null,null,null,null,null,null,null,null,"西陵中学校","332-0671"]
[null,null,null,null,null,null,null,null,null,null,null,null,null,null,null,null,null,null,null,null,null,null,null,null,null,null,null,null,null,null,null,null,null,null,null,null,null,null,null,null,null,null,"大原野中学校","333-3207"]
[null,null,null,null,null,null,null,null,null,null,null,null,null,null,null,null,null,null,null,null,null,null,null,null,null,null,null,null,null,null,null,null,null,null,null,null,null,null,null,null,null,null,"西総合支援学校","332-4275"]
[null,null,null,null,null,null,null,null,null,null,null,null,null,null,null,null,null,null,null,null,null,null,null,null,null,null,null,null,null,null,null,null,null,null,null,null,null,null,null,null,null,"伏見区","深草中学校","641-6522"]
[null,null,null,null,null,null,null,null,null,null,null,null,null,null,null,null,null,null,null,null,null,null,null,null,null,null,null,null,null,null,null,null,null,null,null,null,null,null,null,null,null,null,"藤森中学校","641-5227"]
[null,null,null,null,null,null,null,null,null,null,null,null,null,null,null,null,null,null,null,null,null,null,null,null,null,null,null,null,null,null,null,null,null,null,null,null,null,null,null,null,null,null,"桃山中学校","611-0268"]
[null,null,null,null,null,null,null,null,null,null,null,null,null,null,null,null,null,null,null,null,null,null,null,null,null,null,null,null,null,null,null,null,null,null,null,null,null,null,null,null,null,null,"伏見中学校","611-5161"]
[null,null,null,null,null,null,null,null,null,null,null,null,null,null,null,null,null,null,null,null,null,null,null,null,null,null,null,null,null,null,null,null,null,null,null,null,null,null,null,null,null,null,"神川中学校","934-1505"]
[null,null,null,null,null,null,null,null,null,null,null,null,null,null,null,null,null,null,null,null,null,null,null,null,null,null,null,null,null,null,null,null,null,null,null,null,null,null,null,null,null,null,"醍醐中学校","571-0065"]
[null,null,null,null,null,null,null,null,null,null,null,null,null,null,null,null,null,null,null,null,null,null,null,null,null,null,null,null,null,null,null,null,null,null,null,null,null,null,null,null,null,null,"春日丘中学校","571-4969"]
[null,null,null,null,null,null,null,null,null,null,null,null,null,null,null,null,null,null,null,null,null,null,null,null,null,null,null,null,null,null,null,null,null,null,null,null,null,null,null,null,null,null,"小栗栖中学校","572-3135"]
[null,null,null,null,null,null,null,null,null,null,null,null,null,null,null,null,null,null,null,null,null,null,null,null,null,null,null,null,null,null,null,null,null,null,null,null,null,null,null,null,null,null,"栗陵中学校","571-7631"]
[null,null,null,null,null,null,null,null,null,null,null,null,null,null,null,null,null,null,null,null,null,null,null,null,null,null,null,null,null,null,null,null,null,null,null,null,null,null,null,null,null,null,"桃陵中学校","611-3241"]
[null,null,null,null,null,null,null,null,null,null,null,null,null,null,null,null,null,null,null,null,null,null,null,null,null,null,null,null,null,null,null,null,null,null,null,null,null,null,null,null,null,null,"向島東中学校","601-7932"]
[null,null,null,null,null,null,null,null,null,null,null,null,null,null,null,null,null,null,null,null,null,null,null,null,null,null,null,null,null,null,null,null,null,null,null,null,null,null,null,null,null,null,"洛水中学校","602-3261"]
[null,null,null,null,null,null,null,null,null,null,null,null,null,null,null,null,null,null,null,null,null,null,null,null,null,null,null,null,null,null,null,null,null,null,null,null,null,null,null,null,null,null,"大淀中学校","631-7211"]
[null,null,null,null,null,null,null,null,null,null,null,null,null,null,null,null,null,null,null,null,null,null,null,null,null,null,null,null,null,null,null,null,null,null,null,null,null,null,null,null,null,null,"向島秀蓮小中学校","611-3346"]
[null,null,null,null,null,null,null,null,null,null,null,null,null,null,null,null,null,null,null,null,null,null,null,null,null,null,null,null,null,null,null,null,null,null,null,null,null,null,null,null,null,null,"呉竹総合支援学校","601-9104"]
[null,null,null,null,null,null,null,null,null,null,null,null,null,null,null,null,null,null,null,null,null,null,null,null,null,null,null,null,null,null,null,null,null,null,null,null,null,null,null,null,null,null,"桃陽総合支援学校","641-2634"]
[null,null,null,null,null,null,null,null,null,null,null,null,null,null,null,null,null,null,null,null,null,null,null,null,null,null,null,null,null,null,null,null,null,null,null,null,null,null,null,null,null,null,"京都教育大学附属特別支援学校","641-3531"]

{"sheet":"参加確認 (学校用)","index":1,"n_rows":39,"n_cols":29,"rows_kept":39,"cut":false,"hidden":true,"merged":[[17,26,18,26],[19,26,20,26],[21,26,22,26],[23,26,24,26],[25,26,26,26],[27,26,28,26],[38,1,38,23],[34,1,34,5],[34,6,34,14],[34,15,34,16],[37,1,37,23],[32,1,32,5],[32,6,32,14],[32,15,32,16],[33,1,33,5],[33,6,33,14],[33,15,33,16],[27,21,28,21],[27,22,28,23],[27,24,28,24],[28,2,28,3],[31,1,31,5],[31,6,31,14],[31,15,31,16],[27,12,28,12],[27,13,28,13],[27,14,28,14],[27,15,28,17],[27,18,28,18],[27,19,28,20],[27,1,28,1],[27,2,27,3],[27,4,28,4],[27,5,28,6],[27,7,28,8],[27,9,28,11],[23,21,24,21],[23,22,24,23],[23,24,24,24],[24,2,24,3],[25,1,26,1],[25,2,25,3],[25,4,26,4],[25,5,26,6],[25,7,26,8],[25,9,26,11],[23,12,24,12],[23,13,24,13],[23,14,24,14],[23,15,24,17],[23,18,24,18],[23,19,24,20],[25,21,26,21],[25,22,26,23],[25,24,26,24],[26,2,26,3],[25,15,26,17],[25,18,26,18],[25,19,26,20],[23,1,24,1],[23,2,23,3],[23,4,24,4],[23,5,24,6],[23,7,24,8],[23,9,24,11],[21,12,22,12],[21,13,22,13],[21,14,22,14],[25,12,26,12],[25,13,26,13],[25,14,26,14],[21,1,22,1],[21,2,21,3],[21,4,22,4],[21,5,22,6],[21,7,22,8],[21,9,22,11],[19,12,20,12],[19,13,20,13],[19,14,20,14],[22,2,22,3],[19,1,20,1],[19,2,19,3],[19,4,20,4],[19,5,20,6],[19,7,20,8],[19,9,20,11],[20,2,20,3],[17,14,18,14],[17,15,18,17],[17,18,18,18],[17,19,18,20],[17,1,18,1],[17,2,17,3],[17,4,18,4],[17,5,18,6],[17,7,18,8],[17,9,18,11],[18,2,18,3],[17,12,18,12],[17,13,18,13],[16,2,16,3],[16,9,16,14],[16,15,16,21],[0,1,0,23],[1,3,1,8],[6,1,6,24],[9,3,11,9],[15,1,16,1],[15,2,15,3],[15,4,16,4],[15,5,16,6],[15,7,16,8],[15,9,15,14],[32,19,32,21],[33,19,33,21],[34,19,34,21],[35,19,35,21],[4,17,4,24],[31,18,31,21],[15,15,15,21],[15,22,16,23],[15,24,16,24],[17,21,18,21],[17,22,18,23],[17,24,18,24],[19,21,20,21],[19,22,20,23],[19,24,20,24],[19,15,20,17],[19,18,20,18],[19,19,20,20],[21,21,22,21],[21,22,22,23],[21,24,22,24],[21,15,22,17],[21,18,22,18],[21,19,22,20]]}
[null,"  令和５年度\n　　　　　　鳴滝総合支援学校オープンキャンパス参加確認書"]
[null,"（あて先）",null,{"$f":"申込シート!R10","v":0},null,null,null,null,null,"学校長様"]
[null,null,null,null,null,null,null,null,null,null,null,null,null,null,null,null,null,"令和５",null,"年",null,null,"月",null,"日"]
[]
[null,null,null,null,null,null,null,null,null,null,null,null,null,null,null,null,null,"京都市立鳴滝総合支援学校"]
[]
[null,"　京都市立鳴滝総合支援学校におけるオープンキャンパスへの参加について、以下のように決定いたしましたのでお知らせいたします。\n参加日、参加の可否及び内容をご確認いただきますようお願いいたします。"]
[]
[null,"１　希望日"]
[null,null,null,{"$f":"申込シート!D17","v":"00:00:00"}]
[]
[]
[]
[null,"２　参加者"]
[null,"①　高等部卒業後企業就職を希望する中学３年生又は過年度卒業生及び保護者、家族",null,null,null,null,null,null,null,null,null,null,null,null,null,null,null,null,null,null,null,null,null,null,null,null,null,null,"参加可"]
[null,"学年等","ふりがな（上段）",null,"男・女","在籍\n学級",null,"参加\n回数",null,"参加保護者名",null,null,null,null,null,"参加保護者名",null,null,null,null,null,null,"個別相談\n希望の有無",null,"参加\n可否",null,null,null,"参加不可"]
[null,null,"参加生徒名（下段）",null,null,null,null,null,null,"（生徒との関係）",null,null,null,null,null,"（生徒との関係）"]
[null,{"$f":"申込シート!B25","v":0},{"$f":"申込シート!C25","v":0},{"$f":"申込シート!D25","v":0},{"$f":"申込シート!E25","v":0},{"$f":"申込シート!F25","v":0},{"$f":"申込シート!G25","v":0},{"$f":"申込シート!H25","v":0},{"$f":"申込シート!I25","v":0},{"$f":"申込シート!J25","v":0},{"$f":"申込シート!K25","v":0},{"$f":"申込シート!L25","v":0},"（",{"$f":"申込シート!N25","v":0},"）",{"$f":"申込シート!P25","v":0},{"$f":"申込シート!Q25","v":0},{"$f":"申込シート!R25","v":0},"（",{"$f":"申込シート!T25","v":0},{"$f":"申込シート!U25","v":0},"）",{"$f":"申込シート!W25","v":0},{"$f":"申込シート!X25","v":0},"参加可",null,{"$f":"COUNTIFS(J18,\"*\",Y18,\"参加可\")+COUNTIFS(P18,\"*\",Y18,\"参加可\")","v":0}]
[null,null,{"$f":"申込シート!C26","v":0}]
[null,{"$f":"申込シート!B27","v":0},{"$f":"申込シート!C27","v":0},{"$f":"申込シート!D27","v":0},{"$f":"申込シート!E27","v":0},{"$f":"申込シート!F27","v":0},{"$f":"申込シート!G27","v":0},{"$f":"申込シート!H27","v":0},{"$f":"申込シート!I27","v":0},{"$f":"申込シート!J27","v":0},{"$f":"申込シート!K27","v":0},{"$f":"申込シート!L27","v":0},"（",{"$f":"申込シート!N27","v":0},"）",{"$f":"申込シート!P27","v":0},{"$f":"申込シート!Q27","v":0},{"$f":"申込シート!R27","v":0},"（",{"$f":"申込シート!T27","v":0},{"$f":"申込シート!U27","v":0},"）",{"$f":"申込シート!W27","v":0},{"$f":"申込シート!X27","v":0},"参加可",null,{"$f":"COUNTIFS(J20,\"*\",Y20,\"参加可\")+COUNTIFS(P20,\"*\",Y20,\"参加可\")","v":0}]
[null,null,{"$f":"申込シート!C28","v":0}]
[null,{"$f":"申込シート!B29","v":0},{"$f":"申込シート!C29","v":0},{"$f":"申込シート!D29","v":0},{"$f":"申込シート!E29","v":0},{"$f":"申込シート!F29","v":0},{"$f":"申込シート!G29","v":0},{"$f":"申込シート!H29","v":0},{"$f":"申込シート!I29","v":0},{"$f":"申込シート!J29","v":0},{"$f":"申込シート!K29","v":0},{"$f":"申込シート!L29","v":0},"（",{"$f":"申込シート!N29","v":0},"）",{"$f":"申込シート!P29","v":0},{"$f":"申込シート!Q29","v":0},{"$f":"申込シート!R29","v":0},"（",{"$f":"申込シート!T29","v":0},{"$f":"申込シート!U29","v":0},"）",{"$f":"申込シート!W29","v":0},{"$f":"申込シート!X29","v":0},"参加可",null,{"$f":"COUNTIFS(J22,\"*\",Y22,\"参加可\")+COUNTIFS(P22,\"*\",Y22,\"参加可\")","v":0}]
[null,null,{"$f":"申込シート!C30","v":0}]
[null,{"$f":"申込シート!B31","v":0},{"$f":"申込シート!C31","v":0},{"$f":"申込シート!D31","v":0},{"$f":"申込シート!E31","v":0},{"$f":"申込シート!F31","v":0},{"$f":"申込シート!G31","v":0},{"$f":"申込シート!H31","v":0},{"$f":"申込シート!I31","v":0},{"$f":"申込シート!J31","v":0},{"$f":"申込シート!K31","v":0},{"$f":"申込シート!L31","v":0},"（",{"$f":"申込シート!N31","v":0},"）",{"$f":"申込シート!P31","v":0},{"$f":"申込シート!Q31","v":0},{"$f":"申込シート!R31","v":0},"（",{"$f":"申込シート!T31","v":0},{"$f":"申込シート!U31","v":0},"）",{"$f":"申込シート!W31","v":0},{"$f":"申込シート!X31","v":0},"参加不可",null,{"$f":"COUNTIFS(J24,\"*\",Y24,\"参加可\")+COUNTIFS(P24,\"*\",Y24,\"参加可\")","v":0}]
[null,null,{"$f":"申込シート!C32","v":0}]
[null,{"$f":"申込シート!B33","v":0},{"$f":"申込シート!C33","v":0},{"$f":"申込シート!D33","v":0},{"$f":"申込シート!E33","v":0},{"$f":"申込シート!F33","v":0},{"$f":"申込シート!G33","v":0},{"$f":"申込シート!H33","v":0},{"$f":"申込シート!I33","v":0},{"$f":"申込シート!J33","v":0},{"$f":"申込シート!K33","v":0},{"$f":"申込シート!L33","v":0},"（",{"$f":"申込シート!N33","v":0},"）",{"$f":"申込シート!P33","v":0},{"$f":"申込シート!Q33","v":0},{"$f":"申込シート!R33","v":0},"（",{"$f":"申込シート!T33","v":0},{"$f":"申込シート!U33","v":0},"）",{"$f":"申込シート!W33","v":0},{"$f":"申込シート!X33","v":0},"参加不可",null,{"$f":"COUNTIFS(J26,\"*\",Y26,\"参加可\")+COUNTIFS(P26,\"*\",Y26,\"参加可\")","v":0}]
[null,null,{"$f":"申込シート!C34","v":0}]
[null,{"$f":"申込シート!B35","v":0},{"$f":"申込シート!C35","v":0},{"$f":"申込シート!D35","v":0},{"$f":"申込シート!E35","v":0},{"$f":"申込シート!F35","v":0},{"$f":"申込シート!G35","v":0},{"$f":"申込シート!H35","v":0},{"$f":"申込シート!I35","v":0},{"$f":"申込シート!J35","v":0},{"$f":"申込シート!K35","v":0},{"$f":"申込シート!L35","v":0},"（",{"$f":"申込シート!N35","v":0},"）",{"$f":"申込シート!P35","v":0},{"$f":"申込シート!Q35","v":0},{"$f":"申込シート!R35","v":0},"（",{"$f":"申込シート!T35","v":0},{"$f":"申込シート!U35","v":0},"）",{"$f":"申込シート!W35","v":0},{"$f":"申込シート!X35","v":0},"参加不可",null,{"$f":"COUNTIFS(J28,\"*\",Y28,\"参加可\")+COUNTIFS(P28,\"*\",Y28,\"参加可\")","v":0}]
[null,null,{"$f":"申込シート!C36","v":0}]
[]
[null,"②　中学校、総合支援学校（中学部）の教職員"]
[null,"教　職　員　の　氏　名",null,null,null,null,"参加生徒・保護者との関係 ／校務分掌",null,null,null,null,null,null,null,null,"参加可否",null,null,"参加人数"]
[null,{"$f":"申込シート!B40","v":0},null,null,null,null,{"$f":"申込シート!G40","v":0},null,null,null,null,null,null,null,null,null,null,null,null,"生　徒",null,null,null,{"$f":"COUNTIF(Y18:Y29,\"参加可\")","v":3},"名"]
[null,{"$f":"申込シート!B41","v":0},null,null,null,null,{"$f":"申込シート!G41","v":0},null,null,null,null,null,null,null,null,null,null,null,null,"保護者",null,null,null,{"$f":"SUM(AA18:AA29)","v":0},"名"]
[null,{"$f":"申込シート!B42","v":0},null,null,null,null,{"$f":"申込シート!G42","v":0},null,null,null,null,null,null,null,null,null,null,null,null,"教職員",null,null,null,{"$f":"COUNTIF(P33:Q35,\"参加可\")","v":0},"名"]
[null,null,null,null,null,null,null,null,null,null,null,null,null,null,null,null,null,null,null,"合　計",null,null,null,{"$f":"SUM(X33:X35)","v":3},"名"]
[null,"③　日　程"]
[null,"　　９：００～　９：２０　　受付開始\n　　９：２０～　９：５０　　①ガイダンス（初回必須）　　　　　　 　\n　１０：００～１２：００　　②見学・体験（専門教科の見学・体験）\n　１２：０５～１２：２５    ③キャリアアドバイス（学習の振返り）\n　　９：５０～１２：００　　④個別の相談（要事前申込）　　　　　　"]
[null,"※　本校は、二足制になっております。必ず上靴をご持参ください。\n※　遅刻・不参加の場合は、 中学校・中学部から鳴滝総合（４６１-３２２１）へ連絡してください。\n※　体調不良の場合は、参加の自粛をお願いいたします。\n※　発熱等の症状が見られた場合、参加を見合わせていただくこともあります。"]

{"sheet":"参加者名簿","index":2,"n_rows":39,"n_cols":25,"rows_kept":39,"cut":false,"hidden":true,"merged":[[38,1,38,23],[34,1,34,5],[34,6,34,14],[34,15,34,16],[34,20,34,22],[35,20,35,22],[37,1,37,23],[32,1,32,5],[32,6,32,14],[32,15,32,16],[32,17,32,18],[32,20,32,22],[33,1,33,5],[33,6,33,14],[33,15,33,16],[33,20,33,22],[27,21,28,21],[27,22,28,23],[27,24,28,24],[28,2,28,3],[31,1,31,5],[31,6,31,14],[31,15,31,16],[31,19,31,21],[27,12,28,12],[27,13,28,13],[27,14,28,14],[27,15,28,17],[27,18,28,18],[27,19,28,20],[27,1,28,1],[27,2,27,3],[27,4,28,4],[27,5,28,6],[27,7,28,8],[27,9,28,11],[23,21,24,21],[23,22,24,23],[23,24,24,24],[24,2,24,3],[25,1,26,1],[25,2,25,3],[25,4,26,4],[25,5,26,6],[25,7,26,8],[25,9,26,11],[23,12,24,12],[23,13,24,13],[23,14,24,14],[23,15,24,17],[23,18,24,18],[23,19,24,20],[25,21,26,21],[25,22,26,23],[25,24,26,24],[26,2,26,3],[25,15,26,17],[25,18,26,18],[25,19,26,20],[23,1,24,1],[23,2,23,3],[23,4,24,4],[23,5,24,6],[23,7,24,8],[23,9,24,11],[21,12,22,12],[21,13,22,13],[21,14,22,14],[25,12,26,12],[25,13,26,13],[25,14,26,14],[19,24,20,24],[20,2,20,3],[21,1,22,1],[21,2,21,3],[21,4,22,4],[21,5,22,6],[21,7,22,8],[21,9,22,11],[19,12,20,12],[19,13,20,13],[19,14,20,14],[19,15,20,17],[19,18,20,18],[19,19,20,20],[21,21,22,21],[21,22,22,23],[21,24,22,24],[22,2,22,3],[21,15,22,17],[21,18,22,18],[21,19,22,20],[17,21,18,21],[17,22,18,23],[17,24,18,24],[18,2,18,3],[19,1,20,1],[19,2,19,3],[19,4,20,4],[19,5,20,6],[19,7,20,8],[19,9,20,11],[17,12,18,12],[17,13,18,13],[17,14,18,14],[17,15,18,17],[17,18,18,18],[17,19,18,20],[17,1,18,1],[17,2,17,3],[17,4,18,4],[17,5,18,6],[17,7,18,8],[17,9,18,11],[19,21,20,21],[19,22,20,23],[15,15,15,21],[15,22,16,23],[15,24,16,24],[16,2,16,3],[16,9,16,14],[16,15,16,21],[0,1,0,23],[1,3,1,8],[6,1,6,24],[9,3,11,9],[15,1,16,1],[15,2,15,3],[15,4,16,4],[15,5,16,6],[15,7,16,8],[15,9,15,14]]}
[null,"  令和５年度\n　　　　　　鳴滝総合支援学校オープンキャンパス参加確認書"]
[null,"（あて先）",null,{"$f":"申込シート!R10","v":0},null,null,null,null,null,"学校長様"]
[null,null,null,null,null,null,null,null,null,null,null,null,null,null,null,null,null,"令和５",null,"年",{"$f":"'参加確認 (学校用)'!V3","v":0},"月",{"$f":"'参加確認 (学校用)'!X3","v":0},"日"]
[]
[null,null,null,null,null,null,null,null,null,null,null,null,null,null,null,null,null,"京都市立鳴滝総合支援学校"]
[]
[null,"　京都市立鳴滝総合支援学校におけるオープンキャンパスへの参加について、以下のように決定いたしましたのでお知らせいたします。参加日、参加者及び内容をご確認いただきますようお願いいたします。"]
[]
[null,"１　希望日"]
[null,null,null,{"$f":"申込シート!D17","v":"00:00:00"}]
[]
[]
[]
[null,"２　参加者"]
[null,"①　高等部卒業後企業就職を希望する中学３年生又は過年度卒業生及び保護者、家族"]
[null,"学年等","ふりがな（上段）",null,"男・女","在籍\n学級",null,"参加\n回数",null,"参加保護者名",null,null,null,null,null,"参加保護者名",null,null,null,null,null,null,"個別相談希望の有無",null,"参加可否"]
[null,null,"参加生徒名（下段）",null,null,null,null,null,null,"（生徒との関係）",null,null,null,null,null,"（生徒との関係）"]
[null,{"$f":"IF('参加確認 (学校用)'!Y18:Y19=\"参加可\",'参加確認 (学校用)'!B18:B19,\"\")","v":0},{"$f":"IF('参加確認 (学校用)'!Y18:Y19=\"参加可\",'参加確認 (学校用)'!C18:D18,\"\")","v":0},{"$f":"申込シート!D25","v":0},{"$f":"IF('参加確認 (学校用)'!Y18:Y19=\"参加可\",'参加確認 (学校用)'!E18:E19,\"\")","v":0},{"$f":"IF('参加確認 (学校用)'!Y18:Y19=\"参加可\",'参加確認 (学校用)'!F18:G19,\"\")","v":0},{"$f":"申込シート!G25","v":0},{"$f":"IF('参加確認 (学校用)'!Y18:Y19=\"参加可\",'参加確認 (学校用)'!H18:I19,\"\")","v":0},{"$f":"申込シート!I25","v":0},{"$f":"IF('参加確認 (学校用)'!Y18:Y19=\"参加可\",'参加確認 (学校用)'!J18:L19,\"\")","v":0},{"$f":"申込シート!K25","v":0},{"$f":"申込シート!L25","v":0},"（",{"$f":"IF('参加確認 (学校用)'!Y18:Y19=\"参加可\",'参加確認 (学校用)'!N18:N19,\"\")","v":0},"）",{"$f":"IF('参加確認 (学校用)'!Y18:Y19=\"参加可\",'参加確認 (学校用)'!P18:R19,\"\")","v":0},{"$f":"申込シート!Q25","v":0},{"$f":"申込シート!R25","v":0},"（",{"$f":"IF('参加確認 (学校用)'!Y18:Y19=\"参加可\",'参加確認 (学校用)'!T18:U19,\"\")","v":0},{"$f":"申込シート!U25","v":0},"）",{"$f":"IF('参加確認 (学校用)'!Y18:Y19=\"参加可\",'参加確認 (学校用)'!W18:X19,\"\")","v":0},{"$f":"申込シート!X25","v":0},{"$f":"IF('参加確認 (学校用)'!Y18:Y19=\"参加可\",'参加確認 (学校用)'!Y18:Y19,\"\")","v":"参加可"}]
[null,null,{"$f":"IF('参加確認 (学校用)'!Y18:Y19=\"参加可\",'参加確認 (学校用)'!C19:D19,\"\")","v":""}]
[null,{"$f":"IF('参加確認 (学校用)'!Y20:Y21=\"参加可\",'参加確認 (学校用)'!B20:B21,\"\")","v":0},{"$f":"IF('参加確認 (学校用)'!Y20:Y21=\"参加可\",'参加確認 (学校用)'!C20:D20,\"\")","v":0},{"$f":"申込シート!D27","v":0},{"$f":"IF('参加確認 (学校用)'!Y20:Y21=\"参加可\",'参加確認 (学校用)'!E20:E21,\"\")","v":0},{"$f":"IF('参加確認 (学校用)'!Y20:Y21=\"参加可\",'参加確認 (学校用)'!F20:G21,\"\")","v":0},{"$f":"申込シート!G27","v":0},{"$f":"IF('参加確認 (学校用)'!Y20:Y21=\"参加可\",'参加確認 (学校用)'!H20:I21,\"\")","v":0},{"$f":"申込シート!I27","v":0},{"$f":"IF('参加確認 (学校用)'!Y20:Y21=\"参加可\",'参加確認 (学校用)'!J20:L21,\"\")","v":0},{"$f":"申込シート!K27","v":0},{"$f":"申込シート!L27","v":0},"（",{"$f":"IF('参加確認 (学校用)'!Y20:Y21=\"参加可\",'参加確認 (学校用)'!N20:N21,\"\")","v":0},"）",{"$f":"IF('参加確認 (学校用)'!Y20:Y21=\"参加可\",'参加確認 (学校用)'!P20:R21,\"\")","v":0},{"$f":"申込シート!Q27","v":0},{"$f":"申込シート!R27","v":0},"（",{"$f":"IF('参加確認 (学校用)'!Y20:Y21=\"参加可\",'参加確認 (学校用)'!T20:U21,\"\")","v":0},{"$f":"申込シート!U27","v":0},"）",{"$f":"IF('参加確認 (学校用)'!Y20:Y21=\"参加可\",'参加確認 (学校用)'!W20:X21,\"\")","v":0},{"$f":"申込シート!X27","v":0},{"$f":"IF('参加確認 (学校用)'!Y20:Y21=\"参加可\",'参加確認 (学校用)'!Y20:Y21,\"\")","v":"参加可"}]
[null,null,{"$f":"IF('参加確認 (学校用)'!Y20:Y21=\"参加可\",'参加確認 (学校用)'!C21:D21,\"\")","v":""}]
[null,{"$f":"IF('参加確認 (学校用)'!Y22:Y23=\"参加可\",'参加確認 (学校用)'!B22:B23,\"\")","v":0},{"$f":"IF('参加確認 (学校用)'!Y22:Y23=\"参加可\",'参加確認 (学校用)'!C22:D22,\"\")","v":0},{"$f":"申込シート!D29","v":0},{"$f":"IF('参加確認 (学校用)'!Y22:Y23=\"参加可\",'参加確認 (学校用)'!E22:E23,\"\")","v":0},{"$f":"IF('参加確認 (学校用)'!Y22:Y23=\"参加可\",'参加確認 (学校用)'!F22:G23,\"\")","v":0},{"$f":"申込シート!G29","v":0},{"$f":"IF('参加確認 (学校用)'!Y22:Y23=\"参加可\",'参加確認 (学校用)'!H22:I23,\"\")","v":0},{"$f":"申込シート!I29","v":0},{"$f":"IF('参加確認 (学校用)'!Y22:Y23=\"参加可\",'参加確認 (学校用)'!J22:L23,\"\")","v":0},{"$f":"申込シート!K29","v":0},{"$f":"申込シート!L29","v":0},"（",{"$f":"IF('参加確認 (学校用)'!Y22:Y23=\"参加可\",'参加確認 (学校用)'!N22:N23,\"\")","v":0},"）",{"$f":"IF('参加確認 (学校用)'!Y22:Y23=\"参加可\",'参加確認 (学校用)'!P22:R23,\"\")","v":0},{"$f":"申込シート!Q29","v":0},{"$f":"申込シート!R29","v":0},"（",{"$f":"IF('参加確認 (学校用)'!Y22:Y23=\"参加可\",'参加確認 (学校用)'!T22:U23,\"\")","v":0},{"$f":"申込シート!U29","v":0},"）",{"$f":"IF('参加確認 (学校用)'!Y22:Y23=\"参加可\",'参加確認 (学校用)'!W22:X23,\"\")","v":0},{"$f":"申込シート!X29","v":0},{"$f":"IF('参加確認 (学校用)'!Y22:Y23=\"参加可\",'参加確認 (学校用)'!Y22:Y23,\"\")","v":"参加可"}]
[null,null,{"$f":"IF('参加確認 (学校用)'!Y22:Y23=\"参加可\",'参加確認 (学校用)'!C23:D23,\"\")","v":""}]
[null,{"$f":"IF('参加確認 (学校用)'!Y24:Y25=\"参加可\",'参加確認 (学校用)'!B24:B25,\"\")","v":""},{"$f":"IF('参加確認 (学校用)'!Y24:Y25=\"参加可\",'参加確認 (学校用)'!C24:D24,\"\")","v":""},{"$f":"申込シート!D31","v":0},{"$f":"IF('参加確認 (学校用)'!Y24:Y25=\"参加可\",'参加確認 (学校用)'!E24:E25,\"\")","v":""},{"$f":"IF('参加確認 (学校用)'!Y24:Y25=\"参加可\",'参加確認 (学校用)'!F24:G25,\"\")","v":""},{"$f":"申込シート!G31","v":0},{"$f":"IF('参加確認 (学校用)'!Y24:Y25=\"参加可\",'参加確認 (学校用)'!H24:I25,\"\")","v":""},{"$f":"申込シート!I31","v":0},{"$f":"IF('参加確認 (学校用)'!Y24:Y25=\"参加可\",'参加確認 (学校用)'!J24:L25,\"\")","v":""},{"$f":"申込シート!K31","v":0},{"$f":"申込シート!L31","v":0},"（",{"$f":"IF('参加確認 (学校用)'!Y24:Y25=\"参加可\",'参加確認 (学校用)'!N24:N25,\"\")","v":""},"）",{"$f":"IF('参加確認 (学校用)'!Y24:Y25=\"参加可\",'参加確認 (学校用)'!P24:R25,\"\")","v":""},{"$f":"申込シート!Q31","v":0},{"$f":"申込シート!R31","v":0},"（",{"$f":"IF('参加確認 (学校用)'!Y24:Y25=\"参加可\",'参加確認 (学校用)'!T24:U25,\"\")","v":""},{"$f":"申込シート!U31","v":0},"）",{"$f":"IF('参加確認 (学校用)'!Y24:Y25=\"参加可\",'参加確認 (学校用)'!W24:X25,\"\")","v":""},{"$f":"申込シート!X31","v":0},{"$f":"IF('参加確認 (学校用)'!Y24:Y25=\"参加可\",'参加確認 (学校用)'!Y24:Y25,\"\")","v":""}]
[null,null,{"$f":"IF('参加確認 (学校用)'!Y24:Y25=\"参加可\",'参加確認 (学校用)'!C25:D25,\"\")","v":""}]
[null,{"$f":"IF('参加確認 (学校用)'!Y26:Y27=\"参加可\",'参加確認 (学校用)'!B26:B27,\"\")","v":""},{"$f":"IF('参加確認 (学校用)'!Y26:Y27=\"参加可\",'参加確認 (学校用)'!C26:D26,\"\")","v":""},{"$f":"申込シート!D33","v":0},{"$f":"IF('参加確認 (学校用)'!Y26:Y27=\"参加可\",'参加確認 (学校用)'!E26:E27,\"\")","v":""},{"$f":"IF('参加確認 (学校用)'!Y26:Y27=\"参加可\",'参加確認 (学校用)'!F26:G27,\"\")","v":""},{"$f":"申込シート!G33","v":0},{"$f":"IF('参加確認 (学校用)'!Y26:Y27=\"参加可\",'参加確認 (学校用)'!H26:I27,\"\")","v":""},{"$f":"申込シート!I33","v":0},{"$f":"IF('参加確認 (学校用)'!Y26:Y27=\"参加可\",'参加確認 (学校用)'!J26:L27,\"\")","v":""},{"$f":"申込シート!K33","v":0},{"$f":"申込シート!L33","v":0},"（",{"$f":"IF('参加確認 (学校用)'!Y26:Y27=\"参加可\",'参加確認 (学校用)'!N26:N27,\"\")","v":""},"）",{"$f":"IF('参加確認 (学校用)'!Y26:Y27=\"参加可\",'参加確認 (学校用)'!P26:R27,\"\")","v":""},{"$f":"申込シート!Q33","v":0},{"$f":"申込シート!R33","v":0},"（",{"$f":"IF('参加確認 (学校用)'!Y26:Y27=\"参加可\",'参加確認 (学校用)'!T26:U27,\"\")","v":""},{"$f":"申込シート!U33","v":0},"）",{"$f":"IF('参加確認 (学校用)'!Y26:Y27=\"参加可\",'参加確認 (学校用)'!W26:X27,\"\")","v":""},{"$f":"申込シート!X33","v":0},{"$f":"IF('参加確認 (学校用)'!Y26:Y27=\"参加可\",'参加確認 (学校用)'!Y26:Y27,\"\")","v":""}]
[null,null,{"$f":"IF('参加確認 (学校用)'!Y26:Y27=\"参加可\",'参加確認 (学校用)'!C27:D27,\"\")","v":""}]
[null,{"$f":"IF('参加確認 (学校用)'!Y28:Y29=\"参加可\",'参加確認 (学校用)'!B28:B29,\"\")","v":""},{"$f":"IF('参加確認 (学校用)'!Y28:Y29=\"参加可\",'参加確認 (学校用)'!C28:D28,\"\")","v":""},{"$f":"申込シート!D35","v":0},{"$f":"IF('参加確認 (学校用)'!Y28:Y29=\"参加可\",'参加確認 (学校用)'!E28:E29,\"\")","v":""},{"$f":"IF('参加確認 (学校用)'!Y28:Y29=\"参加可\",'参加確認 (学校用)'!F28:G29,\"\")","v":""},{"$f":"申込シート!G35","v":0},{"$f":"IF('参加確認 (学校用)'!Y28:Y29=\"参加可\",'参加確認 (学校用)'!H28:I29,\"\")","v":""},{"$f":"申込シート!I35","v":0},{"$f":"IF('参加確認 (学校用)'!Y28:Y29=\"参加可\",'参加確認 (学校用)'!J28:L29,\"\")","v":""},{"$f":"申込シート!K35","v":0},{"$f":"申込シート!L35","v":0},"（",{"$f":"IF('参加確認 (学校用)'!Y28:Y29=\"参加可\",'参加確認 (学校用)'!N28:N29,\"\")","v":""},"）",{"$f":"IF('参加確認 (学校用)'!Y28:Y29=\"参加可\",'参加確認 (学校用)'!P28:R29,\"\")","v":""},{"$f":"申込シート!Q35","v":0},{"$f":"申込シート!R35","v":0},"（",{"$f":"IF('参加確認 (学校用)'!Y28:Y29=\"参加可\",'参加確認 (学校用)'!T28:U29,\"\")","v":""},{"$f":"申込シート!U35","v":0},"）",{"$f":"IF('参加確認 (学校用)'!Y28:Y29=\"参加可\",'参加確認 (学校用)'!W28:X29,\"\")","v":""},{"$f":"申込シート!X35","v":0},{"$f":"IF('参加確認 (学校用)'!Y28:Y29=\"参加可\",'参加確認 (学校用)'!Y28:Y29,\"\")","v":""}]
[null,null,{"$f":"IF('参加確認 (学校用)'!Y28:Y29=\"参加可\",'参加確認 (学校用)'!C29:D29,\"\")","v":""}]
[]
[null,"②　中学校、総合支援学校（中学部）の教職員"]
[null,"教　職　員　の　氏　名",null,null,null,null,"参加生徒・保護者との関係 ／校務分掌",null,null,null,null,null,null,null,null,"参加可否",null,null,null,"参加人数"]
[null,{"$f":"IF('参加確認 (学校用)'!P33=\"参加可\",'参加確認 (学校用)'!B33,\"\")","v":""},null,null,null,null,{"$f":"IF('参加確認 (学校用)'!P33=\"参加可\",'参加確認 (学校用)'!G33,\"\")","v":""},null,null,null,null,null,null,null,null,{"$f":"IF('参加確認 (学校用)'!P33=\"参加可\",'参加確認 (学校用)'!P33,\"\")","v":""},null,null,null,null,"生　徒",null,null,{"$f":"'参加確認 (学校用)'!X33","v":3},"名"]
[null,{"$f":"IF('参加確認 (学校用)'!P34=\"参加可\",'参加確認 (学校用)'!B34,\"\")","v":""},null,null,null,null,{"$f":"IF('参加確認 (学校用)'!P34=\"参加可\",'参加確認 (学校用)'!G34,\"\")","v":""},null,null,null,null,null,null,null,null,{"$f":"IF('参加確認 (学校用)'!P34=\"参加可\",'参加確認 (学校用)'!P34,\"\")","v":""},null,null,null,null,"保護者",null,null,{"$f":"'参加確認 (学校用)'!X34","v":0},"名"]
[null,{"$f":"IF('参加確認 (学校用)'!P35=\"参加可\",'参加確認 (学校用)'!B35,\"\")","v":""},null,null,null,null,{"$f":"IF('参加確認 (学校用)'!P35=\"参加可\",'参加確認 (学校用)'!G35,\"\")","v":""},null,null,null,null,null,null,null,null,{"$f":"IF('参加確認 (学校用)'!P35=\"参加可\",'参加確認 (学校用)'!P35,\"\")","v":""},null,null,null,null,"教職員",null,null,{"$f":"'参加確認 (学校用)'!X35","v":0},"名"]
[null,null,null,null,null,null,null,null,null,null,null,null,null,null,null,null,null,null,null,null,"合　計",null,null,{"$f":"SUM(X33:X35)","v":3},"名"]
[null,"③　日　程"]
[null,"　　９：００～　９：２０　　受付開始\n　　９：２０～　９：５０　　①ガイダンス（初回必須）　　　　　　 　\n　１０：００～１２：００　　②見学・体験（専門教科の見学・体験）\n　１２：０５～１２：２５    ③キャリアアドバイス（学習の振返り）\n　　９：５０～１２：００　　④個別の相談（要事前申込）　　　　　　"]
[null,"※　本校は、二足制になっております。必ず上靴をご持参ください。\n※　遅刻・不参加の場合は、 中学校・中学部から鳴滝総合（４６１-３２２１）へ連絡してください。\n※　体調不良の場合は、参加の自粛をお願いいたします。\n※　発熱等の症状が見られた場合、参加を見合わせていただくこともあります。"]

{"sheet":"お断りの方一覧","index":3,"n_rows":39,"n_cols":25,"rows_kept":39,"cut":false,"hidden":true,"merged":[[33,20,33,22],[34,20,34,22],[35,20,35,22],[31,15,31,16],[32,15,32,16],[33,15,33,16],[34,15,34,16],[15,24,16,24],[17,24,18,24],[19,24,20,24],[21,24,22,24],[23,24,24,24],[25,24,26,24],[27,24,28,24],[23,18,24,18],[27,15,28,17],[27,18,28,18],[23,19,24,20],[23,21,24,21],[23,22,24,23],[21,22,22,23],[6,1,6,24],[31,19,31,21],[32,20,32,22],[38,1,38,23],[26,2,26,3],[1,3,1,8],[33,1,33,5],[33,6,33,14],[34,1,34,5],[34,6,34,14],[27,21,28,21],[27,22,28,23],[28,2,28,3],[31,1,31,5],[31,6,31,14],[32,1,32,5],[32,6,32,14],[32,17,32,18],[27,12,28,12],[27,13,28,13],[27,1,28,1],[27,2,27,3],[27,4,28,4],[27,5,28,6],[27,7,28,8],[27,9,28,11],[25,9,26,11],[25,12,26,12],[23,14,24,14],[23,1,24,1],[23,2,23,3],[23,4,24,4],[23,5,24,6],[23,7,24,8],[23,9,24,11],[23,12,24,12],[23,13,24,13],[25,13,26,13],[25,14,26,14],[25,1,26,1],[25,2,25,3],[25,4,26,4],[25,5,26,6],[25,7,26,8],[24,2,24,3],[21,14,22,14],[21,15,22,17],[21,18,22,18],[21,19,22,20],[21,21,22,21],[27,19,28,20],[25,19,26,20],[25,21,26,21],[25,22,26,23],[25,15,26,17],[25,18,26,18],[27,14,28,14],[23,15,24,17],[21,1,22,1],[21,2,21,3],[21,4,22,4],[21,5,22,6],[21,7,22,8],[21,9,22,11],[21,12,22,12],[19,12,20,12],[19,13,20,13],[19,1,20,1],[19,2,19,3],[19,4,20,4],[19,5,20,6],[19,7,20,8],[19,9,20,11],[22,2,22,3],[21,13,22,13],[17,2,17,3],[17,4,18,4],[17,5,18,6],[17,7,18,8],[17,19,18,20],[19,21,20,21],[19,22,20,23],[20,2,20,3],[19,14,20,14],[19,15,20,17],[19,18,20,18],[19,19,20,20],[37,1,37,23],[0,1,0,23],[15,15,15,21],[15,22,16,23],[16,2,16,3],[16,9,16,14],[16,15,16,21],[17,21,18,21],[17,22,18,23],[18,2,18,3],[17,14,18,14],[17,15,18,17],[17,18,18,18],[9,3,11,9],[15,1,16,1],[15,2,15,3],[15,4,16,4],[15,5,16,6],[15,7,16,8],[15,9,15,14],[17,9,18,11],[17,12,18,12],[17,13,18,13],[17,1,18,1]]}
[null,"  令和５年度\n　　　　　　鳴滝総合支援学校オープンキャンパスについて"]
[null,"（あて先）",null,{"$f":"申込シート!R10","v":0},null,null,null,null,null,"学校長様"]
[null,null,null,null,null,null,null,null,null,null,null,null,null,null,null,null,null,"令和５",null,"年",{"$f":"'参加確認 (学校用)'!V3","v":0},"月",{"$f":"'参加確認 (学校用)'!X3","v":0},"日"]
[]
[null,null,null,null,null,null,null,null,null,null,null,null,null,null,null,null,null,"京都市立鳴滝総合支援学校"]
[]
[null,"　京都市立鳴滝総合支援学校におけるオープンキャンパスへの参加について、以下のように決定いたしましたのでお知らせいたします。\n　大変申し訳ありませんが、参加人数を制限させていただいているため、下記日程について参加いただくことができません。ご理解いただきますようお願いいたします。"]
[]
[null,"１　希望日"]
[null,null,null,{"$f":"申込シート!D17","v":"00:00:00"}]
[]
[]
[]
[null,"２　申込者"]
[null,"①　高等部卒業後企業就職を希望する中学３年生又は過年度卒業生及び保護者、家族"]
[null,"学年等","ふりがな（上段）",null,"男・女","在籍\n学級",null,"参加\n回数",null,"保護者名",null,null,null,null,null,"保護者名",null,null,null,null,null,null,"個別相談希望の有無",null,"参加可否"]
[null,null,"生徒名（下段）",null,null,null,null,null,null,"（生徒との関係）",null,null,null,null,null,"（生徒との関係）"]
[null,{"$f":"IF('参加確認 (学校用)'!Y18:Y19=\"参加不可\",'参加確認 (学校用)'!B18:B19,\"\")","v":""},{"$f":"IF('参加確認 (学校用)'!Y18:Y19=\"参加不可\",'参加確認 (学校用)'!C18:D18,\"\")","v":""},{"$f":"申込シート!D25","v":0},{"$f":"IF('参加確認 (学校用)'!Y18:Y19=\"参加不可\",'参加確認 (学校用)'!E18:E19,\"\")","v":""},{"$f":"IF('参加確認 (学校用)'!Y18:Y19=\"参加不可\",'参加確認 (学校用)'!F18:G19,\"\")","v":""},{"$f":"申込シート!G25","v":0},{"$f":"IF('参加確認 (学校用)'!Y18:Y19=\"参加不可\",'参加確認 (学校用)'!H18:I19,\"\")","v":""},{"$f":"申込シート!I25","v":0},{"$f":"IF('参加確認 (学校用)'!Y18:Y19=\"参加不可\",'参加確認 (学校用)'!J18:L19,\"\")","v":""},{"$f":"申込シート!K25","v":0},{"$f":"申込シート!L25","v":0},"（",{"$f":"IF('参加確認 (学校用)'!Y18:Y19=\"参加不可\",'参加確認 (学校用)'!N18:N19,\"\")","v":""},"）",{"$f":"IF('参加確認 (学校用)'!Y18:Y19=\"参加不可\",'参加確認 (学校用)'!P18:R19,\"\")","v":""},{"$f":"申込シート!Q25","v":0},{"$f":"申込シート!R25","v":0},"（",{"$f":"IF('参加確認 (学校用)'!Y18:Y19=\"参加不可\",'参加確認 (学校用)'!T18:U19,\"\")","v":""},{"$f":"申込シート!U25","v":0},"）",{"$f":"IF('参加確認 (学校用)'!Y18:Y19=\"参加不可\",'参加確認 (学校用)'!W18:X19,\"\")","v":""},{"$f":"申込シート!X25","v":0},{"$f":"IF('参加確認 (学校用)'!Y18:Y19=\"参加不可\",'参加確認 (学校用)'!Y18:Y19,\"\")","v":""}]
[]
[null,{"$f":"IF('参加確認 (学校用)'!Y20:Y21=\"参加不可\",'参加確認 (学校用)'!B20:B21,\"\")","v":""},{"$f":"IF('参加確認 (学校用)'!Y20:Y21=\"参加不可\",'参加確認 (学校用)'!C20:D20,\"\")","v":""},{"$f":"申込シート!D27","v":0},{"$f":"IF('参加確認 (学校用)'!Y20:Y21=\"参加不可\",'参加確認 (学校用)'!E20:E21,\"\")","v":""},{"$f":"IF('参加確認 (学校用)'!Y20:Y21=\"参加不可\",'参加確認 (学校用)'!F20:G21,\"\")","v":""},{"$f":"申込シート!G27","v":0},{"$f":"IF('参加確認 (学校用)'!Y20:Y21=\"参加不可\",'参加確認 (学校用)'!H20:I21,\"\")","v":""},{"$f":"申込シート!I27","v":0},{"$f":"IF('参加確認 (学校用)'!Y20:Y21=\"参加不可\",'参加確認 (学校用)'!J20:L21,\"\")","v":""},{"$f":"申込シート!K27","v":0},{"$f":"申込シート!L27","v":0},"（",{"$f":"IF('参加確認 (学校用)'!Y20:Y21=\"参加不可\",'参加確認 (学校用)'!N20:N21,\"\")","v":""},"）",{"$f":"IF('参加確認 (学校用)'!Y20:Y21=\"参加不可\",'参加確認 (学校用)'!P20:R21,\"\")","v":""},{"$f":"申込シート!Q27","v":0},{"$f":"申込シート!R27","v":0},"（",{"$f":"IF('参加確認 (学校用)'!Y20:Y21=\"参加不可\",'参加確認 (学校用)'!T20:U21,\"\")","v":""},{"$f":"申込シート!U27","v":0},"）",{"$f":"IF('参加確認 (学校用)'!Y20:Y21=\"参加不可\",'参加確認 (学校用)'!W20:X21,\"\")","v":""},{"$f":"申込シート!X27","v":0},{"$f":"IF('参加確認 (学校用)'!Y20:Y21=\"参加不可\",'参加確認 (学校用)'!Y20:Y21,\"\")","v":""}]
[null,null,{"$f":"IF('参加確認 (学校用)'!Y20:Y21=\"参加不可\",'参加確認 (学校用)'!C21:D21,\"\")","v":""}]
[null,{"$f":"IF('参加確認 (学校用)'!Y22:Y23=\"参加不可\",'参加確認 (学校用)'!B22:B23,\"\")","v":""},{"$f":"IF('参加確認 (学校用)'!Y22:Y23=\"参加不可\",'参加確認 (学校用)'!C22:D22,\"\")","v":""},{"$f":"申込シート!D29","v":0},{"$f":"IF('参加確認 (学校用)'!Y22:Y23=\"参加不可\",'参加確認 (学校用)'!E22:E23,\"\")","v":""},{"$f":"IF('参加確認 (学校用)'!Y22:Y23=\"参加不可\",'参加確認 (学校用)'!F22:G23,\"\")","v":""},{"$f":"申込シート!G29","v":0},{"$f":"IF('参加確認 (学校用)'!Y22:Y23=\"参加不可\",'参加確認 (学校用)'!H22:I23,\"\")","v":""},{"$f":"申込シート!I29","v":0},{"$f":"IF('参加確認 (学校用)'!Y22:Y23=\"参加不可\",'参加確認 (学校用)'!J22:L23,\"\")","v":""},{"$f":"申込シート!K29","v":0},{"$f":"申込シート!L29","v":0},"（",{"$f":"IF('参加確認 (学校用)'!Y22:Y23=\"参加不可\",'参加確認 (学校用)'!N22:N23,\"\")","v":""},"）",{"$f":"IF('参加確認 (学校用)'!Y22:Y23=\"参加不可\",'参加確認 (学校用)'!P22:R23,\"\")","v":""},{"$f":"申込シート!Q29","v":0},{"$f":"申込シート!R29","v":0},"（",{"$f":"IF('参加確認 (学校用)'!Y22:Y23=\"参加不可\",'参加確認 (学校用)'!T22:U23,\"\")","v":""},{"$f":"申込シート!U29","v":0},"）",{"$f":"IF('参加確認 (学校用)'!Y22:Y23=\"参加不可\",'参加確認 (学校用)'!W22:X23,\"\")","v":""},{"$f":"申込シート!X29","v":0},{"$f":"IF('参加確認 (学校用)'!Y22:Y23=\"参加不可\",'参加確認 (学校用)'!Y22:Y23,\"\")","v":""}]
[null,null,{"$f":"IF('参加確認 (学校用)'!Y22:Y23=\"参加不可\",'参加確認 (学校用)'!C23:D23,\"\")","v":""}]
[null,{"$f":"IF('参加確認 (学校用)'!Y24:Y25=\"参加不可\",'参加確認 (学校用)'!B24:B25,\"\")","v":0},{"$f":"IF('参加確認 (学校用)'!Y24:Y25=\"参加不可\",'参加確認 (学校用)'!C24:D24,\"\")","v":0},{"$f":"申込シート!D31","v":0},{"$f":"IF('参加確認 (学校用)'!Y24:Y25=\"参加不可\",'参加確認 (学校用)'!E24:E25,\"\")","v":0},{"$f":"IF('参加確認 (学校用)'!Y24:Y25=\"参加不可\",'参加確認 (学校用)'!F24:G25,\"\")","v":0},{"$f":"申込シート!G31","v":0},{"$f":"IF('参加確認 (学校用)'!Y24:Y25=\"参加不可\",'参加確認 (学校用)'!H24:I25,\"\")","v":0},{"$f":"申込シート!I31","v":0},{"$f":"IF('参加確認 (学校用)'!Y24:Y25=\"参加不可\",'参加確認 (学校用)'!J24:L25,\"\")","v":0},{"$f":"申込シート!K31","v":0},{"$f":"申込シート!L31","v":0},"（",{"$f":"IF('参加確認 (学校用)'!Y24:Y25=\"参加不可\",'参加確認 (学校用)'!N24:N25,\"\")","v":0},"）",{"$f":"IF('参加確認 (学校用)'!Y24:Y25=\"参加不可\",'参加確認 (学校用)'!P24:R25,\"\")","v":0},{"$f":"申込シート!Q31","v":0},{"$f":"申込シート!R31","v":0},"（",{"$f":"IF('参加確認 (学校用)'!Y24:Y25=\"参加不可\",'参加確認 (学校用)'!T24:U25,\"\")","v":0},{"$f":"申込シート!U31","v":0},"）",{"$f":"IF('参加確認 (学校用)'!Y24:Y25=\"参加不可\",'参加確認 (学校用)'!W24:X25,\"\")","v":0},{"$f":"申込シート!X31","v":0},{"$f":"IF('参加確認 (学校用)'!Y24:Y25=\"参加不可\",'参加確認 (学校用)'!Y24:Y25,\"\")","v":"参加不可"}]
[null,null,{"$f":"IF('参加確認 (学校用)'!Y24:Y25=\"参加不可\",'参加確認 (学校用)'!C25:D25,\"\")","v":""}]
[null,{"$f":"IF('参加確認 (学校用)'!Y26:Y27=\"参加不可\",'参加確認 (学校用)'!B26:B27,\"\")","v":0},{"$f":"IF('参加確認 (学校用)'!Y26:Y27=\"参加不可\",'参加確認 (学校用)'!C26:D26,\"\")","v":0},{"$f":"申込シート!D33","v":0},{"$f":"IF('参加確認 (学校用)'!Y26:Y27=\"参加不可\",'参加確認 (学校用)'!E26:E27,\"\")","v":0},{"$f":"IF('参加確認 (学校用)'!Y26:Y27=\"参加不可\",'参加確認 (学校用)'!F26:G27,\"\")","v":0},{"$f":"申込シート!G33","v":0},{"$f":"IF('参加確認 (学校用)'!Y26:Y27=\"参加不可\",'参加確認 (学校用)'!H26:I27,\"\")","v":0},{"$f":"申込シート!I33","v":0},{"$f":"IF('参加確認 (学校用)'!Y26:Y27=\"参加不可\",'参加確認 (学校用)'!J26:L27,\"\")","v":0},{"$f":"申込シート!K33","v":0},{"$f":"申込シート!L33","v":0},"（",{"$f":"IF('参加確認 (学校用)'!Y26:Y27=\"参加不可\",'参加確認 (学校用)'!N26:N27,\"\")","v":0},"）",{"$f":"IF('参加確認 (学校用)'!Y26:Y27=\"参加不可\",'参加確認 (学校用)'!P26:R27,\"\")","v":0},{"$f":"申込シート!Q33","v":0},{"$f":"申込シート!R33","v":0},"（",{"$f":"IF('参加確認 (学校用)'!Y26:Y27=\"参加不可\",'参加確認 (学校用)'!T26:U27,\"\")","v":0},{"$f":"申込シート!U33","v":0},"）",{"$f":"IF('参加確認 (学校用)'!Y26:Y27=\"参加不可\",'参加確認 (学校用)'!W26:X27,\"\")","v":0},{"$f":"申込シート!X33","v":0},{"$f":"IF('参加確認 (学校用)'!Y26:Y27=\"参加不可\",'参加確認 (学校用)'!Y26:Y27,\"\")","v":"参加不可"}]
[null,null,{"$f":"IF('参加確認 (学校用)'!Y26:Y27=\"参加不可\",'参加確認 (学校用)'!C27:D27,\"\")","v":""}]
[null,{"$f":"IF('参加確認 (学校用)'!Y28:Y29=\"参加不可\",'参加確認 (学校用)'!B28:B29,\"\")","v":0},{"$f":"IF('参加確認 (学校用)'!Y28:Y29=\"参加不可\",'参加確認 (学校用)'!C28:D28,\"\")","v":0},{"$f":"申込シート!D35","v":0},{"$f":"IF('参加確認 (学校用)'!Y28:Y29=\"参加不可\",'参加確認 (学校用)'!E28:E29,\"\")","v":0},{"$f":"IF('参加確認 (学校用)'!Y28:Y29=\"参加不可\",'参加確認 (学校用)'!F28:G29,\"\")","v":0},{"$f":"申込シート!G35","v":0},{"$f":"IF('参加確認 (学校用)'!Y28:Y29=\"参加不可\",'参加確認 (学校用)'!H28:I29,\"\")","v":0},{"$f":"申込シート!I35","v":0},{"$f":"IF('参加確認 (学校用)'!Y28:Y29=\"参加不可\",'参加確認 (学校用)'!J28:L29,\"\")","v":0},{"$f":"申込シート!K35","v":0},{"$f":"申込シート!L35","v":0},"（",{"$f":"IF('参加確認 (学校用)'!Y28:Y29=\"参加不可\",'参加確認 (学校用)'!N28:N29,\"\")","v":0},"）",{"$f":"IF('参加確認 (学校用)'!Y28:Y29=\"参加不可\",'参加確認 (学校用)'!P28:R29,\"\")","v":0},{"$f":"申込シート!Q35","v":0},{"$f":"申込シート!R35","v":0},"（",{"$f":"IF('参加確認 (学校用)'!Y28:Y29=\"参加不可\",'参加確認 (学校用)'!T28:U29,\"\")","v":0},{"$f":"申込シート!U35","v":0},"）",{"$f":"IF('参加確認 (学校用)'!Y28:Y29=\"参加不可\",'参加確認 (学校用)'!W28:X29,\"\")","v":0},{"$f":"申込シート!X35","v":0},{"$f":"IF('参加確認 (学校用)'!Y28:Y29=\"参加不可\",'参加確認 (学校用)'!Y28:Y29,\"\")","v":"参加不可"}]
[null,null,{"$f":"IF('参加確認 (学校用)'!Y28:Y29=\"参加不可\",'参加確認 (学校用)'!C29:D29,\"\")","v":""}]
[]
[null,"②　中学校、総合支援学校（中学部）の教職員"]
[null,"教　職　員　の　氏　名",null,null,null,null,"生徒・保護者との関係 ／校務分掌",null,null,null,null,null,null,null,null,"参加可否",null,null,null,"参加人数"]
[null,{"$f":"IF('参加確認 (学校用)'!P33=\"参加不可\",'参加確認 (学校用)'!B33,\"\")","v":""},null,null,null,null,{"$f":"IF('参加確認 (学校用)'!P33=\"参加不可\",'参加確認 (学校用)'!G33,\"\")","v":""},null,null,null,null,null,null,null,null,{"$f":"IF('参加確認 (学校用)'!P33=\"参加不可\",'参加確認 (学校用)'!P33,\"\")","v":""},null,null,null,null,"生　徒",null,null,null,"名"]
[null,{"$f":"IF('参加確認 (学校用)'!P34=\"参加不可\",'参加確認 (学校用)'!B34,\"\")","v":""},null,null,null,null,{"$f":"IF('参加確認 (学校用)'!P34=\"参加不可\",'参加確認 (学校用)'!G34,\"\")","v":""},null,null,null,null,null,null,null,null,{"$f":"IF('参加確認 (学校用)'!P34=\"参加不可\",'参加確認 (学校用)'!P34,\"\")","v":""},null,null,null,null,"保護者",null,null,null,"名"]
[null,{"$f":"IF('参加確認 (学校用)'!P35=\"参加不可\",'参加確認 (学校用)'!B35,\"\")","v":""},null,null,null,null,{"$f":"IF('参加確認 (学校用)'!P35=\"参加不可\",'参加確認 (学校用)'!G35,\"\")","v":""},null,null,null,null,null,null,null,null,{"$f":"IF('参加確認 (学校用)'!P35=\"参加不可\",'参加確認 (学校用)'!P35,\"\")","v":""},null,null,null,null,"教職員",null,null,null,"名"]
[null,null,null,null,null,null,null,null,null,null,null,null,null,null,null,null,null,null,null,null,"合　計",null,null,{"$f":"SUM(X33:X35)","v":0},"名"]
[null,"③　日　程"]
[null,"　　９：００～　９：２０　　受付開始\n　　９：２０～　９：５０　　①ガイダンス（初回必須）　　　　　　 　\n　１０：００～１２：００　　②見学・体験（専門教科の見学・体験）\n　１２：０５～１２：２５    ③キャリアアドバイス（学習の振返り）\n　　９：２０～１２：００　　④個別の相談（要事前申込）　　　　　　"]
[null,"※　本校は、二足制になっております。必ず上靴をご持参ください。\n※　遅刻・不参加の場合は、 中学校・中学部から鳴滝総合（４６１-３２２１）へ連絡してください。"]

{"sheet":"集計","index":4,"n_rows":10,"n_cols":20,"rows_kept":10,"cut":false,"hidden":true,"merged":[[0,0,0,4]]}
["オープンキャンパス集計表（３年）",null,null,null,null,null,{"$f":"申込シート!D17","v":0}]
[]
["学校名","学年","氏名","ふりがな","性別","在籍","参加回数","保護者１","関係","保護者２","関係","個別相談","教職員","関係","教員可否","参加可否"]
[{"$f":"T4","v":"0"},{"$f":"'参加確認 (学校用)'!B18","v":0},{"$f":"'参加確認 (学校用)'!C19","v":0},{"$f":"'参加確認 (学校用)'!C18","v":0},{"$f":"'参加確認 (学校用)'!E18","v":0},{"$f":"'参加確認 (学校用)'!F18","v":0},{"$f":"'参加確認 (学校用)'!H18","v":0},{"$f":"'参加確認 (学校用)'!J18","v":0},{"$f":"'参加確認 (学校用)'!N18","v":0},{"$f":"'参加確認 (学校用)'!P18","v":0},{"$f":"'参加確認 (学校用)'!T18","v":0},{"$f":"'参加確認 (学校用)'!W18","v":0},{"$f":"'参加確認 (学校用)'!B33","v":0},{"$f":"'参加確認 (学校用)'!G33","v":0},{"$f":"'参加確認 (学校用)'!P33","v":0},{"$f":"'参加確認 (学校用)'!Y18","v":"参加可"},null,null,{"$f":"申込シート!R10","v":0},{"$f":"SUBSTITUTE(S4,\"京都市立\",\"\")","v":"0"}]
[{"$f":"$A$4","v":"0"},{"$f":"'参加確認 (学校用)'!B20","v":0},{"$f":"'参加確認 (学校用)'!C21","v":0},{"$f":"'参加確認 (学校用)'!C20","v":0},{"$f":"'参加確認 (学校用)'!E20","v":0},{"$f":"'参加確認 (学校用)'!F20","v":0},{"$f":"'参加確認 (学校用)'!H20","v":0},{"$f":"'参加確認 (学校用)'!J20","v":0},{"$f":"'参加確認 (学校用)'!N20","v":0},{"$f":"'参加確認 (学校用)'!P20","v":0},{"$f":"'参加確認 (学校用)'!T20","v":0},{"$f":"'参加確認 (学校用)'!W20","v":0},{"$f":"'参加確認 (学校用)'!B34","v":0},{"$f":"'参加確認 (学校用)'!G34","v":0},{"$f":"'参加確認 (学校用)'!P34","v":0},{"$f":"'参加確認 (学校用)'!Y20","v":"参加可"}]
[{"$f":"$A$4","v":"0"},{"$f":"'参加確認 (学校用)'!B22","v":0},{"$f":"'参加確認 (学校用)'!C23","v":0},{"$f":"'参加確認 (学校用)'!C22","v":0},{"$f":"'参加確認 (学校用)'!E22","v":0},{"$f":"'参加確認 (学校用)'!F22","v":0},{"$f":"'参加確認 (学校用)'!H22","v":0},{"$f":"'参加確認 (学校用)'!J22","v":0},{"$f":"'参加確認 (学校用)'!N22","v":0},{"$f":"'参加確認 (学校用)'!P22","v":0},{"$f":"'参加確認 (学校用)'!T22","v":0},{"$f":"'参加確認 (学校用)'!W22","v":0},{"$f":"'参加確認 (学校用)'!B35","v":0},{"$f":"'参加確認 (学校用)'!G35","v":0},{"$f":"'参加確認 (学校用)'!P35","v":0},{"$f":"'参加確認 (学校用)'!Y22","v":"参加可"}]
["0",{"$f":"'参加確認 (学校用)'!B24","v":0},{"$f":"'参加確認 (学校用)'!C25","v":0},{"$f":"'参加確認 (学校用)'!C24","v":0},{"$f":"'参加確認 (学校用)'!E24","v":0},{"$f":"'参加確認 (学校用)'!F24","v":0},{"$f":"'参加確認 (学校用)'!H24","v":0},{"$f":"'参加確認 (学校用)'!J24","v":0},{"$f":"'参加確認 (学校用)'!N24","v":0},{"$f":"'参加確認 (学校用)'!P24","v":0},{"$f":"'参加確認 (学校用)'!T24","v":0},{"$f":"'参加確認 (学校用)'!W24","v":0},null,null,null,{"$f":"'参加確認 (学校用)'!Y24","v":"参加不可"}]
["0",{"$f":"'参加確認 (学校用)'!B26","v":0},{"$f":"'参加確認 (学校用)'!C27","v":0},{"$f":"'参加確認 (学校用)'!C26","v":0},{"$f":"'参加確認 (学校用)'!E26","v":0},{"$f":"'参加確認 (学校用)'!F26","v":0},{"$f":"'参加確認 (学校用)'!H26","v":0},{"$f":"'参加確認 (学校用)'!J26","v":0},{"$f":"'参加確認 (学校用)'!N26","v":0},{"$f":"'参加確認 (学校用)'!P26","v":0},{"$f":"'参加確認 (学校用)'!T26","v":0},{"$f":"'参加確認 (学校用)'!W26","v":0},null,null,null,{"$f":"'参加確認 (学校用)'!Y26","v":"参加不可"}]
["0",{"$f":"'参加確認 (学校用)'!B28","v":0},{"$f":"'参加確認 (学校用)'!C29","v":0},{"$f":"'参加確認 (学校用)'!C28","v":0},{"$f":"'参加確認 (学校用)'!E28","v":0},{"$f":"'参加確認 (学校用)'!F28","v":0},{"$f":"'参加確認 (学校用)'!H28","v":0},{"$f":"'参加確認 (学校用)'!J28","v":0},{"$f":"'参加確認 (学校用)'!N28","v":0},{"$f":"'参加確認 (学校用)'!P28","v":0},{"$f":"'参加確認 (学校用)'!T28","v":0},{"$f":"'参加確認 (学校用)'!W28","v":0},null,null,null,{"$f":"'参加確認 (学校用)'!Y28","v":"参加不可"}]
[null,null,null,null,null,null,null,{"$f":"'参加確認 (学校用)'!J24","v":0},null,null,null,{"$f":"'参加確認 (学校用)'!W24","v":0}]