{"text_format":"1","workbook":"xlsx","n_sheets":6,"sheets":["申込シート","参加1","参加2","不参加","集計（一覧表）","集計（返し）"],"not_rendered":{"charts":0,"images":0,"macros":1,"external_links":0,"defined_names":6,"comments":0,"pivot_tables":0},"unopened":[],"bounds":{"document_bytes":16777216,"sheet_cells":100000,"rows_first":2000,"rows_last":500,"rows_between":2000,"halvings":0,"cell_chars":16384,"cell_head_chars":4096},"cells_cut":0,"cells_raw":0,"read":"whole","date_system":"1900"}

{"sheet":"申込シート","index":0,"n_rows":150,"n_cols":51,"rows_kept":150,"cut":false,"hidden":false,"merged":[[8,23,8,29],[12,23,12,29],[21,27,22,28],[23,27,24,28],[25,27,26,28],[27,27,28,28],[29,27,30,28],[31,27,32,28],[33,27,34,28],[21,18,21,26],[22,18,22,26],[10,23,10,29],[23,24,24,25],[29,26,30,26],[33,26,34,26],[29,24,30,25],[25,24,26,25],[31,23,32,23],[31,24,32,25],[31,26,32,26],[27,18,28,22],[29,18,30,22],[31,18,32,22],[33,18,34,22],[1,0,1,31],[21,2,21,3],[23,14,24,14],[27,14,28,14],[23,4,24,4],[23,5,24,6],[25,1,26,1],[26,2,26,3],[27,9,28,13],[28,2,28,3],[27,17,28,17],[27,23,28,23],[27,24,28,25],[27,26,28,26],[25,17,26,17],[23,26,24,26],[25,26,26,26],[23,7,24,8],[23,9,24,13],[21,9,21,17],[22,9,22,17],[15,3,17,12],[23,18,24,22],[25,18,26,22],[43,1,43,30],[38,15,38,16],[39,15,39,16],[44,1,44,30],[41,15,41,16],[41,13,41,14],[40,1,40,3],[38,20,38,21],[38,22,38,23],[39,20,39,21],[39,22,39,23],[40,15,40,16],[38,1,38,3],[39,1,39,3],[41,20,41,21],[41,22,41,23],[38,4,38,11],[39,4,39,11],[40,4,40,11],[40,20,40,21],[42,1,42,29],[40,22,40,23],[21,4,22,4],[21,5,22,6],[21,7,22,8],[23,17,24,17],[23,15,24,16],[22,2,22,3],[25,23,26,23],[31,17,32,17],[21,1,22,1],[29,2,29,3],[30,2,30,3],[29,17,30,17],[29,23,30,23],[25,2,25,3],[27,15,28,16],[23,2,23,3],[24,2,24,3],[23,23,24,23],[29,5,30,6],[29,7,30,8],[25,7,26,8],[25,9,26,13],[33,9,34,13],[33,1,34,1],[27,1,28,1],[29,1,30,1],[31,1,32,1],[31,4,32,4],[31,5,32,6],[31,7,32,8],[27,2,27,3],[27,4,28,4],[27,5,28,6],[27,7,28,8],[34,2,34,3],[32,2,32,3],[37,1,37,3],[29,14,30,14],[29,15,30,16],[23,1,24,1],[33,17,34,17],[33,23,34,23],[33,24,34,25],[29,9,30,13],[31,15,32,16],[37,4,37,11],[25,14,26,14],[25,15,26,16],[31,14,32,14],[33,14,34,14],[33,15,34,16],[33,4,34,4],[29,4,30,4],[31,2,31,3],[33,2,33,3],[33,5,34,6],[33,7,34,8],[31,9,32,13],[25,4,26,4],[25,5,26,6]]}
[null,null,null,null,null,null,null,null,null,null,null,null,null,null,null,null,null,null,null,null,null,null,null,null,null,null,null,null,null,null,null,null,null,null,null,null,null,null,null,null,null,null,null,null,null,null,null,null,null,{"$f":"申込シート!X9&\"OC2申込シート\"&D16","v":"OC2申込シート"}]
[" 　　令和６年度　東山総合支援学校\n　　　　　　　　　　　　オープンキャンパス（中２対象）参加申込シート\n　　　　　　　　　　　　　　　　　（京都市以外の学校専用）",null,null,null,null,null,null,null,null,null,null,null,null,null,null,null,null,null,null,null,null,null,null,null,null,null,null,null,null,null,null,null,null,null,null,null,"リスト","5","1",null,"１月２１日（火）","３年","男","特別支援","１回目","あり",null,null,null,null,"第１部"]
[null,null,null,null,null,null,null,null,null,null,null,null,null,null,null,null,null,null,null,null,null,null,null,null,null,null,null,null,null,null,null,null,null,null,null,null,null,"6","2",null,"１月３０日（木）","過年度","女","普通","２回目","なし",null,null,null,null,"第２部"]
[null,"（あて先）京都市立東山総合支援学校　校長",null,null,null,null,null,null,null,null,null,null,null,null,null,null,null,null,null,null,null,null,null,null,null,null,null,null,null,null,null,null,null,null,null,null,null,"7","3",null,"２月４日（火）",null,null,null,"３回目",null,null,null,null,null,"どちらでも良い"]
[null,null,null,null,null,null,null,null,null,null,null,null,null,null,null,null,null,null,null,null,null,null,null,"令和",null,"年",{"$f":"IF(Y5=6,12,IF(Y5=7,1,\"\"))","v":""},"月",null,"日",null,null,null,null,null,null,null,"8","4",null,"２月１３日（木）",null,null,null,"４回目"]
[null,null,null,null,null,null,null,null,null,null,null,null,null,null,null,null,null,null,null,null,null,null,null,null,null,null,null,null,null,null,null,null,null,null,null,null,null,"9","5"]
[null,null,null,null,null,null,null,null,null,null,null,null,null,null,null,null,null,null,null,null,null,null,null,null,null,null,null,null,null,null,null,null,null,null,null,null,null,"10","6"]
[null,null,null,null,null,null,null,null,null,null,null,null,null,null,null,null,null,null,null,null,null,null,null,null,null,null,null,null,null,null,null,null,null,null,null,null,null,"11","7",null,null,null,null,null,"５回目"]
[null,null,null,null,null,null,null,null,null,null,null,null,null,null,null,null,null,null,null,null,"学校名",null,null,null,null,null,null,null,null,null,null,null,null,null,null,null,null,"12","8",null,null,null,null,null,"６回目"]
[null,null,null,null,null,null,null,null,null,null,null,null,null,null,null,null,null,null,null,null,null,null,null,null,null,null,null,null,null,null,null,null,null,null,null,null,null,"1","9",null,null,null,null,null,"７回目"]
[null,null,null,null,null,null,null,null,null,null,null,null,null,null,null,null,null,null,null,null,"電話番号",null,null,null,null,null,null,null,null,null,null,null,null,null,null,null,null,"2","10",null,null,null,null,null,"８回目"]
[null,null,null,null,null,null,null,null,null,null,null,null,null,null,null,null,null,null,null,null,null,null,null,null,null,null,null,null,null,null,null,null,null,null,null,null,null,null,"11"]
[null,null,null,null,null,null,null,null,null,null,null,null,null,null,null,null,null,null,null,null,"記入者　",null,null,null,null,null,null,null,null,null,null,null,null,null,null,null,null,null,"12"]
[null,null,null,null,null,null,null,null,null,null,null,null,null,null,null,null,null,null,null,null,null,null,null,null,null,null,null,null,null,null,null,null,null,null,null,null,null,5,"13"]
[null,"１　希望日",null,null,null,null,null,null,null,null,null,null,null,null,null,null,null,null,null,null,null,null,null,null,null,null,null,null,null,null,null,null,null,null,null,null,null,6,"14"]
[null,null,null,null,null,null,null,null,null,null,null,null,null,null,null,null,null,null,null,null,null,null,null,null,null,null,null,null,null,null,null,null,null,null,null,null,null,7,"15"]
[null,null,null,null,null,null,null,null,null,null,null,null,null,null,null,null,null,null,null,null,null,null,null,null,null,null,null,null,null,null,null,null,null,null,null,null,null,8,"16"]
[null,null,null,null,null,null,null,null,null,null,null,null,null,null,null,null,null,null,null,null,null,null,null,null,null,null,null,null,null,null,null,null,null,null,null,null,null,9,"17"]
[null,null,null,null,null,null,null,null,null,null,null,null,null,null,null,null,null,null,null,null,null,null,null,null,null,null,null,null,null,null,null,null,null,null,null,null,null,null,"18"]
[null,"２　参加希望者",null,null,null,null,null,null,null,null,null,null,null,null,null,null,null,null,null,null,null,null,null,null,null,null,null,null,null,null,null,null,null,null,null,null,null,null,"19"]
[null,"①　中学２年生及び保護者、家族",null,null,null,null,null,null,null,null,null,null,null,null,null,null,null,null,null,null,null,null,null,null,null,null,null,null,null,null,null,null,null,null,null,null,null,null,"20"]
[null,"学年","ふりがな（上段）",null,"性別","在籍\n学級",null,"今年度の参加回数",null,"保護者名",null,null,null,null,null,null,null,null,"保護者名",null,null,null,null,null,null,null,null,"個別相談希望の有無",null,null,null,null,null,null,null,null,null,null,"21"]
[null,null,"生徒名（下段）",null,null,null,null,null,null,"（生徒との関係）",null,null,null,null,null,null,null,null,"（生徒との関係）",null,null,null,null,null,null,null,null,null,null,null,null,null,null,null,null,null,null,null,"22"]
[null,"２年",null,null,null,null,null,null,null,null,null,null,null,null,"（",null,null,"）",null,null,null,null,null,"（",null,null,"）",null,null,null,null,null,{"$f":"IF(AND(C25=\"\",AB24=\"\"),\"\",IF(AND(C25<>\"\",AB24=\"\"),\"←個別相談希望の有無，お忘れなく\",\"\"))","v":""},null,null,null,null,null,"23"]
[null,null,null,null,null,null,null,null,null,null,null,null,null,null,null,null,null,null,null,null,null,null,null,null,null,null,null,null,null,null,null,null,null,null,null,null,null,null,"24"]
[null,"２年",null,null,null,null,null,null,null,null,null,null,null,null,"（",null,null,"）",null,null,null,null,null,"（",null,null,"）",null,null,null,null,null,{"$f":"IF(AND(C27=\"\",AB26=\"\"),\"\",IF(AND(C27<>\"\",AB26=\"\"),\"←個別相談希望の有無，お忘れなく\",\"\"))","v":""},null,null,null,null,null,"25"]
[null,null,null,null,null,null,null,null,null,null,null,null,null,null,null,null,null,null,null,null,null,null,null,null,null,null,null,null,null,null,null,null,null,null,null,null,null,null,"26"]
[null,"２年",null,null,null,null,null,null,null,null,null,null,null,null,"（",null,null,"）",null,null,null,null,null,"（",null,null,"）",null,null,null,null,null,{"$f":"IF(AND(C29=\"\",AB28=\"\"),\"\",IF(AND(C29<>\"\",AB28=\"\"),\"←個別相談希望の有無，お忘れなく\",\"\"))","v":""},null,null,null,null,null,"27"]
[null,null,null,null,null,null,null,null,null,null,null,null,null,null,null,null,null,null,null,null,null,null,null,null,null,null,null,null,null,null,null,null,null,null,null,null,null,null,"28"]
[null,"２年",null,null,null,null,null,null,null,null,null,null,null,null,"（",null,null,"）",null,null,null,null,null,"（",null,null,"）",null,null,null,null,null,{"$f":"IF(AND(C31=\"\",AB30=\"\"),\"\",IF(AND(C31<>\"\",AB30=\"\"),\"←個別相談希望の有無，お忘れなく\",\"\"))","v":""},null,null,null,null,null,"29"]
[null,null,null,null,null,null,null,null,null,null,null,null,null,null,null,null,null,null,null,null,null,null,null,null,null,null,null,null,null,null,null,null,null,null,null,null,null,null,"30"]
[null,"２年",null,null,null,null,null,null,null,null,null,null,null,null,"（",null,null,"）",null,null,null,null,null,"（",null,null,"）",null,null,null,null,null,{"$f":"IF(AND(C33=\"\",AB32=\"\"),\"\",IF(AND(C33<>\"\",AB32=\"\"),\"←個別相談希望の有無，お忘れなく\",\"\"))","v":""},null,null,null,null,null,"31"]
[]
[null,"２年",null,null,null,null,null,null,null,null,null,null,null,null,"（",null,null,"）",null,null,null,null,null,"（",null,null,"）",null,null,null,null,null,{"$f":"IF(AND(C35=\"\",AB34=\"\"),\"\",IF(AND(C35<>\"\",AB34=\"\"),\"←個別相談希望の有無，お忘れなく\",\"\"))","v":""}]
[]
[]
[null,"②　中学校、総合支援学校（中学部）の教職員"]
[null,"教職員氏名",null,null,"生徒との関係／校務分掌",null,null,null,null,null,null,null,null,null,null,null,null,null,null,"参加希望人数"]
[null,null,null,null,null,null,null,null,null,null,null,null,null,null,null,null,null,null,null,null,"生　徒",null,{"$f":"COUNTA(C25,C27,C29,C31,C33,C35)","v":0},null,"名"]
[null,null,null,null,null,null,null,null,null,null,null,null,null,null,null,null,null,null,null,null,"保護者",null,{"$f":"COUNTA(J24:N35)+COUNTA(S24:W35)","v":0},null,"名"]
[null,null,null,null,null,null,null,null,null,null,null,null,null,null,null,null,null,null,null,null,"教職員",null,{"$f":"COUNTA(B39:D41)","v":0},null,"名"]
[null,null,null,null,null,null,null,null,null,null,null,null,null,null,null,null,null,null,null,null,"合　計",null,{"$f":"SUM(W39:X41)","v":0},null,"名"]
[null,"○欄が不足する場合はファイルをコピーして使用してください"]
[null,"○貴校からの東山総合支援学校への申込締切日および時刻は、各実施日２週間前の同じ曜日の午後  \n ５時です\n○参加申込シートは管理職の先生から 電子メールで 副教頭 前川 智子まで送信していただきます様\n お願いいたします（セキュリティ強化により外部からExcelデータが受付できませんので、お手数ですが\n  必要事項を入力後、PDFに変換し、メールに添付していただきますようお願いします）\n  E-mail：higashiyama-y@edu.city.kyoto.jp\n（添付されるファイルの○○の所に貴校の学校名を含ませてください）"]
[null,"○決定通知書を電子メールにて送付します（２０組の定員を設けています　申込は先着順とし、参加回数の少ない人を優先にさせていただきます）"]
[]
[]
[]
[]
[]
[]
[]
[]
[]
[]
[]
[]
[]
[]
[]
[]
[]
[]
[]
[]
[]
[]
[]
[]
[]
[]
[null,"北区","加茂川中学校","492-1884"]
["北",null,"西賀茂中学校","493-7001"]
["上京",null,"旭丘中学校","492-1330"]
["左京",null,"衣笠中学校","461-2222"]
["中京","上京区","烏丸中学校","431-0168"]
["東山",null,"上京中学校","431-8151"]
["山科",null,"嘉楽中学校","431-0312"]
["下京",null,"二条中学校","821-1196"]
["南",null,"北総合支援学校","431-6636"]
["右京","左京区","岡崎中学校","771-4191"]
["西京",null,"高野中学校","781-8134"]
["伏見",null,"下鴨中学校","781-9181"]
[null,null,"近衛中学校","771-0007"]
[null,null,"修学院中学校","781-3000"]
[null,null,"洛北中学校","721-7445"]
[null,null,"大原小中学校","744-2004"]
[null,null,"花背小中学校","746-0131"]
[null,"中京区","北野中学校","463-7101"]
[null,null,"朱雀中学校","841-0205"]
[null,null,"京都御池中学校","221-0414"]
[null,null,"中京中学校","801-3266"]
[null,null,"松原中学校","841-0650"]
[null,null,"西ノ京中学校","802-3365"]
[null,null,"西京高等学校附属中学校","841-0010"]
[null,null,"洛風中学校","213-2222"]
[null,"東山区","開睛小中学校","533-8811"]
[null,null,"東山泉小中学校","532-0355"]
[null,"山科区","山科中学校","594-1151"]
[null,null,"勧修中学校","591-9111"]
[null,null,"大宅中学校","573-3067"]
[null,null,"安祥寺中学校","592-2848"]
[null,null,"音羽中学校","581-9115"]
[null,null,"花山中学校","581-5128"]
[null,null,"東総合支援学校","594-6501"]
[null,"下京区","下京中学校","371-2100"]
[null,null,"七条中学校","313-0972"]
[null,null,"洛友中学校","821-2196"]
[null,"南区","八条中学校","681-5264"]
[null,null,"九条中学校","681-2211"]
[null,null,"洛南中学校","691-0018"]
[null,null,"久世中学校","933-3223"]
[null,null,"凌風小中学校","693-8222"]
[null,"右京区","蜂ヶ岡中学校","861-2168"]
[null,null,"太秦中学校","872-0037"]
[null,null,"嵯峨中学校","871-0533"]
[null,null,"四条中学校","312-0040"]
[null,null,"西京極中学校","315-1531"]
[null,null,"梅津中学校","882-0910"]
[null,null,"西院中学校","312-0365"]
[null,null,"高雄中学校","872-1286"]
[null,null,"双ヶ丘中学校","463-8165"]
[null,null,"宕陰小中学校","0771-44-0310"]
[null,null,"京都京北小中学校","852-1133"]
[null,null,"鳴滝総合支援学校","461-3221"]
[null,"西京区","桂中学校","392-7200"]
[null,null,"松尾中学校","391-9622"]
[null,null,"桂川中学校","392-9229"]
[null,null,"樫原中学校","392-6630"]
[null,null,"大枝中学校","333-1112"]
[null,null,"洛西中学校","331-6131"]
[null,null,"西陵中学校","332-0671"]
[null,null,"大原野中学校","333-3207"]
[null,null,"西総合支援学校","332-4275"]
[null,"伏見区","深草中学校","641-6522"]
[null,null,"藤森中学校","641-5227"]
[null,null,"桃山中学校","611-0268"]
[null,null,"伏見中学校","611-5161"]
[null,null,"神川中学校","934-1505"]
[null,null,"醍醐中学校","571-0065"]
[null,null,"春日丘中学校","571-4969"]
[null,null,"小栗栖中学校","572-3135"]
[null,null,"栗陵中学校","571-7631"]
[null,null,"桃陵中学校","611-3241"]
[null,null,"向島東中学校","601-7932"]
[null,null,"洛水中学校","602-3261"]
[null,null,"大淀中学校","631-7211"]
[null,null,"向島秀蓮小中学校","611-3346"]
[null,null,"呉竹総合支援学校","601-9104"]
[null,null,"桃陽総合支援学校","641-2634"]

{"sheet":"参加1","index":1,"n_rows":43,"n_cols":45,"rows_kept":43,"cut":false,"hidden":true,"merged":[[26,29,27,29],[26,30,27,30],[16,33,17,37],[16,38,17,42],[18,33,19,37],[18,38,19,42],[20,33,21,37],[20,38,21,42],[22,33,23,37],[22,38,23,42],[24,33,25,37],[24,38,25,42],[26,33,27,37],[26,38,27,42],[16,29,17,29],[16,30,17,30],[18,29,19,29],[18,30,19,30],[20,29,21,29],[20,30,21,30],[22,29,23,29],[22,30,23,30],[24,29,25,29],[24,30,25,30],[4,1,4,26],[8,3,10,10],[23,2,23,3],[24,1,25,1],[24,2,24,3],[24,4,25,4],[14,2,14,3],[19,2,19,3],[16,2,16,3],[15,2,15,3],[17,2,17,3],[18,2,18,3],[20,2,20,3],[20,7,21,8],[20,9,21,13],[18,1,19,1],[18,4,19,4],[18,5,19,6],[14,1,15,1],[14,4,15,4],[14,5,15,6],[14,7,15,8],[14,9,14,17],[14,18,14,26],[8,12,10,16],[34,15,34,16],[34,17,34,18],[16,1,17,1],[16,4,17,4],[16,5,17,6],[16,7,17,8],[16,9,17,13],[16,14,17,14],[16,15,17,16],[16,17,17,17],[16,18,17,22],[26,5,27,6],[20,1,21,1],[20,4,21,4],[20,5,21,6],[21,2,21,3],[24,15,25,16],[25,2,25,3],[26,1,27,1],[26,2,26,3],[26,4,27,4],[33,17,33,18],[33,1,33,3],[24,17,25,17],[24,14,25,14],[18,7,19,8],[18,9,19,13],[18,14,19,14],[18,15,19,16],[18,17,19,17],[15,18,15,26],[16,23,17,23],[16,24,17,25],[16,26,17,26],[22,23,23,23],[22,24,23,25],[22,26,23,26],[22,14,23,14],[22,15,23,16],[20,17,21,17],[20,15,21,16],[20,14,21,14],[22,17,23,17],[33,4,33,11],[33,15,33,16],[31,15,31,16],[31,17,31,18],[32,1,32,3],[32,4,32,11],[32,15,32,16],[32,17,32,18],[31,1,31,3],[31,4,31,11],[14,27,15,28],[16,27,17,28],[18,27,19,28],[20,27,21,28],[22,27,23,28],[24,27,25,28],[26,27,27,28],[26,18,27,22],[26,23,27,23],[26,24,27,25],[26,26,27,26],[24,23,25,23],[24,24,25,25],[24,26,25,26],[24,18,25,22],[18,23,19,23],[18,24,19,25],[18,26,19,26],[18,18,19,22],[20,18,21,22],[20,23,21,23],[20,24,21,25],[20,26,21,26],[22,18,23,22],[2,20,2,28],[3,20,3,28],[0,23,0,28],[5,1,5,28],[42,1,42,28],[1,3,1,11],[30,1,30,3],[30,4,30,11],[22,1,23,1],[22,2,22,3],[22,4,23,4],[22,5,23,6],[22,7,23,8],[22,9,23,13],[15,9,15,17],[26,14,27,14],[26,15,27,16],[26,17,27,17],[26,7,27,8],[26,9,27,13],[24,5,25,6],[24,7,25,8],[24,9,25,13],[27,2,27,3]]}
[null,null,null,null,null,null,null,null,null,null,null,null,null,null,null,null,null,null,null,null,null,null,null,{"$f":"'集計（返し）'!L1","v":"2024-08-21"},null,null,null,null,null,null,null,{"$f":"AF2&\"OC2決定通知書(東山総合)\"&D9","v":"OC2決定通知書(東山総合)0"},null,null,null,null,null,null,null,null,null,null,null,null,{"$f":"AS2&\"OC1決定通知書(東山総合)\"&D9","v":"OC1決定通知書(東山総合)0"}]
[null,"（あて先）",null,{"$f":"申込シート!X9&\" 学校長様\"","v":" 学校長様"},null,null,null,null,null,null,null,null,null,null,null,null,null,null,null,null,null,null,null,null,null,null,null,null,null,null,null,{"$f":"LEFT(D2,FIND(\" \",D2)-1)","v":""},null,null,null,null,null,null,null,null,null,null,null,null,{"$f":"LEFT(D2,FIND(\" \",D2)-1)","v":""}]
[null,null,null,null,null,null,null,null,null,null,null,null,null,null,null,null,null,null,null,null,"京都市立東山総合支援学校"]
[null,null,null,null,null,null,null,null,null,null,null,null,null,null,null,null,null,null,null,null,"OC担当　副教頭　前川 智子"]
[null,"令和６年度  東山総合支援学校\n　         　オープンキャンパス（中２対象）決定通知書"]
[null,"　京都市立東山総合支援学校におけるオープンキャンパス（中２対象）への参加について、以下のように決定いたしましたのでお知らせいたします。参加日、参加者及び内容をご確認いただきますようお願いいたします。"]
[]
[null,"１　希望日"]
[null,null,null,{"$f":"申込シート!D16","v":"00:00:00"},null,null,null,null,null,null,null,null,"第１部"]
[]
[]
[]
[null,"２　参加者"]
[null,"①　中学２年生及び保護者、家族"]
[null,"学年","ふりがな（上段）",null,"性別","在籍\n学級",null,"参加\n回数",null,"保護者名",null,null,null,null,null,null,null,null,"保護者名",null,null,null,null,null,null,null,null,"個別相談希望の有無"]
[null,null,"生徒名（下段）",null,null,null,null,null,null,"（生徒との関係）",null,null,null,null,null,null,null,null,"（生徒との関係）"]
[null,{"$f":"IF(AND('集計（返し）'!$O4<>\"\",'集計（返し）'!$Q4=1),'集計（返し）'!C4,\"\")","v":""},{"$f":"IF(AND('集計（返し）'!$O4<>\"\",'集計（返し）'!$Q4=1),'集計（返し）'!E4,\"\")","v":""},null,{"$f":"IF(AND('集計（返し）'!$O4<>\"\",'集計（返し）'!$Q4=1),'集計（返し）'!F4,\"\")","v":""},{"$f":"IF(AND('集計（返し）'!$O4<>\"\",'集計（返し）'!$Q4=1),'集計（返し）'!G4,\"\")","v":""},null,{"$f":"IF(AND('集計（返し）'!$O4<>\"\",'集計（返し）'!$Q4=1),'集計（返し）'!H4,\"\")","v":""},null,{"$f":"IF(AND('集計（返し）'!$O4<>\"\",'集計（返し）'!$Q4=1),'集計（返し）'!I4,\"\")","v":""},null,null,null,null,"（",{"$f":"IF(AND('集計（返し）'!$O4<>\"\",'集計（返し）'!$Q4=1),'集計（返し）'!J4,\"\")","v":""},null,"）",{"$f":"IF(AND('集計（返し）'!$O4<>\"\",'集計（返し）'!$Q4=1),'集計（返し）'!K4,\"\")","v":""},null,null,null,null,"（",{"$f":"IF(AND('集計（返し）'!$O4<>\"\",'集計（返し）'!$Q4=1),'集計（返し）'!L4,\"\")","v":""},null,"）",{"$f":"IF(AND('集計（返し）'!$O4<>\"\",'集計（返し）'!$Q4=1),'集計（返し）'!M4,\"\")","v":""},null,{"$f":"IF(OR(AH17=\"\",AH17=0),1,\"\")","v":""},{"$f":"IF(OR(AM17=\"\",AM17=0),1,\"\")","v":""},null,null,"嗚呼",null,null,null,null,"あああ"]
[null,null,{"$f":"IF(AND('集計（返し）'!$O4<>\"\",'集計（返し）'!$Q4=1),'集計（返し）'!D4,\"\")","v":""}]
[null,{"$f":"IF(AND('集計（返し）'!$O5<>\"\",'集計（返し）'!$Q5=1),'集計（返し）'!C5,\"\")","v":""},{"$f":"IF(AND('集計（返し）'!$O5<>\"\",'集計（返し）'!$Q5=1),'集計（返し）'!E5,\"\")","v":""},null,{"$f":"IF(AND('集計（返し）'!$O5<>\"\",'集計（返し）'!$Q5=1),'集計（返し）'!F5,\"\")","v":""},{"$f":"IF(AND('集計（返し）'!$O5<>\"\",'集計（返し）'!$Q5=1),'集計（返し）'!G5,\"\")","v":""},null,{"$f":"IF(AND('集計（返し）'!$O5<>\"\",'集計（返し）'!$Q5=1),'集計（返し）'!H5,\"\")","v":""},null,{"$f":"IF(AND('集計（返し）'!$O5<>\"\",'集計（返し）'!$Q5=1),'集計（返し）'!I5,\"\")","v":""},null,null,null,null,"（",{"$f":"IF(AND('集計（返し）'!$O5<>\"\",'集計（返し）'!$Q5=1),'集計（返し）'!J5,\"\")","v":""},null,"）",{"$f":"IF(AND('集計（返し）'!$O5<>\"\",'集計（返し）'!$Q5=1),'集計（返し）'!K5,\"\")","v":""},null,null,null,null,"（",{"$f":"IF(AND('集計（返し）'!$O5<>\"\",'集計（返し）'!$Q5=1),'集計（返し）'!L5,\"\")","v":""},null,"）",{"$f":"IF(AND('集計（返し）'!$O5<>\"\",'集計（返し）'!$Q5=1),'集計（返し）'!M5,\"\")","v":""},null,{"$f":"IF(OR(AH19=\"\",AH19=0),1,\"\")","v":1},{"$f":"IF(OR(AM19=\"\",AM19=0),1,\"\")","v":1},null,null,"",null,null,null,null,""]
[null,null,{"$f":"IF(AND('集計（返し）'!$O5<>\"\",'集計（返し）'!$Q5=1),'集計（返し）'!D5,\"\")","v":""}]
[null,{"$f":"IF(AND('集計（返し）'!$O6<>\"\",'集計（返し）'!$Q6=1),'集計（返し）'!C6,\"\")","v":""},{"$f":"IF(AND('集計（返し）'!$O6<>\"\",'集計（返し）'!$Q6=1),'集計（返し）'!E6,\"\")","v":""},null,{"$f":"IF(AND('集計（返し）'!$O6<>\"\",'集計（返し）'!$Q6=1),'集計（返し）'!F6,\"\")","v":""},{"$f":"IF(AND('集計（返し）'!$O6<>\"\",'集計（返し）'!$Q6=1),'集計（返し）'!G6,\"\")","v":""},null,{"$f":"IF(AND('集計（返し）'!$O6<>\"\",'集計（返し）'!$Q6=1),'集計（返し）'!H6,\"\")","v":""},null,{"$f":"IF(AND('集計（返し）'!$O6<>\"\",'集計（返し）'!$Q6=1),'集計（返し）'!I6,\"\")","v":""},null,null,null,null,"（",{"$f":"IF(AND('集計（返し）'!$O6<>\"\",'集計（返し）'!$Q6=1),'集計（返し）'!J6,\"\")","v":""},null,"）",{"$f":"IF(AND('集計（返し）'!$O6<>\"\",'集計（返し）'!$Q6=1),'集計（返し）'!K6,\"\")","v":""},null,null,null,null,"（",{"$f":"IF(AND('集計（返し）'!$O6<>\"\",'集計（返し）'!$Q6=1),'集計（返し）'!L6,\"\")","v":""},null,"）",{"$f":"IF(AND('集計（返し）'!$O6<>\"\",'集計（返し）'!$Q6=1),'集計（返し）'!M6,\"\")","v":""},null,{"$f":"IF(OR(AH21=\"\",AH21=0),1,\"\")","v":""},{"$f":"IF(OR(AM21=\"\",AM21=0),1,\"\")","v":""},null,null,"打卯卯",null,null,null,null,"打卯卯卯卯"]
[null,null,{"$f":"IF(AND('集計（返し）'!$O6<>\"\",'集計（返し）'!$Q6=1),'集計（返し）'!D6,\"\")","v":""}]
[null,{"$f":"IF(AND('集計（返し）'!$O7<>\"\",'集計（返し）'!$Q7=1),'集計（返し）'!C7,\"\")","v":""},{"$f":"IF(AND('集計（返し）'!$O7<>\"\",'集計（返し）'!$Q7=1),'集計（返し）'!E7,\"\")","v":""},null,{"$f":"IF(AND('集計（返し）'!$O7<>\"\",'集計（返し）'!$Q7=1),'集計（返し）'!F7,\"\")","v":""},{"$f":"IF(AND('集計（返し）'!$O7<>\"\",'集計（返し）'!$Q7=1),'集計（返し）'!G7,\"\")","v":""},null,{"$f":"IF(AND('集計（返し）'!$O7<>\"\",'集計（返し）'!$Q7=1),'集計（返し）'!H7,\"\")","v":""},null,{"$f":"IF(AND('集計（返し）'!$O7<>\"\",'集計（返し）'!$Q7=1),'集計（返し）'!I7,\"\")","v":""},null,null,null,null,"（",{"$f":"IF(AND('集計（返し）'!$O7<>\"\",'集計（返し）'!$Q7=1),'集計（返し）'!J7,\"\")","v":""},null,"）",{"$f":"IF(AND('集計（返し）'!$O7<>\"\",'集計（返し）'!$Q7=1),'集計（返し）'!K7,\"\")","v":""},null,null,null,null,"（",{"$f":"IF(AND('集計（返し）'!$O7<>\"\",'集計（返し）'!$Q7=1),'集計（返し）'!L7,\"\")","v":""},null,"）",{"$f":"IF(AND('集計（返し）'!$O7<>\"\",'集計（返し）'!$Q7=1),'集計（返し）'!M7,\"\")","v":""},null,{"$f":"IF(OR(AH23=\"\",AH23=0),1,\"\")","v":1},{"$f":"IF(OR(AM23=\"\",AM23=0),1,\"\")","v":1},null,null,"",null,null,null,null,""]
[null,null,{"$f":"IF(AND('集計（返し）'!$O7<>\"\",'集計（返し）'!$Q7=1),'集計（返し）'!D7,\"\")","v":""}]
[null,{"$f":"IF(AND('集計（返し）'!$O8<>\"\",'集計（返し）'!$Q8=1),'集計（返し）'!C8,\"\")","v":""},{"$f":"IF(AND('集計（返し）'!$O8<>\"\",'集計（返し）'!$Q8=1),'集計（返し）'!E8,\"\")","v":""},null,{"$f":"IF(AND('集計（返し）'!$O8<>\"\",'集計（返し）'!$Q8=1),'集計（返し）'!F8,\"\")","v":""},{"$f":"IF(AND('集計（返し）'!$O8<>\"\",'集計（返し）'!$Q8=1),'集計（返し）'!G8,\"\")","v":""},null,{"$f":"IF(AND('集計（返し）'!$O8<>\"\",'集計（返し）'!$Q8=1),'集計（返し）'!H8,\"\")","v":""},null,{"$f":"IF(AND('集計（返し）'!$O8<>\"\",'集計（返し）'!$Q8=1),'集計（返し）'!I8,\"\")","v":""},null,null,null,null,"（",{"$f":"IF(AND('集計（返し）'!$O8<>\"\",'集計（返し）'!$Q8=1),'集計（返し）'!J8,\"\")","v":""},null,"）",{"$f":"IF(AND('集計（返し）'!$O8<>\"\",'集計（返し）'!$Q8=1),'集計（返し）'!K8,\"\")","v":""},null,null,null,null,"（",{"$f":"IF(AND('集計（返し）'!$O8<>\"\",'集計（返し）'!$Q8=1),'集計（返し）'!L8,\"\")","v":""},null,"）",{"$f":"IF(AND('集計（返し）'!$O8<>\"\",'集計（返し）'!$Q8=1),'集計（返し）'!M8,\"\")","v":""},null,{"$f":"IF(OR(AH25=\"\",AH25=0),1,\"\")","v":""},{"$f":"IF(OR(AM25=\"\",AM25=0),1,\"\")","v":""},null,null,"御子",null,null,null,null,"おおおお"]
[null,null,{"$f":"IF(AND('集計（返し）'!$O8<>\"\",'集計（返し）'!$Q8=1),'集計（返し）'!D8,\"\")","v":""}]
[null,{"$f":"IF(AND('集計（返し）'!$O9<>\"\",'集計（返し）'!$Q9=1),'集計（返し）'!C9,\"\")","v":""},{"$f":"IF(AND('集計（返し）'!$O9<>\"\",'集計（返し）'!$Q9=1),'集計（返し）'!E9,\"\")","v":""},null,{"$f":"IF(AND('集計（返し）'!$O9<>\"\",'集計（返し）'!$Q9=1),'集計（返し）'!F9,\"\")","v":""},{"$f":"IF(AND('集計（返し）'!$O9<>\"\",'集計（返し）'!$Q9=1),'集計（返し）'!G9,\"\")","v":""},null,{"$f":"IF(AND('集計（返し）'!$O9<>\"\",'集計（返し）'!$Q9=1),'集計（返し）'!H9,\"\")","v":""},null,{"$f":"IF(AND('集計（返し）'!$O9<>\"\",'集計（返し）'!$Q9=1),'集計（返し）'!I9,\"\")","v":""},null,null,null,null,"（",{"$f":"IF(AND('集計（返し）'!$O9<>\"\",'集計（返し）'!$Q9=1),'集計（返し）'!J9,\"\")","v":""},null,"）",{"$f":"IF(AND('集計（返し）'!$O9<>\"\",'集計（返し）'!$Q9=1),'集計（返し）'!K9,\"\")","v":""},null,null,null,null,"（",{"$f":"IF(AND('集計（返し）'!$O9<>\"\",'集計（返し）'!$Q9=1),'集計（返し）'!L9,\"\")","v":""},null,"）",{"$f":"IF(AND('集計（返し）'!$O9<>\"\",'集計（返し）'!$Q9=1),'集計（返し）'!M9,\"\")","v":""},null,{"$f":"IF(OR(AH27=\"\",AH27=0),1,\"\")","v":1},{"$f":"IF(OR(AM27=\"\",AM27=0),1,\"\")","v":1},null,null,"",null,null,null,null,""]
[null,null,{"$f":"IF(AND('集計（返し）'!$O9<>\"\",'集計（返し）'!$Q9=1),'集計（返し）'!D9,\"\")","v":""}]
[]
[null,"②　中学校、総合支援学校（中学部）の教職員"]
[null,"教職員氏名",null,null,"生徒との関係／校務分掌",null,null,null,null,null,null,null,null,null,"参加人数",null,null,null,null,null,null,null,null,null,null,null,null,null,null,{"$f":"COUNTBLANK(B32:B34)","v":3}]
[null,{"$f":"IF(AND('集計（返し）'!$O18<>\"\",'集計（返し）'!$Q18=1),'集計（返し）'!K18,\"\")","v":""},null,null,{"$f":"IF(AND('集計（返し）'!$O18<>\"\",'集計（返し）'!$Q18=1),'集計（返し）'!L18,\"\")","v":""},null,null,null,null,null,null,null,null,null,null,"生　徒",null,{"$f":"COUNTIFS(B17:B29,\"２年\")","v":0},null,"名"]
[null,{"$f":"IF(AND('集計（返し）'!$O19<>\"\",'集計（返し）'!$Q19=1),'集計（返し）'!K19,\"\")","v":""},null,null,{"$f":"IF(AND('集計（返し）'!$O19<>\"\",'集計（返し）'!$Q19=1),'集計（返し）'!L19,\"\")","v":""},null,null,null,null,null,null,null,null,null,null,"保護者",null,{"$f":"12-SUM(AD17:AE28)","v":6},null,"名"]
[null,{"$f":"IF(AND('集計（返し）'!$O20<>\"\",'集計（返し）'!$Q20=1),'集計（返し）'!K20,\"\")","v":""},null,null,{"$f":"IF(AND('集計（返し）'!$O20<>\"\",'集計（返し）'!$Q20=1),'集計（返し）'!L20,\"\")","v":""},null,null,null,null,null,null,null,null,null,null,"教職員",null,{"$f":"3-AD31","v":0},null,"名"]
[null,null,null,null,null,null,null,null,null,null,null,null,null,null,null,"合　計",null,{"$f":"SUM(R32:S34)","v":6},null,"名"]
[null,"③　日　程"]
[null,null,"　８：５５～　９：１０　受付"]
[null,null,"　９：１０～　９：２５　学校紹介　　　　　　 　"]
[null,null,"　９：３０～１０：２５　見学 （各１５分，移動５分）"]
[null,null,"１０：３０～１０：４０  キャリアアドバイス （学習の振返り）"]
[null,null,"１０：４０　 　　　　　 終了　　"]
[]
[null,"　※本校は、２足制になっています。必ず上靴をご持参ください。\n　※遅刻・不参加の場合は、中学校・中学部から東山総合（０７５‐５６１‐３３７３）へ連絡してください。\n　※体調不良の場合は、参加の自粛をお願いします。\n　※発熱等の症状が見られた場合、参加を見合わせていただくことがあります。"]

{"sheet":"参加2","index":2,"n_rows":43,"n_cols":45,"rows_kept":43,"cut":false,"hidden":true,"merged":[[18,27,19,28],[20,27,21,28],[22,27,23,28],[24,27,25,28],[26,27,27,28],[26,29,27,29],[26,30,27,30],[42,1,42,28],[26,33,27,37],[25,2,25,3],[26,1,27,1],[26,2,26,3],[26,4,27,4],[26,5,27,6],[26,7,27,8],[26,9,27,13],[26,14,27,14],[26,15,27,16],[24,14,25,14],[24,15,25,16],[24,17,25,17],[24,18,25,22],[24,23,25,23],[24,24,25,25],[26,38,27,42],[16,29,17,29],[16,30,17,30],[18,29,19,29],[18,30,19,30],[20,29,21,29],[20,30,21,30],[22,29,23,29],[22,30,23,30],[24,29,25,29],[24,30,25,30],[16,33,17,37],[16,38,17,42],[18,33,19,37],[18,38,19,42],[20,33,21,37],[20,38,21,42],[22,33,23,37],[22,38,23,42],[24,33,25,37],[24,38,25,42],[16,27,17,28],[34,15,34,16],[34,17,34,18],[32,1,32,3],[32,4,32,11],[32,15,32,16],[32,17,32,18],[33,1,33,3],[33,4,33,11],[33,15,33,16],[33,17,33,18],[30,1,30,3],[30,4,30,11],[31,1,31,3],[31,4,31,11],[31,15,31,16],[31,17,31,18],[26,17,27,17],[26,18,27,22],[26,23,27,23],[26,24,27,25],[26,26,27,26],[27,2,27,3],[24,26,25,26],[24,1,25,1],[24,2,24,3],[24,4,25,4],[24,5,25,6],[24,7,25,8],[24,9,25,13],[22,17,23,17],[22,18,23,22],[22,23,23,23],[22,1,23,1],[22,24,23,25],[22,26,23,26],[23,2,23,3],[20,26,21,26],[21,2,21,3],[20,17,21,17],[20,18,21,22],[20,23,21,23],[20,24,21,25],[22,2,22,3],[22,4,23,4],[22,5,23,6],[22,7,23,8],[22,9,23,13],[22,14,23,14],[22,15,23,16],[20,14,21,14],[20,15,21,16],[20,1,21,1],[20,2,20,3],[20,4,21,4],[20,5,21,6],[20,7,21,8],[20,9,21,13],[18,17,19,17],[18,18,19,22],[18,23,19,23],[18,24,19,25],[18,26,19,26],[19,2,19,3],[16,26,17,26],[17,2,17,3],[18,1,19,1],[18,2,18,3],[18,4,19,4],[18,5,19,6],[18,7,19,8],[18,9,19,13],[18,14,19,14],[18,15,19,16],[16,14,17,14],[16,15,17,16],[16,17,17,17],[16,18,17,22],[16,23,17,23],[16,24,17,25],[16,1,17,1],[16,2,16,3],[16,4,17,4],[16,5,17,6],[16,7,17,8],[16,9,17,13],[14,1,15,1],[14,2,14,3],[14,4,15,4],[14,5,15,6],[14,7,15,8],[14,9,14,17],[8,3,10,10],[8,12,10,16],[14,18,14,26],[15,2,15,3],[15,9,15,17],[15,18,15,26],[1,3,1,11],[0,23,0,28],[4,1,4,28],[5,1,5,28],[14,27,15,28],[2,20,2,28],[3,20,3,28]]}
[null,null,null,null,null,null,null,null,null,null,null,null,null,null,null,null,null,null,null,null,null,null,null,{"$f":"'集計（返し）'!L1","v":"2024-08-21"},null,null,null,null,null,null,null,{"$f":"AF2&\"OC2決定通知書(東山総合)\"&D9","v":"OC2決定通知書(東山総合)0"},null,null,null,null,null,null,null,null,null,null,null,null,{"$f":"AS2&\"OC1決定通知書(東山総合)\"&D9","v":"OC1決定通知書(東山総合)0"}]
[null,"（あて先）",null,{"$f":"申込シート!X9&\" 学校長様\"","v":" 学校長様"},null,null,null,null,null,null,null,null,null,null,null,null,null,null,null,null,null,null,null,null,null,null,null,null,null,null,null,{"$f":"LEFT(D2,FIND(\" \",D2)-1)","v":""},null,null,null,null,null,null,null,null,null,null,null,null,{"$f":"LEFT(D2,FIND(\" \",D2)-1)","v":""}]
[null,null,null,null,null,null,null,null,null,null,null,null,null,null,null,null,null,null,null,null,"京都市立東山総合支援学校"]
[null,null,null,null,null,null,null,null,null,null,null,null,null,null,null,null,null,null,null,null,"OC担当　副教頭　前川 智子"]
[null,"令和６年度  東山総合支援学校\n　  　      オープンキャンパス（中２対象）決定通知書"]
[null,"　京都市立東山総合支援学校におけるオープンキャンパス（中２対象）への参加について、以下のように決定いたしましたのでお知らせいたします。参加日、参加者及び内容をご確認いただきますようお願いいたします。"]
[]
[null,"１　希望日"]
[null,null,null,{"$f":"申込シート!D16","v":"00:00:00"},null,null,null,null,null,null,null,null,"第２部"]
[]
[]
[]
[null,"２　参加者"]
[null,"①　中学２年生及び保護者、家族"]
[null,"学年","ふりがな（上段）",null,"性別","在籍\n学級",null,"参加\n回数",null,"保護者名",null,null,null,null,null,null,null,null,"保護者名",null,null,null,null,null,null,null,null,"個別相談希望の有無"]
[null,null,"生徒名（下段）",null,null,null,null,null,null,"（生徒との関係）",null,null,null,null,null,null,null,null,"（生徒との関係）"]
[null,{"$f":"IF(AND('集計（返し）'!$O4<>\"\",'集計（返し）'!$Q4=2),'集計（返し）'!C4,\"\")","v":""},{"$f":"IF(AND('集計（返し）'!$O4<>\"\",'集計（返し）'!$Q4=2),'集計（返し）'!E4,\"\")","v":""},null,{"$f":"IF(AND('集計（返し）'!$O4<>\"\",'集計（返し）'!$Q4=2),'集計（返し）'!F4,\"\")","v":""},{"$f":"IF(AND('集計（返し）'!$O4<>\"\",'集計（返し）'!$Q4=2),'集計（返し）'!G4,\"\")","v":""},null,{"$f":"IF(AND('集計（返し）'!$O4<>\"\",'集計（返し）'!$Q4=2),'集計（返し）'!H4,\"\")","v":""},null,{"$f":"IF(AND('集計（返し）'!$O4<>\"\",'集計（返し）'!$Q4=2),'集計（返し）'!I4,\"\")","v":""},null,null,null,null,"（",{"$f":"IF(AND('集計（返し）'!$O4<>\"\",'集計（返し）'!$Q4=2),'集計（返し）'!J4,\"\")","v":""},null,"）",{"$f":"IF(AND('集計（返し）'!$O4<>\"\",'集計（返し）'!$Q4=2),'集計（返し）'!K4,\"\")","v":""},null,null,null,null,"（",{"$f":"IF(AND('集計（返し）'!$O4<>\"\",'集計（返し）'!$Q4=2),'集計（返し）'!L4,\"\")","v":""},null,"）",{"$f":"IF(AND('集計（返し）'!$O4<>\"\",'集計（返し）'!$Q4=2),'集計（返し）'!M4,\"\")","v":""},null,{"$f":"IF(OR(AH17=\"\",AH17=0),1,\"\")","v":1},{"$f":"IF(OR(AM17=\"\",AM17=0),1,\"\")","v":1},null,null,"",null,null,null,null,""]
[null,null,{"$f":"IF(AND('集計（返し）'!$O4<>\"\",'集計（返し）'!$Q4=2),'集計（返し）'!D4,\"\")","v":""}]
[null,{"$f":"IF(AND('集計（返し）'!$O5<>\"\",'集計（返し）'!$Q5=2),'集計（返し）'!C5,\"\")","v":""},{"$f":"IF(AND('集計（返し）'!$O5<>\"\",'集計（返し）'!$Q5=2),'集計（返し）'!E5,\"\")","v":""},null,{"$f":"IF(AND('集計（返し）'!$O5<>\"\",'集計（返し）'!$Q5=2),'集計（返し）'!F5,\"\")","v":""},{"$f":"IF(AND('集計（返し）'!$O5<>\"\",'集計（返し）'!$Q5=2),'集計（返し）'!G5,\"\")","v":""},null,{"$f":"IF(AND('集計（返し）'!$O5<>\"\",'集計（返し）'!$Q5=2),'集計（返し）'!H5,\"\")","v":""},null,{"$f":"IF(AND('集計（返し）'!$O5<>\"\",'集計（返し）'!$Q5=2),'集計（返し）'!I5,\"\")","v":""},null,null,null,null,"（",{"$f":"IF(AND('集計（返し）'!$O5<>\"\",'集計（返し）'!$Q5=2),'集計（返し）'!J5,\"\")","v":""},null,"）",{"$f":"IF(AND('集計（返し）'!$O5<>\"\",'集計（返し）'!$Q5=2),'集計（返し）'!K5,\"\")","v":""},null,null,null,null,"（",{"$f":"IF(AND('集計（返し）'!$O5<>\"\",'集計（返し）'!$Q5=2),'集計（返し）'!L5,\"\")","v":""},null,"）",{"$f":"IF(AND('集計（返し）'!$O5<>\"\",'集計（返し）'!$Q5=2),'集計（返し）'!M5,\"\")","v":""},null,{"$f":"IF(OR(AH19=\"\",AH19=0),1,\"\")","v":""},{"$f":"IF(OR(AM19=\"\",AM19=0),1,\"\")","v":""},null,null,"井伊位",null,null,null,null,"言いいいい"]
[null,null,{"$f":"IF(AND('集計（返し）'!$O5<>\"\",'集計（返し）'!$Q5=2),'集計（返し）'!D5,\"\")","v":""}]
[null,{"$f":"IF(AND('集計（返し）'!$O6<>\"\",'集計（返し）'!$Q6=2),'集計（返し）'!C6,\"\")","v":""},{"$f":"IF(AND('集計（返し）'!$O6<>\"\",'集計（返し）'!$Q6=2),'集計（返し）'!E6,\"\")","v":""},null,{"$f":"IF(AND('集計（返し）'!$O6<>\"\",'集計（返し）'!$Q6=2),'集計（返し）'!F6,\"\")","v":""},{"$f":"IF(AND('集計（返し）'!$O6<>\"\",'集計（返し）'!$Q6=2),'集計（返し）'!G6,\"\")","v":""},null,{"$f":"IF(AND('集計（返し）'!$O6<>\"\",'集計（返し）'!$Q6=2),'集計（返し）'!H6,\"\")","v":""},null,{"$f":"IF(AND('集計（返し）'!$O6<>\"\",'集計（返し）'!$Q6=2),'集計（返し）'!I6,\"\")","v":""},null,null,null,null,"（",{"$f":"IF(AND('集計（返し）'!$O6<>\"\",'集計（返し）'!$Q6=2),'集計（返し）'!J6,\"\")","v":""},null,"）",{"$f":"IF(AND('集計（返し）'!$O6<>\"\",'集計（返し）'!$Q6=2),'集計（返し）'!K6,\"\")","v":""},null,null,null,null,"（",{"$f":"IF(AND('集計（返し）'!$O6<>\"\",'集計（返し）'!$Q6=2),'集計（返し）'!L6,\"\")","v":""},null,"）",{"$f":"IF(AND('集計（返し）'!$O6<>\"\",'集計（返し）'!$Q6=2),'集計（返し）'!M6,\"\")","v":""},null,{"$f":"IF(OR(AH21=\"\",AH21=0),1,\"\")","v":1},{"$f":"IF(OR(AM21=\"\",AM21=0),1,\"\")","v":1},null,null,"",null,null,null,null,""]
[null,null,{"$f":"IF(AND('集計（返し）'!$O6<>\"\",'集計（返し）'!$Q6=2),'集計（返し）'!D6,\"\")","v":""}]
[null,{"$f":"IF(AND('集計（返し）'!$O7<>\"\",'集計（返し）'!$Q7=2),'集計（返し）'!C7,\"\")","v":""},{"$f":"IF(AND('集計（返し）'!$O7<>\"\",'集計（返し）'!$Q7=2),'集計（返し）'!E7,\"\")","v":""},null,{"$f":"IF(AND('集計（返し）'!$O7<>\"\",'集計（返し）'!$Q7=2),'集計（返し）'!F7,\"\")","v":""},{"$f":"IF(AND('集計（返し）'!$O7<>\"\",'集計（返し）'!$Q7=2),'集計（返し）'!G7,\"\")","v":""},null,{"$f":"IF(AND('集計（返し）'!$O7<>\"\",'集計（返し）'!$Q7=2),'集計（返し）'!H7,\"\")","v":""},null,{"$f":"IF(AND('集計（返し）'!$O7<>\"\",'集計（返し）'!$Q7=2),'集計（返し）'!I7,\"\")","v":""},null,null,null,null,"（",{"$f":"IF(AND('集計（返し）'!$O7<>\"\",'集計（返し）'!$Q7=2),'集計（返し）'!J7,\"\")","v":""},null,"）",{"$f":"IF(AND('集計（返し）'!$O7<>\"\",'集計（返し）'!$Q7=2),'集計（返し）'!K7,\"\")","v":""},null,null,null,null,"（",{"$f":"IF(AND('集計（返し）'!$O7<>\"\",'集計（返し）'!$Q7=2),'集計（返し）'!L7,\"\")","v":""},null,"）",{"$f":"IF(AND('集計（返し）'!$O7<>\"\",'集計（返し）'!$Q7=2),'集計（返し）'!M7,\"\")","v":""},null,{"$f":"IF(OR(AH23=\"\",AH23=0),1,\"\")","v":""},{"$f":"IF(OR(AM23=\"\",AM23=0),1,\"\")","v":""},null,null,"江",null,null,null,null,"得得ええええ"]
[null,null,{"$f":"IF(AND('集計（返し）'!$O7<>\"\",'集計（返し）'!$Q7=2),'集計（返し）'!D7,\"\")","v":""}]
[null,{"$f":"IF(AND('集計（返し）'!$O8<>\"\",'集計（返し）'!$Q8=2),'集計（返し）'!C8,\"\")","v":""},{"$f":"IF(AND('集計（返し）'!$O8<>\"\",'集計（返し）'!$Q8=2),'集計（返し）'!E8,\"\")","v":""},null,{"$f":"IF(AND('集計（返し）'!$O8<>\"\",'集計（返し）'!$Q8=2),'集計（返し）'!F8,\"\")","v":""},{"$f":"IF(AND('集計（返し）'!$O8<>\"\",'集計（返し）'!$Q8=2),'集計（返し）'!G8,\"\")","v":""},null,{"$f":"IF(AND('集計（返し）'!$O8<>\"\",'集計（返し）'!$Q8=2),'集計（返し）'!H8,\"\")","v":""},null,{"$f":"IF(AND('集計（返し）'!$O8<>\"\",'集計（返し）'!$Q8=2),'集計（返し）'!I8,\"\")","v":""},null,null,null,null,"（",{"$f":"IF(AND('集計（返し）'!$O8<>\"\",'集計（返し）'!$Q8=2),'集計（返し）'!J8,\"\")","v":""},null,"）",{"$f":"IF(AND('集計（返し）'!$O8<>\"\",'集計（返し）'!$Q8=2),'集計（返し）'!K8,\"\")","v":""},null,null,null,null,"（",{"$f":"IF(AND('集計（返し）'!$O8<>\"\",'集計（返し）'!$Q8=2),'集計（返し）'!L8,\"\")","v":""},null,"）",{"$f":"IF(AND('集計（返し）'!$O8<>\"\",'集計（返し）'!$Q8=2),'集計（返し）'!M8,\"\")","v":""},null,{"$f":"IF(OR(AH25=\"\",AH25=0),1,\"\")","v":1},{"$f":"IF(OR(AM25=\"\",AM25=0),1,\"\")","v":1},null,null,"",null,null,null,null,""]
[null,null,{"$f":"IF(AND('集計（返し）'!$O8<>\"\",'集計（返し）'!$Q8=2),'集計（返し）'!D8,\"\")","v":""}]
[null,{"$f":"IF(AND('集計（返し）'!$O9<>\"\",'集計（返し）'!$Q9=2),'集計（返し）'!C9,\"\")","v":""},{"$f":"IF(AND('集計（返し）'!$O9<>\"\",'集計（返し）'!$Q9=2),'集計（返し）'!E9,\"\")","v":""},null,{"$f":"IF(AND('集計（返し）'!$O9<>\"\",'集計（返し）'!$Q9=2),'集計（返し）'!F9,\"\")","v":""},{"$f":"IF(AND('集計（返し）'!$O9<>\"\",'集計（返し）'!$Q9=2),'集計（返し）'!G9,\"\")","v":""},null,{"$f":"IF(AND('集計（返し）'!$O9<>\"\",'集計（返し）'!$Q9=2),'集計（返し）'!H9,\"\")","v":""},null,{"$f":"IF(AND('集計（返し）'!$O9<>\"\",'集計（返し）'!$Q9=2),'集計（返し）'!I9,\"\")","v":""},null,null,null,null,"（",{"$f":"IF(AND('集計（返し）'!$O9<>\"\",'集計（返し）'!$Q9=2),'集計（返し）'!J9,\"\")","v":""},null,"）",{"$f":"IF(AND('集計（返し）'!$O9<>\"\",'集計（返し）'!$Q9=2),'集計（返し）'!K9,\"\")","v":""},null,null,null,null,"（",{"$f":"IF(AND('集計（返し）'!$O9<>\"\",'集計（返し）'!$Q9=2),'集計（返し）'!L9,\"\")","v":""},null,"）",{"$f":"IF(AND('集計（返し）'!$O9<>\"\",'集計（返し）'!$Q9=2),'集計（返し）'!M9,\"\")","v":""},null,{"$f":"IF(OR(AH27=\"\",AH27=0),1,\"\")","v":""},{"$f":"IF(OR(AM27=\"\",AM27=0),1,\"\")","v":""},null,null,"蚊",null,null,null,null,"加かかかかか"]
[null,null,{"$f":"IF(AND('集計（返し）'!$O9<>\"\",'集計（返し）'!$Q9=2),'集計（返し）'!D9,\"\")","v":""}]
[]
[null,"②　中学校、総合支援学校（中学部）の教職員"]
[null,"教職員氏名",null,null,"生徒との関係／校務分掌",null,null,null,null,null,null,null,null,null,"参加人数",null,null,null,null,null,null,null,null,null,null,null,null,null,null,{"$f":"COUNTBLANK(B32:B34)","v":3}]
[null,{"$f":"IF(AND('集計（返し）'!$O18<>\"\",'集計（返し）'!$Q18=2),'集計（返し）'!K18,\"\")","v":""},null,null,{"$f":"IF(AND('集計（返し）'!$O18<>\"\",'集計（返し）'!$Q18=2),'集計（返し）'!L18,\"\")","v":""},null,null,null,null,null,null,null,null,null,null,"生　徒",null,{"$f":"COUNTIFS(B17:B29,\"２年\")","v":0},null,"名"]
[null,{"$f":"IF(AND('集計（返し）'!$O19<>\"\",'集計（返し）'!$Q19=2),'集計（返し）'!K19,\"\")","v":""},null,null,{"$f":"IF(AND('集計（返し）'!$O19<>\"\",'集計（返し）'!$Q19=2),'集計（返し）'!L19,\"\")","v":""},null,null,null,null,null,null,null,null,null,null,"保護者",null,{"$f":"12-SUM(AD17:AE28)","v":6},null,"名"]
[null,{"$f":"IF(AND('集計（返し）'!$O20<>\"\",'集計（返し）'!$Q20=2),'集計（返し）'!K20,\"\")","v":""},null,null,{"$f":"IF(AND('集計（返し）'!$O20<>\"\",'集計（返し）'!$Q20=2),'集計（返し）'!L20,\"\")","v":""},null,null,null,null,null,null,null,null,null,null,"教職員",null,{"$f":"3-AD31","v":0},null,"名"]
[null,null,null,null,null,null,null,null,null,null,null,null,null,null,null,"合　計",null,{"$f":"SUM(R32:S34)","v":6},null,"名"]
[null,"③　日　程"]
[null,"　  　９：００～　９：２０　受付","１０：４５～１１：００　受付"]
[null,"　　　９：２０～　９：３５　学校紹介　　　　　　 　","１１：００～１１：１５　学校紹介　　　　　　 　"]
[null,"　　　９：４０～１０：３５　見学 （各１５分，移動５分）","１１：２０～１２：１５　見学 （各１５分，移動５分）"]
[null,"　　１０：４０～１０：５０  質疑応答 （生徒のみ）","１２：２０～１２：３０  キャリアアドバイス （学習の振返り）"]
[null,"　　１０：５０　　　　　　　 終了　　","１２：３０　　　　　　　終了　　"]
[]
[null,"　※本校は、２足制になっています。必ず上靴をご持参ください。\n　※遅刻・不参加の場合は、中学校・中学部から東山総合（０７５‐５６１‐３３７３）へ連絡してください。\n　※体調不良の場合は、参加の自粛をお願いします。\n　※発熱等の症状が見られた場合、参加を見合わせていただくことがあります。"]

{"sheet":"不参加","index":3,"n_rows":34,"n_cols":31,"rows_kept":34,"cut":false,"hidden":true,"merged":[[34,15,34,16],[34,17,34,18],[32,1,32,3],[32,4,32,11],[32,15,32,16],[32,17,32,18],[33,1,33,3],[33,4,33,11],[33,15,33,16],[33,17,33,18],[30,1,30,3],[30,4,30,11],[31,1,31,3],[31,4,31,11],[31,15,31,16],[31,17,31,18],[26,17,27,17],[26,18,27,22],[26,23,27,23],[26,24,27,25],[26,26,27,26],[27,2,27,3],[24,26,25,26],[25,2,25,3],[26,1,27,1],[26,2,26,3],[26,4,27,4],[26,5,27,6],[26,7,27,8],[26,9,27,13],[26,14,27,14],[26,15,27,16],[24,14,25,14],[24,15,25,16],[24,17,25,17],[24,18,25,22],[24,23,25,23],[24,24,25,25],[24,1,25,1],[24,2,24,3],[24,4,25,4],[24,5,25,6],[24,7,25,8],[24,9,25,13],[22,17,23,17],[22,18,23,22],[22,23,23,23],[22,24,23,25],[22,26,23,26],[23,2,23,3],[20,26,21,26],[21,2,21,3],[20,17,21,17],[20,18,21,22],[20,23,21,23],[20,24,21,25],[22,1,23,1],[22,2,22,3],[22,4,23,4],[22,5,23,6],[22,7,23,8],[22,9,23,13],[22,14,23,14],[22,15,23,16],[20,14,21,14],[20,15,21,16],[20,1,21,1],[20,2,20,3],[20,4,21,4],[20,5,21,6],[20,7,21,8],[20,9,21,13],[18,17,19,17],[18,18,19,22],[18,23,19,23],[18,24,19,25],[18,26,19,26],[19,2,19,3],[16,26,17,26],[17,2,17,3],[18,1,19,1],[18,2,18,3],[18,4,19,4],[18,5,19,6],[18,7,19,8],[18,9,19,13],[18,14,19,14],[18,15,19,16],[16,14,17,14],[16,15,17,16],[16,17,17,17],[16,18,17,22],[16,23,17,23],[16,24,17,25],[16,1,17,1],[16,2,16,3],[16,4,17,4],[16,5,17,6],[16,7,17,8],[16,9,17,13],[14,1,15,1],[14,2,14,3],[14,4,15,4],[14,5,15,6],[14,7,15,8],[14,9,14,17],[0,21,0,26],[4,1,4,26],[5,1,5,26],[8,3,10,10],[14,18,14,26],[15,2,15,3],[15,9,15,17],[15,18,15,26],[1,3,1,11],[2,18,2,26],[3,18,3,26]]}
[null,null,null,null,null,null,null,null,null,null,null,null,null,null,null,null,null,null,null,null,null,{"$f":"'集計（返し）'!L1","v":"2024-08-21"},null,null,null,null,null,null,null,null,{"$f":"AE2&\"OC2決定通知書(東山総合)\"&D9","v":"OC2決定通知書(東山総合)0"}]
[null,"（あて先）",null,{"$f":"申込シート!X9&\" 学校長様\"","v":" 学校長様"},null,null,null,null,null,null,null,null,null,null,null,null,null,null,null,null,null,null,null,null,null,null,null,null,null,null,{"$f":"LEFT(D2,FIND(\" \",D2)-1)","v":""}]
[null,null,null,null,null,null,null,null,null,null,null,null,null,null,null,null,null,null,"京都市立東山総合支援学校"]
[null,null,null,null,null,null,null,null,null,null,null,null,null,null,null,null,null,null,"OC担当　副教頭　前川 智子"]
[null,"令和６年度  東山総合支援学校\n　  　      オープンキャンパス（中２対象）決定通知書"]
[null,"　京都市立東山総合支援学校におけるオープンキャンパス（中２対象）への参加について、以下のように決定いたしましたのでお知らせいたします。\n　申し訳けありませんが、定員と参加回数の少ない人を優先にさせていただきましたので、下記の方々はご希望に添えることができませんでした。"]
[]
[null,"１　希望日"]
[null,null,null,{"$f":"申込シート!D16","v":"00:00:00"}]
[]
[]
[]
[null,"２　参加者"]
[null,"①　中学２年生及び保護者、家族"]
[null,"学年","ふりがな（上段）",null,"性別","在籍\n学級",null,"参加\n回数",null,"保護者名",null,null,null,null,null,null,null,null,"保護者名"]
[null,null,"生徒名（下段）",null,null,null,null,null,null,"（生徒との関係）",null,null,null,null,null,null,null,null,"（生徒との関係）"]
[null,{"$f":"IF('集計（返し）'!$P4<>\"\",'集計（返し）'!C4,\"\")","v":""},{"$f":"IF('集計（返し）'!$P4<>\"\",'集計（返し）'!E4,\"\")","v":""},null,{"$f":"IF('集計（返し）'!$P4<>\"\",'集計（返し）'!F4,\"\")","v":""},{"$f":"IF('集計（返し）'!$P4<>\"\",'集計（返し）'!G4,\"\")","v":""},null,{"$f":"IF('集計（返し）'!$P4<>\"\",'集計（返し）'!H4,\"\")","v":""},null,{"$f":"IF('集計（返し）'!$P4<>\"\",'集計（返し）'!I4,\"\")","v":""},null,null,null,null,"（",{"$f":"IF('集計（返し）'!$P4<>\"\",'集計（返し）'!J4,\"\")","v":""},null,"）",{"$f":"IF('集計（返し）'!$P4<>\"\",'集計（返し）'!K4,\"\")","v":""},null,null,null,null,"（",{"$f":"IF('集計（返し）'!$P4<>\"\",'集計（返し）'!L4,\"\")","v":""},null,"）"]
[null,null,{"$f":"IF('集計（返し）'!$P4<>\"\",'集計（返し）'!D4,\"\")","v":""}]
[null,{"$f":"IF('集計（返し）'!$P5<>\"\",'集計（返し）'!C5,\"\")","v":""},{"$f":"IF('集計（返し）'!$P5<>\"\",'集計（返し）'!E5,\"\")","v":""},null,{"$f":"IF('集計（返し）'!$P5<>\"\",'集計（返し）'!F5,\"\")","v":""},{"$f":"IF('集計（返し）'!$P5<>\"\",'集計（返し）'!G5,\"\")","v":""},null,{"$f":"IF('集計（返し）'!$P5<>\"\",'集計（返し）'!H5,\"\")","v":""},null,{"$f":"IF('集計（返し）'!$P5<>\"\",'集計（返し）'!I5,\"\")","v":""},null,null,null,null,"（",{"$f":"IF('集計（返し）'!$P5<>\"\",'集計（返し）'!J5,\"\")","v":""},null,"）",{"$f":"IF('集計（返し）'!$P5<>\"\",'集計（返し）'!K5,\"\")","v":""},null,null,null,null,"（",{"$f":"IF('集計（返し）'!$P5<>\"\",'集計（返し）'!L5,\"\")","v":""},null,"）"]
[null,null,{"$f":"IF('集計（返し）'!$P5<>\"\",'集計（返し）'!D5,\"\")","v":""}]
[null,{"$f":"IF('集計（返し）'!$P6<>\"\",'集計（返し）'!C6,\"\")","v":""},{"$f":"IF('集計（返し）'!$P6<>\"\",'集計（返し）'!E6,\"\")","v":""},null,{"$f":"IF('集計（返し）'!$P6<>\"\",'集計（返し）'!F6,\"\")","v":""},{"$f":"IF('集計（返し）'!$P6<>\"\",'集計（返し）'!G6,\"\")","v":""},null,{"$f":"IF('集計（返し）'!$P6<>\"\",'集計（返し）'!H6,\"\")","v":""},null,{"$f":"IF('集計（返し）'!$P6<>\"\",'集計（返し）'!I6,\"\")","v":""},null,null,null,null,"（",{"$f":"IF('集計（返し）'!$P6<>\"\",'集計（返し）'!J6,\"\")","v":""},null,"）",{"$f":"IF('集計（返し）'!$P6<>\"\",'集計（返し）'!K6,\"\")","v":""},null,null,null,null,"（",{"$f":"IF('集計（返し）'!$P6<>\"\",'集計（返し）'!L6,\"\")","v":""},null,"）"]
[null,null,{"$f":"IF('集計（返し）'!$P6<>\"\",'集計（返し）'!D6,\"\")","v":""}]
[null,{"$f":"IF('集計（返し）'!$P7<>\"\",'集計（返し）'!C7,\"\")","v":""},{"$f":"IF('集計（返し）'!$P7<>\"\",'集計（返し）'!E7,\"\")","v":""},null,{"$f":"IF('集計（返し）'!$P7<>\"\",'集計（返し）'!F7,\"\")","v":""},{"$f":"IF('集計（返し）'!$P7<>\"\",'集計（返し）'!G7,\"\")","v":""},null,{"$f":"IF('集計（返し）'!$P7<>\"\",'集計（返し）'!H7,\"\")","v":""},null,{"$f":"IF('集計（返し）'!$P7<>\"\",'集計（返し）'!I7,\"\")","v":""},null,null,null,null,"（",{"$f":"IF('集計（返し）'!$P7<>\"\",'集計（返し）'!J7,\"\")","v":""},null,"）",{"$f":"IF('集計（返し）'!$P7<>\"\",'集計（返し）'!K7,\"\")","v":""},null,null,null,null,"（",{"$f":"IF('集計（返し）'!$P7<>\"\",'集計（返し）'!L7,\"\")","v":""},null,"）"]
[null,null,{"$f":"IF('集計（返し）'!$P7<>\"\",'集計（返し）'!D7,\"\")","v":""}]
[null,{"$f":"IF('集計（返し）'!$P8<>\"\",'集計（返し）'!C8,\"\")","v":""},{"$f":"IF('集計（返し）'!$P8<>\"\",'集計（返し）'!E8,\"\")","v":""},null,{"$f":"IF('集計（返し）'!$P8<>\"\",'集計（返し）'!F8,\"\")","v":""},{"$f":"IF('集計（返し）'!$P8<>\"\",'集計（返し）'!G8,\"\")","v":""},null,{"$f":"IF('集計（返し）'!$P8<>\"\",'集計（返し）'!H8,\"\")","v":""},null,{"$f":"IF('集計（返し）'!$P8<>\"\",'集計（返し）'!I8,\"\")","v":""},null,null,null,null,"（",{"$f":"IF('集計（返し）'!$P8<>\"\",'集計（返し）'!J8,\"\")","v":""},null,"）",{"$f":"IF('集計（返し）'!$P8<>\"\",'集計（返し）'!K8,\"\")","v":""},null,null,null,null,"（",{"$f":"IF('集計（返し）'!$P8<>\"\",'集計（返し）'!L8,\"\")","v":""},null,"）"]
[null,null,{"$f":"IF('集計（返し）'!$P8<>\"\",'集計（返し）'!D8,\"\")","v":""}]
[null,{"$f":"IF('集計（返し）'!$P9<>\"\",'集計（返し）'!C9,\"\")","v":""},{"$f":"IF('集計（返し）'!$P9<>\"\",'集計（返し）'!E9,\"\")","v":""},null,{"$f":"IF('集計（返し）'!$P9<>\"\",'集計（返し）'!F9,\"\")","v":""},{"$f":"IF('集計（返し）'!$P9<>\"\",'集計（返し）'!G9,\"\")","v":""},null,{"$f":"IF('集計（返し）'!$P9<>\"\",'集計（返し）'!H9,\"\")","v":""},null,{"$f":"IF('集計（返し）'!$P9<>\"\",'集計（返し）'!I9,\"\")","v":""},null,null,null,null,"（",{"$f":"IF('集計（返し）'!$P9<>\"\",'集計（返し）'!J9,\"\")","v":""},null,"）",{"$f":"IF('集計（返し）'!$P9<>\"\",'集計（返し）'!K9,\"\")","v":""},null,null,null,null,"（",{"$f":"IF('集計（返し）'!$P9<>\"\",'集計（返し）'!L9,\"\")","v":""},null,"）"]
[null,null,{"$f":"IF('集計（返し）'!$P9<>\"\",'集計（返し）'!D9,\"\")","v":""}]
[]
[null,"②　中学校、総合支援学校（中学部）の教職員"]
[null,"教職員氏名",null,null,"生徒との関係／校務分掌"]
[null,{"$f":"IF('集計（返し）'!$P18<>\"\",'集計（返し）'!K18,\"\")","v":""},null,null,{"$f":"IF('集計（返し）'!$P18<>\"\",'集計（返し）'!L18,\"\")","v":""}]
[null,{"$f":"IF('集計（返し）'!$P19<>\"\",'集計（返し）'!K19,\"\")","v":""},null,null,{"$f":"IF('集計（返し）'!$P19<>\"\",'集計（返し）'!L19,\"\")","v":""}]
[null,{"$f":"IF('集計（返し）'!$P20<>\"\",'集計（返し）'!K20,\"\")","v":""},null,null,{"$f":"IF('集計（返し）'!$P20<>\"\",'集計（返し）'!L20,\"\")","v":""}]

{"sheet":"集計（一覧表）","index":4,"n_rows":10,"n_cols":23,"rows_kept":10,"cut":false,"hidden":true,"merged":[[0,6,0,8]]}
[null,"オープンキャンパス集計表（２年）",null,null,null,null,{"$f":"申込シート!D16","v":0},null,null,null,null,null,null,null,null,null,null,null,null,null,null,{"$f":"申込シート!X9","v":0}]
[null,null,null,null,null,null,null,null,null,null,null,null,null,null,null,null,null,null,null,null,null,{"$f":"LEFT(V1,LEN(V1)-2)","v":{"$error":"#VALUE!"}}]
[null,"学校名","学年","氏名","ふりがな","性別","在籍","参加回数","保護者1","関係","保護者2","関係","個別相談","部希望","参加","不参加","部","教職員","関係","部希望","参加","不参加","部"]
[null,{"$f":"'集計（返し）'!B4","v":{"$error":"#VALUE!"}},{"$f":"'集計（返し）'!C4","v":"２年"},{"$f":"'集計（返し）'!D4","v":0},{"$f":"'集計（返し）'!E4","v":0},{"$f":"'集計（返し）'!F4","v":0},{"$f":"'集計（返し）'!G4","v":0},{"$f":"'集計（返し）'!H4","v":0},{"$f":"'集計（返し）'!I4","v":0},{"$f":"'集計（返し）'!J4","v":0},{"$f":"'集計（返し）'!K4","v":0},{"$f":"'集計（返し）'!L4","v":0},{"$f":"'集計（返し）'!M4","v":0},{"$f":"'集計（返し）'!N4","v":0},{"$f":"'集計（返し）'!O4","v":0},{"$f":"'集計（返し）'!P4","v":0},{"$f":"'集計（返し）'!Q4","v":0},{"$f":"'集計（返し）'!K18","v":0},{"$f":"'集計（返し）'!L18","v":0},{"$f":"'集計（返し）'!N18","v":0},{"$f":"'集計（返し）'!O18","v":0},{"$f":"'集計（返し）'!P18","v":0},{"$f":"'集計（返し）'!Q18","v":0}]
[null,{"$f":"'集計（返し）'!B5","v":""},{"$f":"'集計（返し）'!C5","v":""},{"$f":"'集計（返し）'!D5","v":0},{"$f":"'集計（返し）'!E5","v":0},{"$f":"'集計（返し）'!F5","v":0},{"$f":"'集計（返し）'!G5","v":0},{"$f":"'集計（返し）'!H5","v":0},{"$f":"'集計（返し）'!I5","v":0},{"$f":"'集計（返し）'!J5","v":0},{"$f":"'集計（返し）'!K5","v":0},{"$f":"'集計（返し）'!L5","v":0},{"$f":"'集計（返し）'!M5","v":0},{"$f":"'集計（返し）'!N5","v":0},{"$f":"'集計（返し）'!O5","v":0},{"$f":"'集計（返し）'!P5","v":0},{"$f":"'集計（返し）'!Q5","v":0},{"$f":"'集計（返し）'!K19","v":0},{"$f":"'集計（返し）'!L19","v":0},{"$f":"'集計（返し）'!N19","v":0},{"$f":"'集計（返し）'!O19","v":0},{"$f":"'集計（返し）'!P19","v":0},{"$f":"'集計（返し）'!Q19","v":0}]
[null,{"$f":"'集計（返し）'!B6","v":""},{"$f":"'集計（返し）'!C6","v":""},{"$f":"'集計（返し）'!D6","v":0},{"$f":"'集計（返し）'!E6","v":0},{"$f":"'集計（返し）'!F6","v":0},{"$f":"'集計（返し）'!G6","v":0},{"$f":"'集計（返し）'!H6","v":0},{"$f":"'集計（返し）'!I6","v":0},{"$f":"'集計（返し）'!J6","v":0},{"$f":"'集計（返し）'!K6","v":0},{"$f":"'集計（返し）'!L6","v":0},{"$f":"'集計（返し）'!M6","v":0},{"$f":"'集計（返し）'!N6","v":0},{"$f":"'集計（返し）'!O6","v":0},{"$f":"'集計（返し）'!P6","v":0},{"$f":"'集計（返し）'!Q6","v":0},{"$f":"'集計（返し）'!K20","v":0},{"$f":"'集計（返し）'!L20","v":0},{"$f":"'集計（返し）'!N20","v":0},{"$f":"'集計（返し）'!O20","v":0},{"$f":"'集計（返し）'!P20","v":0},{"$f":"'集計（返し）'!Q20","v":0}]
[null,{"$f":"'集計（返し）'!B7","v":""},{"$f":"'集計（返し）'!C7","v":""},{"$f":"'集計（返し）'!D7","v":0},{"$f":"'集計（返し）'!E7","v":0},{"$f":"'集計（返し）'!F7","v":0},{"$f":"'集計（返し）'!G7","v":0},{"$f":"'集計（返し）'!H7","v":0},{"$f":"'集計（返し）'!I7","v":0},{"$f":"'集計（返し）'!J7","v":0},{"$f":"'集計（返し）'!K7","v":0},{"$f":"'集計（返し）'!L7","v":0},{"$f":"'集計（返し）'!M7","v":0},{"$f":"'集計（返し）'!N7","v":0},{"$f":"'集計（返し）'!O7","v":0},{"$f":"'集計（返し）'!P7","v":0},{"$f":"'集計（返し）'!Q7","v":0}]
[null,{"$f":"'集計（返し）'!B8","v":""},{"$f":"'集計（返し）'!C8","v":""},{"$f":"'集計（返し）'!D8","v":0},{"$f":"'集計（返し）'!E8","v":0},{"$f":"'集計（返し）'!F8","v":0},{"$f":"'集計（返し）'!G8","v":0},{"$f":"'集計（返し）'!H8","v":0},{"$f":"'集計（返し）'!I8","v":0},{"$f":"'集計（返し）'!J8","v":0},{"$f":"'集計（返し）'!K8","v":0},{"$f":"'集計（返し）'!L8","v":0},{"$f":"'集計（返し）'!M8","v":0},{"$f":"'集計（返し）'!N8","v":0},{"$f":"'集計（返し）'!O8","v":0},{"$f":"'集計（返し）'!P8","v":0},{"$f":"'集計（返し）'!Q8","v":0}]
[null,{"$f":"'集計（返し）'!B9","v":""},{"$f":"'集計（返し）'!C9","v":""},{"$f":"'集計（返し）'!D9","v":0},{"$f":"'集計（返し）'!E9","v":0},{"$f":"'集計（返し）'!F9","v":0},{"$f":"'集計（返し）'!G9","v":0},{"$f":"'集計（返し）'!H9","v":0},{"$f":"'集計（返し）'!I9","v":0},{"$f":"'集計（返し）'!J9","v":0},{"$f":"'集計（返し）'!K9","v":0},{"$f":"'集計（返し）'!L9","v":0},{"$f":"'集計（返し）'!M9","v":0},{"$f":"'集計（返し）'!N9","v":0},{"$f":"'集計（返し）'!O9","v":0},{"$f":"'集計（返し）'!P9","v":0},{"$f":"'集計（返し）'!Q9","v":0}]
[null,null,null,null,null,null,null,null,null,null,null,null,null,null,null,{"$f":"IF(COUNTA(I10:J10)=2,\"どちらかに\",\"\")","v":""},{"$f":"IF(COUNTA(N10:O10)=2,\"不参加です\",IF(AND(M10<>\"\",O10=\"\"),\"部未入力です\",\"\"))","v":""}]

{"sheet":"集計（返し）","index":5,"n_rows":20,"n_cols":27,"rows_kept":20,"cut":false,"hidden":true,"merged":[[0,1,0,5],[0,11,0,14],[0,6,0,8]]}
[null,"オープンキャンパス集計表（２年）",null,null,null,null,{"$f":"申込シート!D16","v":0},null,null,null,null,{"$f":"TODAY()","v":"2024-08-21"},null,null,null,null,null,null,null,null,null,null,null,{"$f":"申込シート!X9","v":0},null,null,{"$f":"X2&\"OC2申込シート\"&G1","v":{"$error":"#VALUE!"}}]
[null,null,null,null,null,null,null,null,null,null,null,null,null,null,null,null,null,null,null,null,null,null,null,{"$f":"LEFT(X1,LEN(X1)-2)","v":{"$error":"#VALUE!"}}]
[null,"学校名","学年","氏名","ふりがな","性別","在籍","参加回数","保護者1","関係","保護者2","関係","個別相談","部希望","参加","不参加","部"]
[null,{"$f":"X$2","v":{"$error":"#VALUE!"}},"２年",{"$f":"申込シート!C25","v":0},{"$f":"申込シート!C24","v":0},{"$f":"申込シート!E24","v":0},{"$f":"申込シート!F24","v":0},{"$f":"申込シート!H24","v":0},{"$f":"申込シート!J24","v":0},{"$f":"申込シート!P24","v":0},{"$f":"申込シート!S24","v":0},{"$f":"申込シート!Y24","v":0},{"$f":"申込シート!AB24","v":0},{"$f":"申込シート!AD24","v":0},null,null,null,{"$f":"IF(COUNTA(O4:P4)=2,\"どちらかに\",\"\")","v":""},{"$f":"IF(COUNTA(P4:Q4)=2,\"不参加です\",IF(AND(O4<>\"\",Q4=\"\"),\"部未入力です\",\"\"))","v":""}]
[null,{"$f":"IF(D5=0,\"\",$B$4)","v":""},{"$f":"IF(D5=0,\"\",$C$4)","v":""},{"$f":"申込シート!C27","v":0},{"$f":"申込シート!C26","v":0},{"$f":"申込シート!E26","v":0},{"$f":"申込シート!F26","v":0},{"$f":"申込シート!H26","v":0},{"$f":"申込シート!J26","v":0},{"$f":"申込シート!P26","v":0},{"$f":"申込シート!S26","v":0},{"$f":"申込シート!Y26","v":0},{"$f":"申込シート!AB26","v":0},{"$f":"申込シート!AD26","v":0},null,null,null,{"$f":"IF(COUNTA(O5:P5)=2,\"どちらかに\",\"\")","v":""},{"$f":"IF(COUNTA(P5:Q5)=2,\"不参加です\",IF(AND(O5<>\"\",Q5=\"\"),\"部未入力です\",\"\"))","v":""}]
[null,{"$f":"IF(D6=0,\"\",$B$4)","v":""},{"$f":"IF(D6=0,\"\",$C$4)","v":""},{"$f":"申込シート!C29","v":0},{"$f":"申込シート!C28","v":0},{"$f":"申込シート!E28","v":0},{"$f":"申込シート!F28","v":0},{"$f":"申込シート!H28","v":0},{"$f":"申込シート!J28","v":0},{"$f":"申込シート!P28","v":0},{"$f":"申込シート!S28","v":0},{"$f":"申込シート!Y28","v":0},{"$f":"申込シート!AB28","v":0},{"$f":"申込シート!AD28","v":0},null,null,null,"",""]
[null,"","",{"$f":"申込シート!C31","v":0},{"$f":"申込シート!C30","v":0},{"$f":"申込シート!E30","v":0},{"$f":"申込シート!F30","v":0},{"$f":"申込シート!H30","v":0},{"$f":"申込シート!J30","v":0},{"$f":"申込シート!P30","v":0},{"$f":"申込シート!S30","v":0},{"$f":"申込シート!Y30","v":0},{"$f":"申込シート!AB30","v":0},{"$f":"申込シート!AD30","v":0},null,null,null,"",""]
[null,"","",{"$f":"申込シート!C33","v":0},{"$f":"申込シート!C32","v":0},{"$f":"申込シート!E32","v":0},{"$f":"申込シート!F32","v":0},{"$f":"申込シート!H32","v":0},{"$f":"申込シート!J32","v":0},{"$f":"申込シート!P32","v":0},{"$f":"申込シート!S32","v":0},{"$f":"申込シート!Y32","v":0},{"$f":"申込シート!AB32","v":0},{"$f":"申込シート!AD32","v":0},null,null,null,"",""]
[null,"","",{"$f":"申込シート!C35","v":0},{"$f":"申込シート!C34","v":0},{"$f":"申込シート!E34","v":0},{"$f":"申込シート!F34","v":0},{"$f":"申込シート!H34","v":0},{"$f":"申込シート!J34","v":0},{"$f":"申込シート!P34","v":0},{"$f":"申込シート!S34","v":0},{"$f":"申込シート!Y34","v":0},{"$f":"申込シート!AB34","v":0},{"$f":"申込シート!AD34","v":0},null,null,null,"",""]
[null,null,null,null,null,null,null,null,null,null,null,null,null,null,null,null,null,{"$f":"IF(COUNTA(I10:J10)=2,\"どちらかに\",\"\")","v":""},""]
[null,null,null,null,null,null,null,null,null,null,null,null,null,null,null,null,null,"",""]
[null,null,null,null,null,null,null,null,null,null,null,null,null,null,null,null,null,"",""]
[null,null,null,null,null,null,null,null,null,null,null,null,null,null,null,null,null,"",{"$f":"IF(COUNTA(P13:Q13)=2,\"不参加です\",IF(AND(O13<>\"\",Q13=\"\"),\"部未入力です\",\"\"))","v":""}]
[null,null,null,null,null,null,null,null,null,null,null,null,null,null,null,null,null,"",""]
[null,null,null,null,null,null,null,null,null,null,null,null,null,null,null,null,null,"",""]
[]
[null,null,null,null,null,null,null,null,null,null,"教職員","関係",null,"部希望","参加","不参加","部"]
[null,null,null,null,null,null,null,null,null,null,{"$f":"申込シート!B39","v":0},{"$f":"申込シート!E39","v":0},null,{"$f":"申込シート!M39","v":0},null,null,null,{"$f":"IF(COUNTA(O18:P18)=2,\"どちらかに\",\"\")","v":""},{"$f":"IF(COUNTA(P18:Q18)=2,\"不参加です\",IF(AND(O18<>\"\",Q18=\"\"),\"部未入力です\",\"\"))","v":""}]
[null,null,null,null,null,null,null,null,null,null,{"$f":"申込シート!B40","v":0},{"$f":"申込シート!E40","v":0},null,{"$f":"申込シート!M40","v":0},null,null,null,{"$f":"IF(COUNTA(O19:P19)=2,\"どちらかに\",\"\")","v":""},""]
[null,null,null,null,null,null,null,null,null,null,{"$f":"申込シート!B41","v":0},{"$f":"申込シート!E41","v":0},null,{"$f":"申込シート!M41","v":0},null,null,null,{"$f":"IF(COUNTA(O20:P20)=2,\"どちらかに\",\"\")","v":""},""]