{"text_format":"1","workbook":"xlsx","n_sheets":5,"sheets":["申込シート","参加","不参加","集計（一覧表）","集計（返し）"],"not_rendered":{"charts":0,"images":0,"macros":1,"external_links":0,"defined_names":4,"comments":0,"pivot_tables":0},"unopened":[],"bounds":{"document_bytes":16777216,"sheet_cells":100000,"rows_first":2000,"rows_last":500,"rows_between":2000,"halvings":0,"cell_chars":16384,"cell_head_chars":4096},"cells_cut":0,"cells_raw":0,"read":"whole","date_system":"1900"}

{"sheet":"申込シート","index":0,"n_rows":79,"n_cols":48,"rows_kept":79,"cut":false,"hidden":false,"merged":[[44,1,44,23],[31,1,32,1],[33,1,34,1],[23,13,24,13],[25,13,26,13],[33,4,34,4],[23,5,24,6],[25,5,26,6],[27,5,28,6],[31,5,32,6],[33,5,34,6],[25,4,26,4],[27,4,28,4],[31,7,32,8],[33,7,34,8],[31,13,32,13],[33,13,34,13],[31,9,32,11],[33,9,34,11],[23,12,24,12],[25,12,26,12],[31,12,32,12],[33,12,34,12],[43,1,43,23],[40,6,40,14],[38,17,38,18],[38,19,38,20],[39,19,39,20],[40,19,40,20],[41,19,41,20],[39,17,39,18],[40,17,40,18],[41,17,41,18],[29,15,30,17],[29,18,30,18],[29,19,30,20],[33,2,33,3],[42,1,42,22],[37,1,37,5],[38,1,38,5],[39,1,39,5],[40,1,40,5],[33,22,34,23],[33,15,34,17],[33,18,34,18],[33,21,34,21],[33,19,34,20],[34,2,34,3],[32,2,32,3],[33,14,34,14],[29,14,30,14],[29,21,30,21],[29,22,30,23],[29,1,30,1],[37,6,37,14],[38,6,38,14],[39,6,39,14],[31,2,31,3],[31,4,32,4],[23,9,24,11],[25,9,26,11],[25,22,26,23],[27,22,28,23],[31,22,32,23],[25,19,26,20],[27,19,28,20],[23,15,24,17],[23,18,24,18],[23,21,24,21],[31,15,32,17],[31,18,32,18],[31,21,32,21],[23,19,24,20],[25,15,26,17],[25,18,26,18],[25,21,26,21],[27,15,28,17],[31,14,32,14],[27,18,28,18],[27,21,28,21],[31,19,32,20],[25,7,26,8],[27,7,28,8],[21,1,22,1],[8,8,8,9],[12,8,12,9],[21,4,22,4],[21,7,22,8],[21,9,21,14],[22,9,22,14],[23,4,24,4],[21,5,22,6],[25,14,26,14],[27,9,28,11],[27,12,28,12],[27,14,28,14],[27,13,28,13],[23,1,24,1],[25,1,26,1],[27,1,28,1],[26,2,26,3],[28,2,28,3],[25,2,25,3],[23,2,23,3],[27,2,27,3],[29,2,29,3],[30,2,30,3],[29,4,30,4],[29,5,30,6],[29,7,30,8],[29,9,30,11],[29,12,30,12],[29,13,30,13],[1,1,1,23],[23,7,24,8],[15,3,17,9],[4,16,4,18],[21,22,22,23],[21,2,21,3],[22,2,22,3],[24,2,24,3],[23,22,24,23],[8,17,8,22],[12,17,12,22],[10,17,10,22],[6,17,6,18],[23,14,24,14],[21,15,21,21],[22,15,22,21]]}
[null,null,null,null,null,null,null,null,null,null,null,null,null,null,null,null,null,null,null,null,null,null,null,null,null,null,null,null,null,null,null,null,null,null,null,null,null,null,null,null,null,null,"北","北区","加茂川中学校","492-1884",null,{"$f":"申込シート!R9&\"OC3申込シート\"&D16","v":"OC3申込シート"}]
[null,"令和６年度\n　東山総合支援学校　オープンキャンパス参加申込シート（市立以外の学校版）",null,null,null,null,null,null,null,null,null,null,null,null,null,null,null,null,null,null,null,null,null,null,null,null,null,null,null,"リスト","5","1",null,"６月２０日（木）",null,"３年","男","特別支援","１回目","あり",null,null,"上京",null,"西賀茂中学校","493-7001"]
[null,null,null,null,null,null,null,null,null,null,null,null,null,null,null,null,null,null,null,null,null,null,null,null,null,null,null,null,null,null,"6","2",null,"６月２５日（火）",null,"過年度","女","普通","２回目","なし",null,null,"左京",null,"旭丘中学校","492-1330"]
[null,"（あて先）京都市立東山総合支援学校　校長",null,null,null,null,null,null,null,null,null,null,null,null,null,null,null,null,null,null,null,null,null,null,null,null,null,null,null,null,"7","3",null,"７月４日（木）",null,null,null,null,"３回目",null,null,null,"中京",null,"衣笠中学校","461-2222"]
[null,null,null,null,null,null,null,null,null,null,null,null,null,null,null,null,"令和６",null,null,"年",null,"月",null,"日",null,null,null,null,null,null,"8","4",null,"７月１１日（木）",null,null,null,null,"４回目",null,null,null,"東山","上京区","烏丸中学校","431-0168"]
[null,null,null,null,null,null,null,null,null,null,null,null,null,null,null,null,null,null,null,null,null,null,null,null,null,null,null,null,null,null,"9","5",null,"９月３日（火）",null,null,null,null,"５回目",null,null,null,"山科",null,"上京中学校","431-8151"]
[null,null,null,null,null,null,null,null,null,null,null,null,null,null,null,null,null,null,null,null,null,null,null,null,null,null,null,null,null,null,null,"6",null,"９月１７日（火）",null,null,null,null,"６回目",null,null,null,"下京",null,"嘉楽中学校","431-0312"]
[null,null,null,null,null,null,null,null,null,null,null,null,null,null,null,null,null,null,null,null,null,null,null,null,null,null,null,null,null,null,null,"7",null,"９月２６日（木）",null,null,null,null,"７回目",null,null,null,"南",null,"二条中学校","821-1196"]
[null,null,null,null,null,null,null,null,null,null,null,null,null,null,null,"学校名",null,null,null,null,null,null,null,null,null,null,null,null,null,null,null,"8",null,"１０月３日（木）",null,null,null,null,"８回目",null,null,null,"右京",null,"北総合支援学校","431-6636"]
[null,null,null,null,null,null,null,null,null,null,null,null,null,null,null,null,null,null,null,null,null,null,null,null,null,null,null,null,null,null,null,"9",null,null,null,null,null,null,null,null,null,null,"西京","左京区","岡崎中学校","771-4191"]
[null,null,null,null,null,null,null,null,null,null,null,null,null,null,null,"電話番号",null,null,null,null,null,null,null,null,null,null,null,null,null,null,null,"10",null,null,null,null,null,null,null,null,null,null,"伏見",null,"高野中学校","781-8134"]
[null,null,null,null,null,null,null,null,null,null,null,null,null,null,null,null,null,null,null,null,null,null,null,null,null,null,null,null,null,null,null,"11",null,null,null,null,null,null,null,null,null,null,null,null,"下鴨中学校","781-9181"]
[null,null,null,null,null,null,null,null,null,null,null,null,null,null,null,"記入者　",null,null,null,null,null,null,null,null,null,null,null,null,null,null,null,"12",null,null,null,null,null,null,null,null,null,null,null,null,"近衛中学校","771-0007"]
[null,null,null,null,null,null,null,null,null,null,null,null,null,null,null,null,null,null,null,null,null,null,null,null,null,null,null,null,null,null,null,"13",null,null,null,null,null,null,null,null,null,null,null,null,"修学院中学校","781-3000"]
[null,"１　希望日",null,null,null,null,null,null,null,null,null,null,null,null,null,null,null,null,null,null,null,null,null,null,null,null,null,null,null,null,null,"14",null,null,null,null,null,null,null,null,null,null,null,null,"洛北中学校","721-7445"]
[null,null,null,null,null,null,null,null,null,null,null,null,null,null,null,null,null,null,null,null,null,null,null,null,null,null,null,null,null,null,null,"15",null,null,null,null,null,null,null,null,null,null,null,null,"大原小中学校","744-2004"]
[null,null,null,null,null,null,null,null,null,null,null,null,null,null,null,null,null,null,null,null,null,null,null,null,null,null,null,null,null,null,null,"16",null,null,null,null,null,null,null,null,null,null,null,null,"花背小中学校","746-0131"]
[null,null,null,null,null,null,null,null,null,null,null,null,null,null,null,null,null,null,null,null,null,null,null,null,null,null,null,null,null,null,null,"17",null,null,null,null,null,null,null,null,null,null,null,"中京区","北野中学校","463-7101"]
[null,null,null,null,null,null,null,null,null,null,null,null,null,null,null,null,null,null,null,null,null,null,null,null,null,null,null,null,null,null,null,"18",null,null,null,null,null,null,null,null,null,null,null,null,"朱雀中学校","841-0205"]
[null,"２　希望者",null,null,null,null,null,null,null,null,null,null,null,null,null,null,null,null,null,null,null,null,null,null,null,null,null,null,null,null,null,"19",null,null,null,null,null,null,null,null,null,null,null,null,"京都御池中学校","221-0414"]
[null,"①　高等部卒業後企業就職を希望する中学３年生又は過年度卒業生及び保護者、家族",null,null,null,null,null,null,null,null,null,null,null,null,null,null,null,null,null,null,null,null,null,null,null,null,null,null,null,null,null,"20",null,null,null,null,null,null,null,null,null,null,null,null,"中京中学校","801-3266"]
[null,"学年等","ふりがな（上段）",null,"性別","在籍\n学級",null,"今年度の参加回数",null,"参加保護者名",null,null,null,null,null,"参加保護者名",null,null,null,null,null,null,"個別相談\n希望の有無",null,null,null,null,null,null,null,null,"21",null,null,null,null,null,null,null,null,null,null,null,null,"松原中学校","841-0650"]
[null,null,"参加生徒名（下段）",null,null,null,null,null,null,"（生徒との関係）",null,null,null,null,null,"（生徒との関係）",null,null,null,null,null,null,null,null,null,null,null,null,null,null,null,"22",null,null,null,null,null,null,null,null,null,null,null,null,"西ノ京中学校","802-3365"]
[null,null,null,null,null,null,null,null,null,null,null,null,null,null,null,null,null,null,null,null,null,null,null,null,{"$f":"IF(AND(C25=\"\",W24=\"\"),\"\",IF(AND(C25<>\"\",W24=\"\"),\"←個別相談希望の有無，お忘れなく\",\"\"))","v":""},null,null,null,null,null,null,"23",null,null,null,null,null,null,null,null,null,null,null,null,"西京高等学校附属中学校","841-0010"]
[null,null,null,null,null,null,null,null,null,null,null,null,null,null,null,null,null,null,null,null,null,null,null,null,null,null,null,null,null,null,null,"24",null,null,null,null,null,null,null,null,null,null,null,null,"洛風中学校","213-2222"]
[null,null,null,null,null,null,null,null,null,null,null,null,null,null,null,null,null,null,null,null,null,null,null,null,{"$f":"IF(AND(C27=\"\",W26=\"\"),\"\",IF(AND(C27<>\"\",W26=\"\"),\"←個別相談希望の有無，お忘れなく\",\"\"))","v":""},null,null,null,null,null,null,"25",null,null,null,null,null,null,null,null,null,null,null,"東山区","開睛小中学校","533-8811"]
[null,null,null,null,null,null,null,null,null,null,null,null,null,null,null,null,null,null,null,null,null,null,null,null,null,null,null,null,null,null,null,"26",null,null,null,null,null,null,null,null,null,null,null,null,"東山泉小中学校","532-0355"]
[null,null,null,null,null,null,null,null,null,null,null,null,null,null,null,null,null,null,null,null,null,null,null,null,{"$f":"IF(AND(C29=\"\",W28=\"\"),\"\",IF(AND(C29<>\"\",W28=\"\"),\"←個別相談希望の有無，お忘れなく\",\"\"))","v":""},null,null,null,null,null,null,"27",null,null,null,null,null,null,null,null,null,null,null,"山科区","山科中学校","594-1151"]
[null,null,null,null,null,null,null,null,null,null,null,null,null,null,null,null,null,null,null,null,null,null,null,null,null,null,null,null,null,null,null,"28",null,null,null,null,null,null,null,null,null,null,null,null,"勧修中学校","591-9111"]
[null,null,null,null,null,null,null,null,null,null,null,null,null,null,null,null,null,null,null,null,null,null,null,null,{"$f":"IF(AND(C31=\"\",W30=\"\"),\"\",IF(AND(C31<>\"\",W30=\"\"),\"←個別相談希望の有無，お忘れなく\",\"\"))","v":""},null,null,null,null,null,null,"29",null,null,null,null,null,null,null,null,null,null,null,null,"大宅中学校","573-3067"]
[null,null,null,null,null,null,null,null,null,null,null,null,null,null,null,null,null,null,null,null,null,null,null,null,null,null,null,null,null,null,null,"30",null,null,null,null,null,null,null,null,null,null,null,null,"安祥寺中学校","592-2848"]
[null,null,null,null,null,null,null,null,null,null,null,null,null,null,null,null,null,null,null,null,null,null,null,null,{"$f":"IF(AND(C33=\"\",W32=\"\"),\"\",IF(AND(C33<>\"\",W32=\"\"),\"←個別相談希望の有無，お忘れなく\",\"\"))","v":""},null,null,null,null,null,null,"31",null,null,null,null,null,null,null,null,null,null,null,null,"音羽中学校","581-9115"]
[null,null,null,null,null,null,null,null,null,null,null,null,null,null,null,null,null,null,null,null,null,null,null,null,null,null,null,null,null,null,null,null,null,null,null,null,null,null,null,null,null,null,null,null,"花山中学校","581-5128"]
[null,null,null,null,null,null,null,null,null,null,null,null,null,null,null,null,null,null,null,null,null,null,null,null,{"$f":"IF(AND(C35=\"\",W34=\"\"),\"\",IF(AND(C35<>\"\",W34=\"\"),\"←個別相談希望の有無，お忘れなく\",\"\"))","v":""},null,null,null,null,null,null,null,null,null,null,null,null,null,null,null,null,null,null,null,"東総合支援学校","594-6501"]
[null,null,null,null,null,null,null,null,null,null,null,null,null,null,null,null,null,null,null,null,null,null,null,null,null,null,null,null,null,null,null,null,null,null,null,null,null,null,null,null,null,null,null,"下京区","下京中学校","371-2100"]
[null,null,null,null,null,null,null,null,null,null,null,null,null,null,null,null,null,null,null,null,null,null,null,null,null,null,null,null,null,null,null,null,null,null,null,null,null,null,null,null,null,null,null,null,"七条中学校","313-0972"]
[null,"②　中学校，総合支援学校（中学部）の教職員",null,null,null,null,null,null,null,null,null,null,null,null,null,null,null,null,null,null,null,null,null,null,null,null,null,null,null,null,null,null,null,null,null,null,null,null,null,null,null,null,null,null,"洛友中学校","821-2196"]
[null,"教　職　員　の　氏　名",null,null,null,null,"生徒・保護者との関係 ／校務分掌",null,null,null,null,null,null,null,null,null,"参加希望人数",null,null,null,null,null,null,null,null,null,null,null,null,null,null,null,null,null,null,null,null,null,null,null,null,null,null,"南区","八条中学校","681-5264"]
[null,null,null,null,null,null,null,null,null,null,null,null,null,null,null,null,null,"生　徒",null,{"$f":"COUNTA(C25,C27,C29,C31,C33,C35)","v":0},null,"名",null,null,null,null,null,null,null,null,null,null,null,null,null,null,null,null,null,null,null,null,null,null,"九条中学校","681-2211"]
[null,null,null,null,null,null,null,null,null,null,null,null,null,null,null,null,null,"保護者",null,{"$f":"COUNTA(J24,J26,J28,J30,J32,J34,P24,P26,P28,P30,P32,P34)","v":0},null,"名",null,null,null,null,null,null,null,null,null,null,null,null,null,null,null,null,null,null,null,null,null,null,"洛南中学校","691-0018"]
[null,null,null,null,null,null,null,null,null,null,null,null,null,null,null,null,null,"教職員",null,{"$f":"COUNTA(B39:F41)","v":0},null,"名",null,null,null,null,null,null,null,null,null,null,null,null,null,null,null,null,null,null,null,null,null,null,"久世中学校","933-3223"]
[null,null,null,null,null,null,null,null,null,null,null,null,null,null,null,null,null,"合　計",null,{"$f":"SUM(T39:U41)","v":0},null,"名",null,null,null,null,null,null,null,null,null,null,null,null,null,null,null,null,null,null,null,null,null,null,"凌風小中学校","693-8222"]
[null,"○欄が不足する場合はファイルをコピーして使用してください",null,null,null,null,null,null,null,null,null,null,null,null,null,null,null,null,null,null,null,null,null,null,null,null,null,null,null,null,null,null,null,null,null,null,null,null,null,null,null,null,null,"右京区","蜂ヶ岡中学校","861-2168"]
[null,"○貴校からの東山総合支援学校への申込締切日および時刻は、各実施日２週間前の同じ曜日の午後５時です\n○参加申込シートは管理職の先生から 電子メールで副教頭 前川 智子まで送信していただきます様お願いいたします（セキュリティ強化により外部からExcelデータが受付できませんので、お手数ですが必要事項を入力後、PDFに変換し、メールに添付していただきますようお願いします）\n  E-mail：higashiyama-y@edu.city.kyoto.jp\n（添付されるファイルの○○の所に貴校の学校名を含ませてください）",null,null,null,null,null,null,null,null,null,null,null,null,null,null,null,null,null,null,null,null,null,null,null,null,null,null,null,null,null,null,null,null,null,null,null,null,null,null,null,null,null,null,"太秦中学校","872-0037"]
[null,"○決定通知書を電子メールにて送付します（２０組の定員を設けています　申込は先着順とし、参加回数の少ない人を優先にさせていただきます）",null,null,null,null,null,null,null,null,null,null,null,null,null,null,null,null,null,null,null,null,null,null,null,null,null,null,null,null,null,null,null,null,null,null,null,null,null,null,null,null,null,null,"嵯峨中学校","871-0533"]
[null,null,null,null,null,null,null,null,null,null,null,null,null,null,null,null,null,null,null,null,null,null,null,null,null,null,null,null,null,null,null,null,null,null,null,null,null,null,null,null,null,null,null,null,"四条中学校","312-0040"]
[null,null,null,null,null,null,null,null,null,null,null,null,null,null,null,null,null,null,null,null,null,null,null,null,null,null,null,null,null,null,null,null,null,null,null,null,null,null,null,null,null,null,null,null,"西京極中学校","315-1531"]
[null,null,null,null,null,null,null,null,null,null,null,null,null,null,null,null,null,null,null,null,null,null,null,null,null,null,null,null,null,null,null,null,null,null,null,null,null,null,null,null,null,null,null,null,"梅津中学校","882-0910"]
[null,null,null,null,null,null,null,null,null,null,null,null,null,null,null,null,null,null,null,null,null,null,null,null,null,null,null,null,null,null,null,null,null,null,null,null,null,null,null,null,null,null,null,null,"西院中学校","312-0365"]
[null,null,null,null,null,null,null,null,null,null,null,null,null,null,null,null,null,null,null,null,null,null,null,null,null,null,null,null,null,null,null,null,null,null,null,null,null,null,null,null,null,null,null,null,"高雄中学校","872-1286"]
[null,null,null,null,null,null,null,null,null,null,null,null,null,null,null,null,null,null,null,null,null,null,null,null,null,null,null,null,null,null,null,null,null,null,null,null,null,null,null,null,null,null,null,null,"双ヶ丘中学校","463-8165"]
[null,null,null,null,null,null,null,null,null,null,null,null,null,null,null,null,null,null,null,null,null,null,null,null,null,null,null,null,null,null,null,null,null,null,null,null,null,null,null,null,null,null,null,null,"宕陰小中学校","0771-44-0310"]
[null,null,null,null,null,null,null,null,null,null,null,null,null,null,null,null,null,null,null,null,null,null,null,null,null,null,null,null,null,null,null,null,null,null,null,null,null,null,null,null,null,null,null,null,"京都京北小中学校","852-1133"]
[null,null,null,null,null,null,null,null,null,null,null,null,null,null,null,null,null,null,null,null,null,null,null,null,null,null,null,null,null,null,null,null,null,null,null,null,null,null,null,null,null,null,null,null,"鳴滝総合支援学校","461-3221"]
[null,null,null,null,null,null,null,null,null,null,null,null,null,null,null,null,null,null,null,null,null,null,null,null,null,null,null,null,null,null,null,null,null,null,null,null,null,null,null,null,null,null,null,"西京区","桂中学校","392-7200"]
[null,null,null,null,null,null,null,null,null,null,null,null,null,null,null,null,null,null,null,null,null,null,null,null,null,null,null,null,null,null,null,null,null,null,null,null,null,null,null,null,null,null,null,null,"松尾中学校","391-9622"]
[null,null,null,null,null,null,null,null,null,null,null,null,null,null,null,null,null,null,null,null,null,null,null,null,null,null,null,null,null,null,null,null,null,null,null,null,null,null,null,null,null,null,null,null,"桂川中学校","392-9229"]
[null,null,null,null,null,null,null,null,null,null,null,null,null,null,null,null,null,null,null,null,null,null,null,null,null,null,null,null,null,null,null,null,null,null,null,null,null,null,null,null,null,null,null,null,"樫原中学校","392-6630"]
[null,null,null,null,null,null,null,null,null,null,null,null,null,null,null,null,null,null,null,null,null,null,null,null,null,null,null,null,null,null,null,null,null,null,null,null,null,null,null,null,null,null,null,null,"大枝中学校","333-1112"]
[null,null,null,null,null,null,null,null,null,null,null,null,null,null,null,null,null,null,null,null,null,null,null,null,null,null,null,null,null,null,null,null,null,null,null,null,null,null,null,null,null,null,null,null,"洛西中学校","331-6131"]
[null,null,null,null,null,null,null,null,null,null,null,null,null,null,null,null,null,null,null,null,null,null,null,null,null,null,null,null,null,null,null,null,null,null,null,null,null,null,null,null,null,null,null,null,"西陵中学校","332-0671"]
[null,null,null,null,null,null,null,null,null,null,null,null,null,null,null,null,null,null,null,null,null,null,null,null,null,null,null,null,null,null,null,null,null,null,null,null,null,null,null,null,null,null,null,null,"大原野中学校","333-3207"]
[null,null,null,null,null,null,null,null,null,null,null,null,null,null,null,null,null,null,null,null,null,null,null,null,null,null,null,null,null,null,null,null,null,null,null,null,null,null,null,null,null,null,null,null,"西総合支援学校","332-4275"]
[null,null,null,null,null,null,null,null,null,null,null,null,null,null,null,null,null,null,null,null,null,null,null,null,null,null,null,null,null,null,null,null,null,null,null,null,null,null,null,null,null,null,null,"伏見区","深草中学校","641-6522"]
[null,null,null,null,null,null,null,null,null,null,null,null,null,null,null,null,null,null,null,null,null,null,null,null,null,null,null,null,null,null,null,null,null,null,null,null,null,null,null,null,null,null,null,null,"藤森中学校","641-5227"]
[null,null,null,null,null,null,null,null,null,null,null,null,null,null,null,null,null,null,null,null,null,null,null,null,null,null,null,null,null,null,null,null,null,null,null,null,null,null,null,null,null,null,null,null,"桃山中学校","611-0268"]
[null,null,null,null,null,null,null,null,null,null,null,null,null,null,null,null,null,null,null,null,null,null,null,null,null,null,null,null,null,null,null,null,null,null,null,null,null,null,null,null,null,null,null,null,"伏見中学校","611-5161"]
[null,null,null,null,null,null,null,null,null,null,null,null,null,null,null,null,null,null,null,null,null,null,null,null,null,null,null,null,null,null,null,null,null,null,null,null,null,null,null,null,null,null,null,null,"神川中学校","934-1505"]
[null,null,null,null,null,null,null,null,null,null,null,null,null,null,null,null,null,null,null,null,null,null,null,null,null,null,null,null,null,null,null,null,null,null,null,null,null,null,null,null,null,null,null,null,"醍醐中学校","571-0065"]
[null,null,null,null,null,null,null,null,null,null,null,null,null,null,null,null,null,null,null,null,null,null,null,null,null,null,null,null,null,null,null,null,null,null,null,null,null,null,null,null,null,null,null,null,"春日丘中学校","571-4969"]
[null,null,null,null,null,null,null,null,null,null,null,null,null,null,null,null,null,null,null,null,null,null,null,null,null,null,null,null,null,null,null,null,null,null,null,null,null,null,null,null,null,null,null,null,"小栗栖中学校","572-3135"]
[null,null,null,null,null,null,null,null,null,null,null,null,null,null,null,null,null,null,null,null,null,null,null,null,null,null,null,null,null,null,null,null,null,null,null,null,null,null,null,null,null,null,null,null,"栗陵中学校","571-7631"]
[null,null,null,null,null,null,null,null,null,null,null,null,null,null,null,null,null,null,null,null,null,null,null,null,null,null,null,null,null,null,null,null,null,null,null,null,null,null,null,null,null,null,null,null,"桃陵中学校","611-3241"]
[null,null,null,null,null,null,null,null,null,null,null,null,null,null,null,null,null,null,null,null,null,null,null,null,null,null,null,null,null,null,null,null,null,null,null,null,null,null,null,null,null,null,null,null,"向島東中学校","601-7932"]
[null,null,null,null,null,null,null,null,null,null,null,null,null,null,null,null,null,null,null,null,null,null,null,null,null,null,null,null,null,null,null,null,null,null,null,null,null,null,null,null,null,null,null,null,"洛水中学校","602-3261"]
[null,null,null,null,null,null,null,null,null,null,null,null,null,null,null,null,null,null,null,null,null,null,null,null,null,null,null,null,null,null,null,null,null,null,null,null,null,null,null,null,null,null,null,null,"大淀中学校","631-7211"]
[null,null,null,null,null,null,null,null,null,null,null,null,null,null,null,null,null,null,null,null,null,null,null,null,null,null,null,null,null,null,null,null,null,null,null,null,null,null,null,null,null,null,null,null,"向島秀蓮小中学校","611-3346"]
[null,null,null,null,null,null,null,null,null,null,null,null,null,null,null,null,null,null,null,null,null,null,null,null,null,null,null,null,null,null,null,null,null,null,null,null,null,null,null,null,null,null,null,null,"呉竹総合支援学校","601-9104"]
[null,null,null,null,null,null,null,null,null,null,null,null,null,null,null,null,null,null,null,null,null,null,null,null,null,null,null,null,null,null,null,null,null,null,null,null,null,null,null,null,null,null,null,null,"桃陽総合支援学校","641-2634"]

{"sheet":"参加","index":1,"n_rows":40,"n_cols":31,"rows_kept":40,"cut":false,"hidden":true,"merged":[[2,17,2,23],[3,17,3,23],[18,21,19,21],[18,22,19,23],[19,2,19,3],[18,14,19,14],[18,15,19,17],[18,18,19,18],[7,1,7,23],[10,3,12,9],[16,1,17,1],[16,2,16,3],[16,4,17,4],[16,5,17,6],[16,7,17,8],[16,9,16,14],[5,0,5,23],[18,1,19,1],[18,2,18,3],[18,4,19,4],[18,5,19,6],[18,7,19,8],[26,1,27,1],[16,15,16,21],[16,22,17,23],[17,2,17,3],[20,5,21,6],[20,7,21,8],[20,9,21,11],[23,2,23,3],[22,13,23,13],[25,2,25,3],[18,12,19,12],[18,13,19,13],[17,9,17,14],[17,15,17,21],[18,9,19,11],[18,19,19,20],[20,21,21,21],[20,1,21,1],[20,22,21,23],[21,2,21,3],[20,14,21,14],[20,15,21,17],[20,18,21,18],[20,19,21,20],[20,12,21,12],[20,13,21,13],[22,19,23,20],[22,21,23,21],[20,2,20,3],[26,2,26,3],[26,4,27,4],[26,5,27,6],[26,7,27,8],[27,2,27,3],[24,14,25,14],[20,4,21,4],[26,12,27,12],[26,9,27,11],[22,9,23,11],[22,12,23,12],[26,22,27,23],[26,15,27,17],[26,18,27,18],[28,14,29,14],[22,15,23,17],[28,18,29,18],[24,19,25,20],[24,21,25,21],[24,22,25,23],[22,22,23,23],[22,18,23,18],[24,15,25,17],[24,18,25,18],[28,15,29,17],[22,14,23,14],[39,1,39,23],[33,1,33,5],[33,6,33,14],[33,17,33,18],[33,19,33,20],[34,1,34,5],[34,6,34,14],[34,19,34,20],[28,21,29,21],[28,22,29,23],[29,2,29,3],[32,1,32,5],[32,6,32,14],[32,16,32,18],[28,12,29,12],[28,13,29,13],[28,1,29,1],[28,19,29,20],[28,2,28,3],[28,4,29,4],[28,5,29,6],[28,7,29,8],[28,9,29,11],[22,25,23,25],[0,18,0,23],[35,1,35,5],[35,6,35,14],[35,19,35,20],[36,19,36,20],[38,1,38,23],[26,13,27,13],[26,14,27,14],[24,1,25,1],[24,2,24,3],[24,4,25,4],[24,5,25,6],[24,7,25,8],[24,9,25,11],[24,12,25,12],[24,13,25,13],[22,1,23,1],[22,2,22,3],[22,4,23,4],[22,5,23,6],[22,7,23,8],[26,19,27,20],[26,21,27,21],[28,27,29,29],[26,30,27,32],[28,30,29,32],[30,24,31,24],[18,27,19,29],[18,30,19,32],[22,27,23,29],[20,27,21,29],[24,27,25,29],[26,27,27,29],[20,30,21,32],[22,30,23,32],[24,30,25,32],[28,24,29,24],[28,25,29,25],[22,24,23,24],[18,24,19,24],[18,25,19,25],[20,24,21,24],[20,25,21,25],[24,24,25,24],[26,24,27,24],[24,25,25,25],[26,25,27,25]]}
[null,null,null,null,null,null,null,null,null,null,null,null,null,null,null,null,null,null,{"$f":"'集計（返し）'!M1","v":"2024-05-20"},null,null,null,null,null,null,null,{"$f":"AA2&\"OC3確定書(東山総合)\"&D11","v":"OC3確定書(東山総合)0"}]
[null,"（あて先）",null,{"$f":"申込シート!R9&\" 学校長様\"","v":" 学校長様"},null,null,null,null,null,null,null,null,null,null,null,null,null,null,null,null,null,null,null,null,null,null,{"$f":"LEFT(D2,FIND(\" \",D2)-1)","v":""}]
[null,null,null,null,null,null,null,null,null,null,null,null,null,null,null,null,null,"京都市立東山総合支援学校"]
[null,null,null,null,null,null,null,null,null,null,null,null,null,null,null,null,null,"OC担当 副教頭 佐々木 幹雄"]
[]
["令和６年度\n　　　　　　東山総合支援学校オープンキャンパス参加確認書"]
[]
[null,"　京都市立東山総合支援学校におけるオープンキャンパスへの参加について、以下のように決定いたしましたのでお知らせいたします。参加日、参加者及び内容をご確認いただきますようお願いいたします。"]
[]
[null,"１　参加日"]
[null,null,null,{"$f":"申込シート!D16","v":"00:00:00"}]
[]
[]
[]
[null,"２　参加者"]
[null,"①　高等部卒業後企業就職を希望する中学３年生又は過年度卒業生及び保護者、家族"]
[null,"学年等","ふりがな（上段）",null,"性別","在籍\n学級",null,"参加\n回数",null,"参加保護者名",null,null,null,null,null,"参加保護者名",null,null,null,null,null,null,"個別相談希望の有無"]
[null,null,"参加生徒名（下段）",null,null,null,null,null,null,"（生徒との関係）",null,null,null,null,null,"（生徒との関係）"]
[null,{"$f":"IF('集計（返し）'!$N4<>\"\",'集計（返し）'!C4,\"\")","v":0},{"$f":"IF('集計（返し）'!$N4<>\"\",'集計（返し）'!E4,\"\")","v":0},null,{"$f":"IF('集計（返し）'!$N4<>\"\",'集計（返し）'!F4,\"\")","v":0},{"$f":"IF('集計（返し）'!$N4<>\"\",'集計（返し）'!G4,\"\")","v":0},null,{"$f":"IF('集計（返し）'!$N4<>\"\",'集計（返し）'!H4,\"\")","v":0},null,{"$f":"IF('集計（返し）'!$N4<>\"\",'集計（返し）'!I4,\"\")","v":0},null,null,"（",{"$f":"IF('集計（返し）'!$N4<>\"\",'集計（返し）'!N4,\"\")","v":"A"},"）",{"$f":"IF('集計（返し）'!$N4<>\"\",'集計（返し）'!K4,\"\")","v":0},null,null,"（",{"$f":"IF('集計（返し）'!$N4<>\"\",'集計（返し）'!L4,\"\")","v":0},null,"）",{"$f":"IF('集計（返し）'!$N4<>\"\",'集計（返し）'!M4,\"\")","v":0},null,{"$f":"IF(OR(AB19=\"\",AB19=0),1,\"\")","v":""},{"$f":"IF(OR(AE19=\"\",AE19=0),1,\"\")","v":""},null,"嗚呼",null,null,"唖"]
[null,null,{"$f":"IF('集計（返し）'!$N4<>\"\",'集計（返し）'!D4,\"\")","v":0}]
[null,{"$f":"IF('集計（返し）'!$N5<>\"\",'集計（返し）'!C5,\"\")","v":""},{"$f":"IF('集計（返し）'!$N5<>\"\",'集計（返し）'!E5,\"\")","v":""},null,{"$f":"IF('集計（返し）'!$N5<>\"\",'集計（返し）'!F5,\"\")","v":""},{"$f":"IF('集計（返し）'!$N5<>\"\",'集計（返し）'!G5,\"\")","v":""},null,{"$f":"IF('集計（返し）'!$N5<>\"\",'集計（返し）'!H5,\"\")","v":""},null,{"$f":"IF('集計（返し）'!$N5<>\"\",'集計（返し）'!I5,\"\")","v":""},null,null,"（",{"$f":"IF('集計（返し）'!$N5<>\"\",'集計（返し）'!N5,\"\")","v":""},"）",{"$f":"IF('集計（返し）'!$N5<>\"\",'集計（返し）'!K5,\"\")","v":""},null,null,"（",{"$f":"IF('集計（返し）'!$N5<>\"\",'集計（返し）'!L5,\"\")","v":""},null,"）",{"$f":"IF('集計（返し）'!$N5<>\"\",'集計（返し）'!M5,\"\")","v":""},null,{"$f":"IF(OR(AB21=\"\",AB21=0),1,\"\")","v":1},{"$f":"IF(OR(AE21=\"\",AE21=0),1,\"\")","v":1},null,"",null,null,""]
[null,null,{"$f":"IF('集計（返し）'!$N5<>\"\",'集計（返し）'!D5,\"\")","v":""}]
[null,{"$f":"IF('集計（返し）'!$N6<>\"\",'集計（返し）'!C6,\"\")","v":0},{"$f":"IF('集計（返し）'!$N6<>\"\",'集計（返し）'!E6,\"\")","v":0},null,{"$f":"IF('集計（返し）'!$N6<>\"\",'集計（返し）'!F6,\"\")","v":0},{"$f":"IF('集計（返し）'!$N6<>\"\",'集計（返し）'!G6,\"\")","v":0},null,{"$f":"IF('集計（返し）'!$N6<>\"\",'集計（返し）'!H6,\"\")","v":0},null,{"$f":"IF('集計（返し）'!$N6<>\"\",'集計（返し）'!I6,\"\")","v":0},null,null,"（",{"$f":"IF('集計（返し）'!$N6<>\"\",'集計（返し）'!N6,\"\")","v":"A"},"）",{"$f":"IF('集計（返し）'!$N6<>\"\",'集計（返し）'!K6,\"\")","v":0},null,null,"（",{"$f":"IF('集計（返し）'!$N6<>\"\",'集計（返し）'!L6,\"\")","v":0},null,"）",{"$f":"IF('集計（返し）'!$N6<>\"\",'集計（返し）'!M6,\"\")","v":0},null,{"$f":"IF(OR(AB23=\"\",AB23=0),1,\"\")","v":""},{"$f":"IF(OR(AE23=\"\",AE23=0),1,\"\")","v":""},null,"打卯卯",null,null,"打卯"]
[null,null,{"$f":"IF('集計（返し）'!$N6<>\"\",'集計（返し）'!D6,\"\")","v":0}]
[null,{"$f":"IF('集計（返し）'!$N7<>\"\",'集計（返し）'!C7,\"\")","v":""},{"$f":"IF('集計（返し）'!$N7<>\"\",'集計（返し）'!E7,\"\")","v":""},null,{"$f":"IF('集計（返し）'!$N7<>\"\",'集計（返し）'!F7,\"\")","v":""},{"$f":"IF('集計（返し）'!$N7<>\"\",'集計（返し）'!G7,\"\")","v":""},null,{"$f":"IF('集計（返し）'!$N7<>\"\",'集計（返し）'!H7,\"\")","v":""},null,{"$f":"IF('集計（返し）'!$N7<>\"\",'集計（返し）'!I7,\"\")","v":""},null,null,"（",{"$f":"IF('集計（返し）'!$N7<>\"\",'集計（返し）'!N7,\"\")","v":""},"）",{"$f":"IF('集計（返し）'!$N7<>\"\",'集計（返し）'!K7,\"\")","v":""},null,null,"（",{"$f":"IF('集計（返し）'!$N7<>\"\",'集計（返し）'!L7,\"\")","v":""},null,"）",{"$f":"IF('集計（返し）'!$N7<>\"\",'集計（返し）'!M7,\"\")","v":""},null,{"$f":"IF(OR(AB25=\"\",AB25=0),1,\"\")","v":1},{"$f":"IF(OR(AE25=\"\",AE25=0),1,\"\")","v":1},null,"",null,null,""]
[null,null,{"$f":"IF('集計（返し）'!$N7<>\"\",'集計（返し）'!D7,\"\")","v":""}]
[null,{"$f":"IF('集計（返し）'!$N8<>\"\",'集計（返し）'!C8,\"\")","v":0},{"$f":"IF('集計（返し）'!$N8<>\"\",'集計（返し）'!E8,\"\")","v":0},null,{"$f":"IF('集計（返し）'!$N8<>\"\",'集計（返し）'!F8,\"\")","v":0},{"$f":"IF('集計（返し）'!$N8<>\"\",'集計（返し）'!G8,\"\")","v":0},null,{"$f":"IF('集計（返し）'!$N8<>\"\",'集計（返し）'!H8,\"\")","v":0},null,{"$f":"IF('集計（返し）'!$N8<>\"\",'集計（返し）'!I8,\"\")","v":0},null,null,"（",{"$f":"IF('集計（返し）'!$N8<>\"\",'集計（返し）'!N8,\"\")","v":"A"},"）",{"$f":"IF('集計（返し）'!$N8<>\"\",'集計（返し）'!K8,\"\")","v":0},null,null,"（",{"$f":"IF('集計（返し）'!$N8<>\"\",'集計（返し）'!L8,\"\")","v":0},null,"）",{"$f":"IF('集計（返し）'!$N8<>\"\",'集計（返し）'!M8,\"\")","v":0},null,{"$f":"IF(OR(AB27=\"\",AB27=0),1,\"\")","v":""},{"$f":"IF(OR(AE27=\"\",AE27=0),1,\"\")","v":""},null,"太田",null,null,"傀お"]
[null,null,{"$f":"IF('集計（返し）'!$N8<>\"\",'集計（返し）'!D8,\"\")","v":0}]
[null,{"$f":"IF('集計（返し）'!$N9<>\"\",'集計（返し）'!C9,\"\")","v":""},{"$f":"IF('集計（返し）'!$N9<>\"\",'集計（返し）'!E9,\"\")","v":""},null,{"$f":"IF('集計（返し）'!$N9<>\"\",'集計（返し）'!F9,\"\")","v":""},{"$f":"IF('集計（返し）'!$N9<>\"\",'集計（返し）'!G9,\"\")","v":""},null,{"$f":"IF('集計（返し）'!$N9<>\"\",'集計（返し）'!H9,\"\")","v":""},null,{"$f":"IF('集計（返し）'!$N9<>\"\",'集計（返し）'!I9,\"\")","v":""},null,null,"（",{"$f":"IF('集計（返し）'!$N9<>\"\",'集計（返し）'!N9,\"\")","v":""},"）",{"$f":"IF('集計（返し）'!$N9<>\"\",'集計（返し）'!K9,\"\")","v":""},null,null,"（",{"$f":"IF('集計（返し）'!$N9<>\"\",'集計（返し）'!L9,\"\")","v":""},null,"）",{"$f":"IF('集計（返し）'!$N9<>\"\",'集計（返し）'!M9,\"\")","v":""},null,{"$f":"IF(OR(AB29=\"\",AB29=0),1,\"\")","v":1},{"$f":"IF(OR(AE29=\"\",AE29=0),1,\"\")","v":1},null,"",null,null,""]
[null,null,{"$f":"IF('集計（返し）'!$N9<>\"\",'集計（返し）'!D9,\"\")","v":""}]
[]
[null,"②　中学校，総合支援学校（中学部）の教職員"]
[null,"教　職　員　の　氏　名",null,null,null,null,"参加生徒・保護者との関係 ／校務分掌",null,null,null,null,null,null,null,null,null,"参加人数"]
[null,{"$f":"IF('集計（返し）'!$N18<>\"\",'集計（返し）'!L18,\"\")","v":0},null,null,null,null,{"$f":"IF('集計（返し）'!$N18<>\"\",'集計（返し）'!M18,\"\")","v":0},null,null,null,null,null,null,null,null,null,null,"生　徒",null,{"$f":"COUNTIFS(B19:B30,\"３年\")+COUNTIFS(B19:B30,\"過年度\")","v":0},null,"名"]
[null,{"$f":"IF('集計（返し）'!$N19<>\"\",'集計（返し）'!L19,\"\")","v":""},null,null,null,null,{"$f":"IF('集計（返し）'!$N19<>\"\",'集計（返し）'!M19,\"\")","v":""},null,null,null,null,null,null,null,null,null,null,"保護者",null,{"$f":"12-SUM(Y19:Z30)","v":6},null,"名"]
[null,{"$f":"IF('集計（返し）'!$N20<>\"\",'集計（返し）'!L20,\"\")","v":0},null,null,null,null,{"$f":"IF('集計（返し）'!$N20<>\"\",'集計（返し）'!M20,\"\")","v":0},null,null,null,null,null,null,null,null,null,null,"教職員",null,{"$f":"3-Y36","v":2},null,"名",null,null,{"$f":"COUNTBLANK(B34:B36)","v":1}]
[null,null,null,null,null,null,null,null,null,null,null,null,null,null,null,null,null,"合　計",null,{"$f":"SUM(T34:U36)","v":8},null,"名"]
[null,"③　日　程"]
[null,"　　９：００～　９：２０　　受　付\n　　９：２０～　９：５０　　ガイダンス（教育内容の説明等）\n　１０：００～１１：５５　　見学・体験（専門教科の見学・体験）\n（１０：００～１１：５５　　個別の相談（要事前申込））　　\n　１２：００～１２：２５    キャリアアドバイス（学習の振返り）　　　"]
[null,"　※本校は、２足制になっています。必ず上靴をご持参ください。\n　※遅刻・不参加の場合は、中学校・中学部から東山総合（０７５‐５６１‐３３７３）へ連絡してください。\n　※体調不良の場合は、参加の自粛をお願いします。\n　※発熱等の症状が見られた場合、参加を見合わせていただくことがあります。"]

{"sheet":"不参加","index":2,"n_rows":36,"n_cols":27,"rows_kept":36,"cut":false,"hidden":true,"merged":[[22,5,23,6],[22,7,23,8],[22,9,23,11],[22,12,23,12],[24,19,25,20],[24,21,25,21],[35,1,35,5],[35,6,35,14],[28,21,29,21],[34,1,34,5],[34,6,34,14],[28,22,29,23],[29,2,29,3],[32,1,32,5],[32,6,32,14],[33,1,33,5],[33,6,33,14],[28,12,29,12],[28,13,29,13],[28,1,29,1],[28,2,28,3],[28,4,29,4],[28,5,29,6],[28,7,29,8],[28,9,29,11],[28,14,29,14],[24,22,25,23],[22,22,23,23],[22,14,23,14],[22,15,23,17],[22,18,23,18],[22,19,23,20],[22,21,23,21],[26,14,27,14],[26,1,27,1],[26,9,27,11],[26,12,27,12],[24,14,25,14],[24,12,25,12],[24,13,25,13],[26,13,27,13],[27,2,27,3],[26,21,27,21],[26,22,27,23],[26,15,27,17],[26,18,27,18],[24,15,25,17],[22,1,23,1],[22,2,22,3],[22,4,23,4],[20,1,21,1],[20,2,20,3],[20,4,21,4],[20,5,21,6],[20,7,21,8],[20,9,21,11],[23,2,23,3],[22,13,23,13],[28,19,29,20],[26,19,27,20],[26,2,26,3],[26,4,27,4],[26,5,27,6],[26,7,27,8],[25,2,25,3],[24,18,25,18],[28,15,29,17],[28,18,29,18],[24,1,25,1],[24,2,24,3],[24,4,25,4],[24,5,25,6],[24,7,25,8],[24,9,25,11],[20,21,21,21],[20,22,21,23],[21,2,21,3],[20,14,21,14],[20,15,21,17],[20,18,21,18],[20,19,21,20],[20,12,21,12],[20,13,21,13],[18,21,19,21],[18,22,19,23],[19,2,19,3],[18,14,19,14],[18,15,19,17],[18,18,19,18],[10,3,12,9],[16,1,17,1],[16,2,16,3],[16,4,17,4],[16,5,17,6],[16,7,17,8],[16,9,16,14],[18,9,19,11],[18,12,19,12],[18,13,19,13],[18,1,19,1],[18,2,18,3],[18,4,19,4],[18,5,19,6],[18,7,19,8],[18,19,19,20],[3,17,3,23],[4,17,4,23],[0,18,0,23],[5,1,5,23],[16,15,16,21],[16,22,17,23],[17,2,17,3],[17,9,17,14],[17,15,17,21],[7,1,7,23]]}
[null,null,null,null,null,null,null,null,null,null,null,null,null,null,null,null,null,null,{"$f":"'集計（返し）'!M1","v":"2024-05-20"},null,null,null,null,null,null,null,{"$f":"AA2&\"OC3確定書(東山総合)\"&D11","v":"OC3確定書(東山総合)0"}]
[null,"（あて先）",null,{"$f":"申込シート!R9&\" 学校長様\"","v":" 学校長様"},null,null,null,null,null,null,null,null,null,null,null,null,null,null,null,null,null,null,null,null,null,null,{"$f":"LEFT(D2,FIND(\" \",D2)-1)","v":""}]
[]
[null,null,null,null,null,null,null,null,null,null,null,null,null,null,null,null,null,"京都市立東山総合支援学校"]
[null,null,null,null,null,null,null,null,null,null,null,null,null,null,null,null,null,"OC担当 副教頭 佐々木 幹雄"]
[null,"令和６年度\n　　　　　　東山総合支援学校オープンキャンパスについて"]
[]
[null,"　京都市立東山総合支援学校におけるオープンキャンパスへの参加について、以下のように決定いたしましたのでお知らせいたします。\n　申し訳けありませんが、定員と参加回数の少ない人を優先にさせていただきましたので、下記の方々にはご希望に添えることができませんでした。"]
[]
[null,"１　希望日"]
[null,null,null,{"$f":"申込シート!D16","v":"00:00:00"}]
[]
[]
[]
[null,"２　希望者"]
[null,"①　高等部卒業後企業就職を希望する中学３年生又は過年度卒業生及び保護者、家族"]
[null,"学年等","ふりがな（上段）",null,"性別","在籍\n学級",null,"参加\n回数",null,"参加保護者名",null,null,null,null,null,"参加保護者名",null,null,null,null,null,null,"個別相談希望の有無"]
[null,null,"参加生徒名（下段）",null,null,null,null,null,null,"（生徒との関係）",null,null,null,null,null,"（生徒との関係）"]
[null,{"$f":"IF('集計（返し）'!$O4<>\"\",'集計（返し）'!C4,\"\")","v":""},{"$f":"IF('集計（返し）'!$O4<>\"\",'集計（返し）'!E4,\"\")","v":""},{"$f":"申込シート!D24","v":0},{"$f":"IF('集計（返し）'!$O4<>\"\",'集計（返し）'!F4,\"\")","v":""},{"$f":"IF('集計（返し）'!$O4<>\"\",'集計（返し）'!G4,\"\")","v":""},{"$f":"申込シート!G24","v":0},{"$f":"IF('集計（返し）'!$O4<>\"\",'集計（返し）'!H4,\"\")","v":""},{"$f":"申込シート!I24","v":0},{"$f":"IF('集計（返し）'!$O4<>\"\",'集計（返し）'!I4,\"\")","v":""},{"$f":"申込シート!K24","v":0},{"$f":"申込シート!L24","v":0},"（",{"$f":"IF('集計（返し）'!$O4<>\"\",'集計（返し）'!J4,\"\")","v":""},"）",{"$f":"IF('集計（返し）'!$O4<>\"\",'集計（返し）'!K4,\"\")","v":""},{"$f":"申込シート!Q24","v":0},{"$f":"申込シート!R24","v":0},"（",{"$f":"IF('集計（返し）'!$O4<>\"\",'集計（返し）'!L4,\"\")","v":""},{"$f":"申込シート!U24","v":0},"）",{"$f":"IF('集計（返し）'!$O4<>\"\",'集計（返し）'!M4,\"\")","v":""},{"$f":"申込シート!X24","v":0}]
[null,null,{"$f":"IF('集計（返し）'!$O4<>\"\",'集計（返し）'!D4,\"\")","v":""}]
[null,{"$f":"IF('集計（返し）'!$O5<>\"\",'集計（返し）'!C5,\"\")","v":0},{"$f":"IF('集計（返し）'!$O5<>\"\",'集計（返し）'!E5,\"\")","v":0},{"$f":"申込シート!D26","v":0},{"$f":"IF('集計（返し）'!$O5<>\"\",'集計（返し）'!F5,\"\")","v":0},{"$f":"IF('集計（返し）'!$O5<>\"\",'集計（返し）'!G5,\"\")","v":0},{"$f":"申込シート!G26","v":0},{"$f":"IF('集計（返し）'!$O5<>\"\",'集計（返し）'!H5,\"\")","v":0},{"$f":"申込シート!I26","v":0},{"$f":"IF('集計（返し）'!$O5<>\"\",'集計（返し）'!I5,\"\")","v":0},{"$f":"申込シート!K26","v":0},{"$f":"申込シート!L26","v":0},"（",{"$f":"IF('集計（返し）'!$O5<>\"\",'集計（返し）'!J5,\"\")","v":0},"）",{"$f":"IF('集計（返し）'!$O5<>\"\",'集計（返し）'!K5,\"\")","v":0},{"$f":"申込シート!Q26","v":0},{"$f":"申込シート!R26","v":0},"（",{"$f":"IF('集計（返し）'!$O5<>\"\",'集計（返し）'!L5,\"\")","v":0},{"$f":"申込シート!U26","v":0},"）",{"$f":"IF('集計（返し）'!$O5<>\"\",'集計（返し）'!M5,\"\")","v":0},{"$f":"申込シート!X26","v":0}]
[null,null,{"$f":"IF('集計（返し）'!$O5<>\"\",'集計（返し）'!D5,\"\")","v":0}]
[null,{"$f":"IF('集計（返し）'!$O6<>\"\",'集計（返し）'!C6,\"\")","v":""},{"$f":"IF('集計（返し）'!$O6<>\"\",'集計（返し）'!E6,\"\")","v":""},{"$f":"申込シート!D28","v":0},{"$f":"IF('集計（返し）'!$O6<>\"\",'集計（返し）'!F6,\"\")","v":""},{"$f":"IF('集計（返し）'!$O6<>\"\",'集計（返し）'!G6,\"\")","v":""},{"$f":"申込シート!G28","v":0},{"$f":"IF('集計（返し）'!$O6<>\"\",'集計（返し）'!H6,\"\")","v":""},{"$f":"申込シート!I28","v":0},{"$f":"IF('集計（返し）'!$O6<>\"\",'集計（返し）'!I6,\"\")","v":""},{"$f":"申込シート!K28","v":0},{"$f":"申込シート!L28","v":0},"（",{"$f":"IF('集計（返し）'!$O6<>\"\",'集計（返し）'!J6,\"\")","v":""},"）",{"$f":"IF('集計（返し）'!$O6<>\"\",'集計（返し）'!K6,\"\")","v":""},{"$f":"申込シート!Q28","v":0},{"$f":"申込シート!R28","v":0},"（",{"$f":"IF('集計（返し）'!$O6<>\"\",'集計（返し）'!L6,\"\")","v":""},{"$f":"申込シート!U28","v":0},"）",{"$f":"IF('集計（返し）'!$O6<>\"\",'集計（返し）'!M6,\"\")","v":""},{"$f":"申込シート!X28","v":0}]
[null,null,{"$f":"IF('集計（返し）'!$O6<>\"\",'集計（返し）'!D6,\"\")","v":""}]
[null,{"$f":"IF('集計（返し）'!$O7<>\"\",'集計（返し）'!C7,\"\")","v":0},{"$f":"IF('集計（返し）'!$O7<>\"\",'集計（返し）'!E7,\"\")","v":0},{"$f":"申込シート!D30","v":0},{"$f":"IF('集計（返し）'!$O7<>\"\",'集計（返し）'!F7,\"\")","v":0},{"$f":"IF('集計（返し）'!$O7<>\"\",'集計（返し）'!G7,\"\")","v":0},{"$f":"申込シート!G30","v":0},{"$f":"IF('集計（返し）'!$O7<>\"\",'集計（返し）'!H7,\"\")","v":0},{"$f":"申込シート!I30","v":0},{"$f":"IF('集計（返し）'!$O7<>\"\",'集計（返し）'!I7,\"\")","v":0},{"$f":"申込シート!K30","v":0},{"$f":"申込シート!L30","v":0},"（",{"$f":"IF('集計（返し）'!$O7<>\"\",'集計（返し）'!J7,\"\")","v":0},"）",{"$f":"IF('集計（返し）'!$O7<>\"\",'集計（返し）'!K7,\"\")","v":0},{"$f":"申込シート!Q30","v":0},{"$f":"申込シート!R30","v":0},"（",{"$f":"IF('集計（返し）'!$O7<>\"\",'集計（返し）'!L7,\"\")","v":0},{"$f":"申込シート!U30","v":0},"）",{"$f":"IF('集計（返し）'!$O7<>\"\",'集計（返し）'!M7,\"\")","v":0},{"$f":"申込シート!X30","v":0}]
[null,null,{"$f":"IF('集計（返し）'!$O7<>\"\",'集計（返し）'!D7,\"\")","v":0}]
[null,{"$f":"IF('集計（返し）'!$O8<>\"\",'集計（返し）'!C8,\"\")","v":""},{"$f":"IF('集計（返し）'!$O8<>\"\",'集計（返し）'!E8,\"\")","v":""},{"$f":"申込シート!D32","v":0},{"$f":"IF('集計（返し）'!$O8<>\"\",'集計（返し）'!F8,\"\")","v":""},{"$f":"IF('集計（返し）'!$O8<>\"\",'集計（返し）'!G8,\"\")","v":""},{"$f":"申込シート!G32","v":0},{"$f":"IF('集計（返し）'!$O8<>\"\",'集計（返し）'!H8,\"\")","v":""},{"$f":"申込シート!I32","v":0},{"$f":"IF('集計（返し）'!$O8<>\"\",'集計（返し）'!I8,\"\")","v":""},{"$f":"申込シート!K32","v":0},{"$f":"申込シート!L32","v":0},"（",{"$f":"IF('集計（返し）'!$O8<>\"\",'集計（返し）'!J8,\"\")","v":""},"）",{"$f":"IF('集計（返し）'!$O8<>\"\",'集計（返し）'!K8,\"\")","v":""},{"$f":"申込シート!Q32","v":0},{"$f":"申込シート!R32","v":0},"（",{"$f":"IF('集計（返し）'!$O8<>\"\",'集計（返し）'!L8,\"\")","v":""},{"$f":"申込シート!U32","v":0},"）",{"$f":"IF('集計（返し）'!$O8<>\"\",'集計（返し）'!M8,\"\")","v":""},{"$f":"申込シート!X32","v":0}]
[null,null,{"$f":"IF('集計（返し）'!$O8<>\"\",'集計（返し）'!D8,\"\")","v":""}]
[null,{"$f":"IF('集計（返し）'!$O9<>\"\",'集計（返し）'!C9,\"\")","v":0},{"$f":"IF('集計（返し）'!$O9<>\"\",'集計（返し）'!E9,\"\")","v":0},{"$f":"申込シート!D34","v":0},{"$f":"IF('集計（返し）'!$O9<>\"\",'集計（返し）'!F9,\"\")","v":0},{"$f":"IF('集計（返し）'!$O9<>\"\",'集計（返し）'!G9,\"\")","v":0},{"$f":"申込シート!G34","v":0},{"$f":"IF('集計（返し）'!$O9<>\"\",'集計（返し）'!H9,\"\")","v":0},{"$f":"申込シート!I34","v":0},{"$f":"IF('集計（返し）'!$O9<>\"\",'集計（返し）'!I9,\"\")","v":0},{"$f":"申込シート!K34","v":0},{"$f":"申込シート!L34","v":0},"（",{"$f":"IF('集計（返し）'!$O9<>\"\",'集計（返し）'!J9,\"\")","v":0},"）",{"$f":"IF('集計（返し）'!$O9<>\"\",'集計（返し）'!K9,\"\")","v":0},{"$f":"申込シート!Q34","v":0},{"$f":"申込シート!R34","v":0},"（",{"$f":"IF('集計（返し）'!$O9<>\"\",'集計（返し）'!L9,\"\")","v":0},{"$f":"申込シート!U34","v":0},"）",{"$f":"IF('集計（返し）'!$O9<>\"\",'集計（返し）'!M9,\"\")","v":0},{"$f":"申込シート!X34","v":0}]
[null,null,{"$f":"IF('集計（返し）'!$O9<>\"\",'集計（返し）'!D9,\"\")","v":0}]
[]
[null,"②　中学校，総合支援学校（中学部）の教職員"]
[null,"教　職　員　の　氏　名",null,null,null,null,"参加生徒・保護者との関係 ／校務分掌"]
[null,{"$f":"IF('集計（返し）'!$O18<>\"\",'集計（返し）'!L18,\"\")","v":""},null,null,null,null,{"$f":"IF('集計（返し）'!$O18<>\"\",'集計（返し）'!M18,\"\")","v":""}]
[null,{"$f":"IF('集計（返し）'!$O19<>\"\",'集計（返し）'!L19,\"\")","v":0},null,null,null,null,{"$f":"IF('集計（返し）'!$O19<>\"\",'集計（返し）'!M19,\"\")","v":0}]
[null,{"$f":"IF('集計（返し）'!$O20<>\"\",'集計（返し）'!L20,\"\")","v":""},null,null,null,null,{"$f":"IF('集計（返し）'!$O20<>\"\",'集計（返し）'!M20,\"\")","v":""}]

{"sheet":"集計（一覧表）","index":3,"n_rows":9,"n_cols":19,"rows_kept":9,"cut":false,"hidden":true,"merged":[[0,11,0,14],[0,1,0,6]]}
[null,"オープンキャンパス集計表（３年）",null,null,null,null,null,{"$f":"申込シート!D16","v":0},null,null,null,null,null,null,null,null,null,{"$f":"申込シート!R9","v":0}]
[null,null,null,null,null,null,null,null,null,null,null,null,null,null,null,null,null,{"$f":"LEFT(R1,LEN(R1)-2)","v":{"$error":"#VALUE!"}}]
[null,"学校名","学年","氏名","ふりがな","性別","在籍","参加回数","保護者１","関係","保護者２","関係","個別相談","参加","不参加","教職員","関係","参加","不参加"]
[null,{"$f":"R2","v":{"$error":"#VALUE!"}},{"$f":"申込シート!B24","v":0},{"$f":"申込シート!C25","v":0},{"$f":"申込シート!C24","v":0},{"$f":"申込シート!E24","v":0},{"$f":"申込シート!F24","v":0},{"$f":"申込シート!H24","v":0},{"$f":"申込シート!J24","v":0},{"$f":"申込シート!N24","v":0},{"$f":"申込シート!P24","v":0},{"$f":"申込シート!T24","v":0},{"$f":"申込シート!W24","v":0},{"$f":"'集計（返し）'!N4","v":"A"},{"$f":"'集計（返し）'!O4","v":0},{"$f":"'集計（返し）'!L18","v":0},{"$f":"'集計（返し）'!M18","v":0},{"$f":"'集計（返し）'!N18","v":"A"},{"$f":"'集計（返し）'!O18","v":0}]
[null,{"$f":"IF(C5=0,\"\",$B$4)","v":""},{"$f":"申込シート!B26","v":0},{"$f":"申込シート!C27","v":0},{"$f":"申込シート!C26","v":0},{"$f":"申込シート!E26","v":0},{"$f":"申込シート!F26","v":0},{"$f":"申込シート!H26","v":0},{"$f":"申込シート!J26","v":0},{"$f":"申込シート!N26","v":0},{"$f":"申込シート!P26","v":0},{"$f":"申込シート!T26","v":0},{"$f":"申込シート!W26","v":0},{"$f":"'集計（返し）'!N5","v":0},{"$f":"'集計（返し）'!O5","v":"A"},{"$f":"'集計（返し）'!L19","v":0},{"$f":"'集計（返し）'!M19","v":0},{"$f":"'集計（返し）'!N19","v":0},{"$f":"'集計（返し）'!O19","v":"A"}]
[null,{"$f":"IF(C6=0,\"\",$B$4)","v":""},{"$f":"申込シート!B28","v":0},{"$f":"申込シート!C29","v":0},{"$f":"申込シート!C28","v":0},{"$f":"申込シート!E28","v":0},{"$f":"申込シート!F28","v":0},{"$f":"申込シート!H28","v":0},{"$f":"申込シート!J28","v":0},{"$f":"申込シート!N28","v":0},{"$f":"申込シート!P28","v":0},{"$f":"申込シート!T28","v":0},{"$f":"申込シート!W28","v":0},{"$f":"'集計（返し）'!N6","v":"A"},{"$f":"'集計（返し）'!O6","v":0},{"$f":"'集計（返し）'!L20","v":0},{"$f":"'集計（返し）'!M20","v":0},{"$f":"'集計（返し）'!N20","v":"A"},{"$f":"'集計（返し）'!O20","v":0}]
[null,"",{"$f":"申込シート!B30","v":0},{"$f":"申込シート!C31","v":0},{"$f":"申込シート!C30","v":0},{"$f":"申込シート!E30","v":0},{"$f":"申込シート!F30","v":0},{"$f":"申込シート!H30","v":0},{"$f":"申込シート!J30","v":0},{"$f":"申込シート!N30","v":0},{"$f":"申込シート!P30","v":0},{"$f":"申込シート!T30","v":0},{"$f":"申込シート!W30","v":0},{"$f":"'集計（返し）'!N7","v":0},{"$f":"'集計（返し）'!O7","v":"A"}]
[null,"",{"$f":"申込シート!B32","v":0},{"$f":"申込シート!C33","v":0},{"$f":"申込シート!C32","v":0},{"$f":"申込シート!E32","v":0},{"$f":"申込シート!F32","v":0},{"$f":"申込シート!H32","v":0},{"$f":"申込シート!J32","v":0},{"$f":"申込シート!N32","v":0},{"$f":"申込シート!P32","v":0},{"$f":"申込シート!T32","v":0},{"$f":"申込シート!W32","v":0},{"$f":"'集計（返し）'!N8","v":"A"},{"$f":"'集計（返し）'!O8","v":0}]
[null,"",{"$f":"申込シート!B34","v":0},{"$f":"申込シート!C35","v":0},{"$f":"申込シート!C34","v":0},{"$f":"申込シート!E34","v":0},{"$f":"申込シート!F34","v":0},{"$f":"申込シート!H34","v":0},{"$f":"申込シート!J34","v":0},{"$f":"申込シート!N34","v":0},{"$f":"申込シート!P34","v":0},{"$f":"申込シート!T34","v":0},{"$f":"申込シート!W34","v":0},{"$f":"'集計（返し）'!N9","v":0},{"$f":"'集計（返し）'!O9","v":"A"}]

{"sheet":"集計（返し）","index":4,"n_rows":20,"n_cols":30,"rows_kept":20,"cut":false,"hidden":true,"merged":[[0,12,0,15],[0,1,0,6]]}
[null,"オープンキャンパス集計表（３年）",null,null,null,null,null,{"$f":"申込シート!D16","v":0},null,null,null,"返し日→",{"$f":"TODAY()","v":"2024-05-20"},null,null,null,null,{"$f":"申込シート!R9","v":0}]
[null,null,null,null,null,null,null,null,null,null,null,null,null,null,null,null,null,{"$f":"LEFT(R1,LEN(R1)-2)","v":{"$error":"#VALUE!"}}]
[null,"学校名","学年","氏名","ふりがな","性別","在籍","参加回数","保護者１","関係","保護者２","関係","個別相談","参加","不参加"]
[null,{"$f":"R2","v":{"$error":"#VALUE!"}},{"$f":"申込シート!B24","v":0},{"$f":"申込シート!C25","v":0},{"$f":"申込シート!C24","v":0},{"$f":"申込シート!E24","v":0},{"$f":"申込シート!F24","v":0},{"$f":"申込シート!H24","v":0},{"$f":"申込シート!J24","v":0},{"$f":"申込シート!N24","v":0},{"$f":"申込シート!P24","v":0},{"$f":"申込シート!T24","v":0},{"$f":"申込シート!W24","v":0},"A"]
[null,{"$f":"IF(C5=0,\"\",$B$4)","v":""},{"$f":"申込シート!B26","v":0},{"$f":"申込シート!C27","v":0},{"$f":"申込シート!C26","v":0},{"$f":"申込シート!E26","v":0},{"$f":"申込シート!F26","v":0},{"$f":"申込シート!H26","v":0},{"$f":"申込シート!J26","v":0},{"$f":"申込シート!N26","v":0},{"$f":"申込シート!P26","v":0},{"$f":"申込シート!T26","v":0},{"$f":"申込シート!W26","v":0},null,"A"]
[null,{"$f":"IF(C6=0,\"\",$B$4)","v":""},{"$f":"申込シート!B28","v":0},{"$f":"申込シート!C29","v":0},{"$f":"申込シート!C28","v":0},{"$f":"申込シート!E28","v":0},{"$f":"申込シート!F28","v":0},{"$f":"申込シート!H28","v":0},{"$f":"申込シート!J28","v":0},{"$f":"申込シート!N28","v":0},{"$f":"申込シート!P28","v":0},{"$f":"申込シート!T28","v":0},{"$f":"申込シート!W28","v":0},"A"]
[null,"",{"$f":"申込シート!B30","v":0},{"$f":"申込シート!C31","v":0},{"$f":"申込シート!C30","v":0},{"$f":"申込シート!E30","v":0},{"$f":"申込シート!F30","v":0},{"$f":"申込シート!H30","v":0},{"$f":"申込シート!J30","v":0},{"$f":"申込シート!N30","v":0},{"$f":"申込シート!P30","v":0},{"$f":"申込シート!T30","v":0},{"$f":"申込シート!W30","v":0},null,"A"]
[null,"",{"$f":"申込シート!B32","v":0},{"$f":"申込シート!C33","v":0},{"$f":"申込シート!C32","v":0},{"$f":"申込シート!E32","v":0},{"$f":"申込シート!F32","v":0},{"$f":"申込シート!H32","v":0},{"$f":"申込シート!J32","v":0},{"$f":"申込シート!N32","v":0},{"$f":"申込シート!P32","v":0},{"$f":"申込シート!T32","v":0},{"$f":"申込シート!W32","v":0},"A"]
[null,"",{"$f":"申込シート!B34","v":0},{"$f":"申込シート!C35","v":0},{"$f":"申込シート!C34","v":0},{"$f":"申込シート!E34","v":0},{"$f":"申込シート!F34","v":0},{"$f":"申込シート!H34","v":0},{"$f":"申込シート!J34","v":0},{"$f":"申込シート!N34","v":0},{"$f":"申込シート!P34","v":0},{"$f":"申込シート!T34","v":0},{"$f":"申込シート!W34","v":0},null,"A"]
[]
[]
[]
[]
[]
[]
[]
[null,null,null,null,null,null,null,null,null,null,null,"教職員","関係","参加","不参加"]
[null,null,null,null,null,null,null,null,null,null,null,{"$f":"申込シート!B39","v":0},{"$f":"申込シート!G39","v":0},"A"]
[null,null,null,null,null,null,null,null,null,null,null,{"$f":"申込シート!B40","v":0},{"$f":"申込シート!G40","v":0},null,"A",null,null,null,null,null,null,null,null,null,null,null,null,null,null,0]
[null,null,null,null,null,null,null,null,null,null,null,{"$f":"申込シート!B41","v":0},{"$f":"申込シート!G41","v":0},"A",null,null,null,null,null,null,null,null,null,null,null,null,null,null,null,0]