{"text_format":"1","workbook":"xlsx","n_sheets":4,"sheets":["申込シート","参加確認","集計","お断りシート"],"not_rendered":{"charts":0,"images":0,"macros":1,"external_links":0,"defined_names":2,"comments":0,"pivot_tables":0},"unopened":[],"bounds":{"document_bytes":16777216,"sheet_cells":100000,"rows_first":2000,"rows_last":500,"rows_between":2000,"halvings":0,"cell_chars":16384,"cell_head_chars":4096},"cells_cut":0,"cells_raw":0,"read":"whole","date_system":"1900"}

{"sheet":"申込シート","index":0,"n_rows":41,"n_cols":39,"rows_kept":41,"cut":false,"hidden":false,"merged":[[23,1,24,1],[29,2,29,3],[29,4,30,4],[23,9,24,11],[25,9,26,11],[25,1,26,1],[27,1,28,1],[31,19,32,20],[29,21,30,21],[25,15,26,17],[25,18,26,18],[25,21,26,21],[27,15,28,17],[27,18,28,18],[31,12,32,12],[25,13,26,13],[29,13,30,13],[31,4,32,4],[25,5,26,6],[27,5,28,6],[29,5,30,6],[31,5,32,6],[25,4,26,4],[27,4,28,4],[31,22,32,23],[29,14,30,14],[31,14,32,14],[25,7,26,8],[27,7,28,8],[25,14,26,14],[27,9,28,11],[27,12,28,12],[27,14,28,14],[27,13,28,13],[31,7,32,8],[31,13,32,13],[29,9,30,11],[31,9,32,11],[25,12,26,12],[29,12,30,12],[1,0,1,24],[4,16,4,18],[21,22,22,23],[21,2,21,3],[22,2,22,3],[24,2,24,3],[23,22,24,23],[23,19,24,20],[23,13,24,13],[23,2,23,3],[23,5,24,6],[23,7,24,8],[12,17,12,23],[10,17,10,23],[8,17,8,23],[23,12,24,12],[21,1,22,1],[8,8,8,9],[12,8,12,9],[21,4,22,4],[21,7,22,8],[21,9,21,14],[22,9,22,14],[23,14,24,14],[36,19,36,20],[37,19,37,20],[38,19,38,20],[39,19,39,20],[37,17,37,18],[38,17,38,18],[39,17,39,18],[40,1,44,23],[29,1,30,1],[31,1,32,1],[31,2,31,3],[32,2,32,3],[35,1,35,5],[36,1,36,5],[37,1,37,5],[38,1,38,5],[35,6,35,14],[36,6,36,14],[37,6,37,14],[38,6,38,14],[36,17,36,18],[31,15,32,17],[31,18,32,18],[31,21,32,21],[15,2,17,12],[25,22,26,23],[27,22,28,23],[29,22,30,23],[25,19,26,20],[27,19,28,20],[21,15,21,21],[22,15,22,21],[23,15,24,17],[23,18,24,18],[23,21,24,21],[29,15,30,17],[29,18,30,18],[27,21,28,21],[29,19,30,20],[26,2,26,3],[28,2,28,3],[30,2,30,3],[25,2,25,3],[27,2,27,3],[23,4,24,4],[21,5,22,6],[29,7,30,8]]}
[]
["令和５年度　白河総合支援学校\n　　学校見学会（中１・小６対象オープンキャンパス）参加申込シート（中１用）\n《京都市立以外の学校専用》",null,null,null,null,null,null,null,null,null,null,null,null,null,null,null,null,null,null,null,null,null,null,null,null,null,null,null,null,"リスト","9","1",null,"１０月１７日（火）　","１年","男","特別支援","１回目","あり"]
[null,null,null,null,null,null,null,null,null,null,null,null,null,null,null,null,null,null,null,null,null,null,null,null,null,null,null,null,null,null,"10","2",null,"１０月２５日（水）",null,"女","普通","２回目","なし"]
[null,"（あて先）京都市立白河総合支援学校　校長",null,null,null,null,null,null,null,null,null,null,null,null,null,null,null,null,null,null,null,null,null,null,null,null,null,null,null,null,null,"3",null,"１１月　１日（水）",null,null,null,"３回目"]
[null,null,null,null,null,null,null,null,null,null,null,null,null,null,null,null,"令和５",null,null,"年",null,"月",null,"日",null,null,null,null,null,null,null,"4"]
[null,null,null,null,null,null,null,null,null,null,null,null,null,null,null,null,null,null,null,null,null,null,null,null,null,null,null,null,null,null,null,"5"]
[null,null,null,null,null,null,null,null,null,null,null,null,null,null,null,null,null,null,null,null,null,null,null,null,null,null,null,null,null,null,null,"6"]
[null,null,null,null,null,null,null,null,null,null,null,null,null,null,null,null,null,null,null,null,null,null,null,null,null,null,null,null,null,null,null,"7"]
[null,null,null,null,null,null,null,null,null,null,null,null,null,null,null,"学校名",null,null,null,null,null,null,null,null,null,null,null,null,null,null,null,"8"]
[null,null,null,null,null,null,null,null,null,null,null,null,null,null,null,null,null,null,null,null,null,null,null,null,null,null,null,null,null,null,null,"9"]
[null,null,null,null,null,null,null,null,null,null,null,null,null,null,null,"電話番号",null,null,null,null,null,null,null,null,null,null,null,null,null,null,null,"10"]
[null,null,null,null,null,null,null,null,null,null,null,null,null,null,null,null,null,null,null,null,null,null,null,null,null,null,null,null,null,null,null,"11"]
[null,null,null,null,null,null,null,null,null,null,null,null,null,null,null,"記入者　",null,null,null,null,null,null,null,null,null,null,null,null,null,null,null,"12"]
[null,null,null,null,null,null,null,null,null,null,null,null,null,null,null,null,null,null,null,null,null,null,null,null,null,null,null,null,null,null,null,"13"]
[null,"１　希望日",null,null,null,null,null,null,null,null,null,null,null,null,null,null,null,null,null,null,null,null,null,null,null,null,null,null,null,null,null,"14"]
[null,null,null,null,null,null,null,null,null,null,null,null,null,null,null,null,null,null,null,null,null,null,null,null,null,null,null,null,null,null,null,"15"]
[null,null,null,null,null,null,null,null,null,null,null,null,null,null,null,null,null,null,null,null,null,null,null,null,null,null,null,null,null,null,null,"16"]
[null,null,null,null,null,null,null,null,null,null,null,null,null,null,null,null,null,null,null,null,null,null,null,null,null,null,null,null,null,null,null,"17"]
[null,null,null,null,null,null,null,null,null,null,null,null,null,null,null,null,null,null,null,null,null,null,null,null,null,null,null,null,null,null,null,"18"]
[null,"２　参加者",null,null,null,null,null,null,null,null,null,null,null,null,null,null,null,null,null,null,null,null,null,null,null,null,null,null,null,null,null,"19"]
[null,"①　中学１年生及び保護者、家族",null,null,null,null,null,null,null,null,null,null,null,null,null,null,null,null,null,null,null,null,null,null,null,null,null,null,null,null,null,"20"]
[null,"学年等","ふりがな（上段）",null,"男・女","在籍\n学級",null,"参加\n回数",null,"参加保護者名",null,null,null,null,null,"参加保護者名",null,null,null,null,null,null,null,null,null,null,null,null,null,null,null,"21"]
[null,null,"参加生徒名（下段）",null,null,null,null,null,null,"（生徒との関係）",null,null,null,null,null,"（生徒との関係）",null,null,null,null,null,null,null,null,null,null,null,null,null,null,null,"22"]
[null,"１年",null,null,null,null,null,null,null,null,null,null,"（",null,"）",null,null,null,"（",null,null,"）",null,null,null,null,null,null,null,null,null,"23"]
[null,null,null,null,null,null,null,null,null,null,null,null,null,null,null,null,null,null,null,null,null,null,null,null,null,null,null,null,null,null,null,"24"]
[null,"１年",null,null,null,null,null,null,null,null,null,null,"（",null,"）",null,null,null,"（",null,null,"）",null,null,null,null,null,null,null,null,null,"25"]
[null,null,null,null,null,null,null,null,null,null,null,null,null,null,null,null,null,null,null,null,null,null,null,null,null,null,null,null,null,null,null,"26"]
[null,"１年",null,null,null,null,null,null,null,null,null,null,"（",null,"）",null,null,null,"（",null,null,"）",null,null,null,null,null,null,null,null,null,"27"]
[null,null,null,null,null,null,null,null,null,null,null,null,null,null,null,null,null,null,null,null,null,null,null,null,null,null,null,null,null,null,null,"28"]
[null,"１年",null,null,null,null,null,null,null,null,null,null,"（",null,"）",null,null,null,"（",null,null,"）",null,null,null,null,null,null,null,null,null,"29"]
[null,null,null,null,null,null,null,null,null,null,null,null,null,null,null,null,null,null,null,null,null,null,null,null,null,null,null,null,null,null,null,"30"]
[null,"１年",null,null,null,null,null,null,null,null,null,null,"（",null,"）",null,null,null,"（",null,null,"）",null,null,null,null,null,null,null,null,null,"31"]
[]
[]
[null,"②　中学校、総合支援学校（中学部）の教職員"]
[null,"教　職　員　の　氏　名",null,null,null,null,"生徒・保護者との関係 ／校務分掌",null,null,null,null,null,null,null,null,null,"参加人数"]
[null,null,null,null,null,null,null,null,null,null,null,null,null,null,null,null,null,"生　徒",null,{"$f":"COUNTA(C25,C27,C29,C31,C33)","v":0},null,"名"]
[null,null,null,null,null,null,null,null,null,null,null,null,null,null,null,null,null,"保護者",null,{"$f":"COUNTA(J24,J26,J28,J30,J32,P24,P26,P28,P30,P32)","v":0},null,"名"]
[null,null,null,null,null,null,null,null,null,null,null,null,null,null,null,null,null,"教職員",null,{"$f":"COUNTA(B37:F39)","v":0},null,"名"]
[null,null,null,null,null,null,null,null,null,null,null,null,null,null,null,null,null,"合　計",null,{"$f":"SUM(T37:U39)","v":0},null,"名"]
[null,"\n○学校からの白河総合支援学校への申込締切日および時刻は、各実施日２週間前の同じ曜日の\n　午後５時です。\n○参加申込シートは、管理職の先生から電子メールにて、\n　白河総合支援学校 副教頭 植田 麻希 宛（E-mail : sf132-ueda@edu.city.kyoto.jp）\n　まで送信していただきますよう、お願いいたします　　　　　　　　　　\n （添付されるファイルの○○の所に貴校の学校名を含ませてください。セキュリティ強化により、\n  外部からエクセルデータが受付できません。お手数ですが必要事項を入力後、ＰＤＦに変換し、\n  メールに添付していただきますようお願いします。）\n○各回定員を設けております。参加申込が多い場合は、お断りする場合もあります。\n○申込締切後、参加していただける方には参加確認書を、参加いただけない方にはその旨の\n　お知らせを電子メールにて送付します。"]

{"sheet":"参加確認","index":1,"n_rows":37,"n_cols":24,"rows_kept":37,"cut":false,"hidden":true,"merged":[[0,0,0,23],[35,1,35,23],[29,16,29,18],[2,16,2,18],[15,15,15,21],[15,22,16,23],[16,2,16,3],[16,9,16,14],[16,15,16,21],[17,21,18,21],[17,22,18,23],[18,2,18,3],[17,14,18,14],[17,15,18,17],[17,18,18,18],[15,1,16,1],[15,2,15,3],[15,4,16,4],[15,5,16,6],[15,7,16,8],[15,9,15,14],[17,9,18,11],[17,12,18,12],[17,13,18,13],[17,1,18,1],[17,2,17,3],[17,4,18,4],[17,5,18,6],[17,7,18,8],[17,19,18,20],[19,21,20,21],[19,22,20,23],[20,2,20,3],[19,14,20,14],[19,15,20,17],[19,18,20,18],[19,19,20,20],[21,7,22,8],[21,9,22,11],[21,12,22,12],[19,12,20,12],[19,13,20,13],[19,1,20,1],[19,2,19,3],[19,4,20,4],[19,5,20,6],[19,7,20,8],[19,9,20,11],[22,2,22,3],[21,13,22,13],[23,1,24,1],[23,2,23,3],[23,4,24,4],[23,5,24,6],[23,7,24,8],[25,15,26,17],[25,18,26,18],[21,22,22,23],[21,14,22,14],[21,15,22,17],[21,18,22,18],[21,19,22,20],[21,21,22,21],[25,19,26,20],[23,19,24,20],[23,21,24,21],[23,22,24,23],[23,15,24,17],[23,18,24,18],[25,14,26,14],[21,1,22,1],[21,2,21,3],[21,4,22,4],[21,5,22,6],[25,2,25,3],[25,4,26,4],[25,5,26,6],[25,7,26,8],[25,9,26,11],[23,9,24,11],[23,12,24,12],[23,13,24,13],[23,14,24,14],[9,3,11,13],[6,1,6,23],[36,1,36,23],[24,2,24,3],[33,19,33,20],[1,3,1,8],[31,1,31,5],[31,6,31,14],[31,19,31,20],[32,1,32,5],[32,6,32,14],[32,19,32,20],[25,21,26,21],[25,22,26,23],[26,2,26,3],[29,1,29,5],[29,6,29,14],[30,1,30,5],[30,6,30,14],[30,17,30,18],[30,19,30,20],[25,12,26,12],[25,13,26,13],[25,1,26,1]]}
["令和４年度  白河総合支援学校\n学校見学会（中１・小６対象オープンキャンパス）参加確認書"]
[null,"（あて先）",null,{"$f":"申込シート!R9","v":0},null,null,null,null,null,"学校長様"]
[null,null,null,null,null,null,null,null,null,null,null,null,null,null,null,null,"令和４",null,null,"年",null,"月",null,"日"]
[]
[null,null,null,null,null,null,null,null,null,null,null,null,null,null,null,null,null,"京都市立白河総合支援学校"]
[]
[null,"　京都市立白河総合支援学校における学校見学会（中１・小６対象）への参加について、以下のように決定いたしましたのでお知らせいたします。参加日、参加者及び内容をご確認いただきますようお願いいたします。"]
[]
[null,"１　希望日"]
[null,null,null,{"$f":"申込シート!C16","v":"00:00:00"}]
[]
[]
[]
[null,"２　参加者"]
[null,"①　中学１年生及び保護者、家族"]
[null,"学年等","ふりがな（上段）",null,"男・女","在籍\n学級",null,"参加\n回数",null,"参加保護者名",null,null,null,null,null,"（参加保護者名）"]
[null,null,"参加生徒名（下段）",null,null,null,null,null,null,"（生徒との関係）",null,null,null,null,null,"（生徒との関係）"]
[null,{"$f":"申込シート!B24","v":"１年"},{"$f":"申込シート!C24","v":0},{"$f":"申込シート!D24","v":0},{"$f":"申込シート!E24","v":0},{"$f":"申込シート!F24","v":0},{"$f":"申込シート!G24","v":0},{"$f":"申込シート!H24","v":0},{"$f":"申込シート!I24","v":0},{"$f":"申込シート!J24","v":0},{"$f":"申込シート!K24","v":0},{"$f":"申込シート!L24","v":0},"（",{"$f":"申込シート!N24","v":0},"）",{"$f":"申込シート!P24","v":0},{"$f":"申込シート!Q24","v":0},{"$f":"申込シート!R24","v":0},"（",{"$f":"申込シート!T24","v":0},{"$f":"申込シート!U24","v":0},"）"]
[null,null,{"$f":"申込シート!C25","v":0}]
[null,{"$f":"申込シート!B26","v":"１年"},{"$f":"申込シート!C26","v":0},{"$f":"申込シート!D26","v":0},{"$f":"申込シート!E26","v":0},{"$f":"申込シート!F26","v":0},{"$f":"申込シート!G26","v":0},{"$f":"申込シート!H26","v":0},{"$f":"申込シート!I26","v":0},{"$f":"申込シート!J26","v":0},{"$f":"申込シート!K26","v":0},{"$f":"申込シート!L26","v":0},"（",{"$f":"申込シート!N26","v":0},"）",{"$f":"申込シート!P26","v":0},{"$f":"申込シート!Q26","v":0},{"$f":"申込シート!R26","v":0},"（",{"$f":"申込シート!T26","v":0},{"$f":"申込シート!U26","v":0},"）"]
[null,null,{"$f":"申込シート!C27","v":0}]
[null,{"$f":"申込シート!B28","v":"１年"},{"$f":"申込シート!C28","v":0},{"$f":"申込シート!D28","v":0},{"$f":"申込シート!E28","v":0},{"$f":"申込シート!F28","v":0},{"$f":"申込シート!G28","v":0},{"$f":"申込シート!H28","v":0},{"$f":"申込シート!I28","v":0},{"$f":"申込シート!J28","v":0},{"$f":"申込シート!K28","v":0},{"$f":"申込シート!L28","v":0},"（",{"$f":"申込シート!N28","v":0},"）",{"$f":"申込シート!P28","v":0},{"$f":"申込シート!Q28","v":0},{"$f":"申込シート!R28","v":0},"（",{"$f":"申込シート!T28","v":0},{"$f":"申込シート!U28","v":0},"）"]
[null,null,{"$f":"申込シート!C29","v":0}]
[null,{"$f":"申込シート!B30","v":"１年"},{"$f":"申込シート!C30","v":0},{"$f":"申込シート!D30","v":0},{"$f":"申込シート!E30","v":0},{"$f":"申込シート!F30","v":0},{"$f":"申込シート!G30","v":0},{"$f":"申込シート!H30","v":0},{"$f":"申込シート!I30","v":0},{"$f":"申込シート!J30","v":0},{"$f":"申込シート!K30","v":0},{"$f":"申込シート!L30","v":0},"（",{"$f":"申込シート!N30","v":0},"）",{"$f":"申込シート!P30","v":0},{"$f":"申込シート!Q30","v":0},{"$f":"申込シート!R30","v":0},"（",{"$f":"申込シート!T30","v":0},{"$f":"申込シート!U30","v":0},"）"]
[null,null,{"$f":"申込シート!C31","v":0}]
[null,{"$f":"申込シート!B32","v":"１年"},{"$f":"申込シート!C32","v":0},{"$f":"申込シート!D32","v":0},{"$f":"申込シート!E32","v":0},{"$f":"申込シート!F32","v":0},{"$f":"申込シート!G32","v":0},{"$f":"申込シート!H32","v":0},{"$f":"申込シート!I32","v":0},{"$f":"申込シート!J32","v":0},{"$f":"申込シート!K32","v":0},{"$f":"申込シート!L32","v":0},"（",{"$f":"申込シート!N32","v":0},"）",{"$f":"申込シート!P32","v":0},{"$f":"申込シート!Q32","v":0},{"$f":"申込シート!R32","v":0},"（",{"$f":"申込シート!T32","v":0},{"$f":"申込シート!U32","v":0},"）"]
[null,null,{"$f":"申込シート!C33","v":0}]
[]
[null,"②　中学校、総合支援学校（中学部）の教職員"]
[null,"教　職　員　の　氏　名",null,null,null,null,"参加生徒・保護者との関係 ／校務分掌",null,null,null,null,null,null,null,null,null,"参加人数"]
[null,{"$f":"申込シート!B37","v":0},null,null,null,null,{"$f":"申込シート!G37","v":0},null,null,null,null,null,null,null,null,null,null,"生　徒",null,{"$f":"申込シート!T37","v":0},null,"名"]
[null,{"$f":"申込シート!B38","v":0},null,null,null,null,{"$f":"申込シート!G38","v":0},null,null,null,null,null,null,null,null,null,null,"保護者",null,{"$f":"申込シート!T38","v":0},null,"名"]
[null,{"$f":"申込シート!B39","v":0},null,null,null,null,{"$f":"申込シート!G39","v":0},null,null,null,null,null,null,null,null,null,null,"教職員",null,{"$f":"申込シート!T39","v":0},null,"名"]
[null,null,null,null,null,null,null,null,null,null,null,null,null,null,null,null,null,"合　計",null,{"$f":"申込シート!T40","v":0},null,"名"]
[null,"③　日　程"]
[null,"　　【第１部】　　【第２部】\n　　　９：００　　１０：５５　　　　受付開始\n　　　９：１０　　１１：０５　　　　①学校紹介　写真等で学校紹介をします　　　　　　 　\n　　　９：４５　　１１：４１　　　　②見学　　　グループに分けて実施します\n　　１０：２４    １２：２０　　　　③振返り　　生徒のみです\n　　１０：３４　　１２：３０　　　　終了予定　　　"]
[null,"※　本校は、二足制になっております。必ず上靴と靴を入れる袋をご持参ください。\n※　遅刻・不参加の場合は、 中学校・中学部を通して白河総合（７７１－５５１０）へ連絡してください。\n※　マスクの着用、受付での検温・手指消毒にご協力ください。\n※　体調不良や発熱などの症状が見られた場合、参加の自粛をお願いいたします。"]

{"sheet":"集計","index":2,"n_rows":8,"n_cols":18,"rows_kept":8,"cut":false,"hidden":true,"merged":[[0,0,0,4]]}
["オープンキャンパス集計表（１年）",null,null,null,null,null,{"$f":"申込シート!C16","v":0}]
[]
["学校名","学年","氏名","ふりがな","性別","在籍","参加回数","保護者１","関係","保護者２","関係","教職員","関係"]
[{"$f":"R4","v":"0"},{"$f":"参加確認!B18","v":"１年"},{"$f":"参加確認!C19","v":0},{"$f":"参加確認!C18","v":0},{"$f":"参加確認!E18","v":0},{"$f":"参加確認!F18","v":0},{"$f":"参加確認!H18","v":0},{"$f":"参加確認!J18","v":0},{"$f":"参加確認!N18","v":0},{"$f":"参加確認!P18","v":0},{"$f":"参加確認!T18","v":0},{"$f":"申込シート!B37","v":0},{"$f":"申込シート!G37","v":0},null,null,null,{"$f":"申込シート!R9","v":0},{"$f":"SUBSTITUTE(Q4,\"学校\",\"\")","v":"0"}]
[{"$f":"$A$4","v":"0"},{"$f":"参加確認!B20","v":"１年"},{"$f":"参加確認!C21","v":0},{"$f":"参加確認!C20","v":0},{"$f":"参加確認!E20","v":0},{"$f":"参加確認!F20","v":0},{"$f":"参加確認!H20","v":0},{"$f":"参加確認!J20","v":0},{"$f":"参加確認!N20","v":0},{"$f":"参加確認!P20","v":0},{"$f":"参加確認!T20","v":0},{"$f":"申込シート!B38","v":0},{"$f":"申込シート!G38","v":0}]
[{"$f":"$A$4","v":"0"},{"$f":"参加確認!B22","v":"１年"},{"$f":"参加確認!C23","v":0},{"$f":"参加確認!C22","v":0},{"$f":"参加確認!E22","v":0},{"$f":"参加確認!F22","v":0},{"$f":"参加確認!H22","v":0},{"$f":"参加確認!J22","v":0},{"$f":"参加確認!N22","v":0},{"$f":"参加確認!P22","v":0},{"$f":"参加確認!T22","v":0},{"$f":"申込シート!B39","v":0},{"$f":"申込シート!G39","v":0}]
["0",{"$f":"参加確認!B24","v":"１年"},{"$f":"参加確認!C25","v":0},{"$f":"参加確認!C24","v":0},{"$f":"参加確認!E24","v":0},{"$f":"参加確認!F24","v":0},{"$f":"参加確認!H24","v":0},{"$f":"参加確認!J24","v":0},{"$f":"参加確認!N24","v":0},{"$f":"参加確認!P24","v":0},{"$f":"参加確認!T24","v":0}]
["0",{"$f":"参加確認!B26","v":"１年"},{"$f":"参加確認!C27","v":0},{"$f":"参加確認!C26","v":0},{"$f":"参加確認!E26","v":0},{"$f":"参加確認!F26","v":0},{"$f":"参加確認!H26","v":0},{"$f":"参加確認!J26","v":0},{"$f":"参加確認!N26","v":0},{"$f":"参加確認!P26","v":0},{"$f":"参加確認!T26","v":0}]

{"sheet":"お断りシート","index":3,"n_rows":33,"n_cols":24,"rows_kept":33,"cut":false,"hidden":true,"merged":[[6,1,6,23],[15,1,16,1],[15,2,15,3],[15,4,16,4],[15,5,16,6],[15,7,16,8],[15,9,15,14],[15,15,15,21],[15,22,16,23],[16,2,16,3],[16,9,16,14],[16,15,16,21],[9,3,11,20],[0,0,0,23],[17,1,18,1],[17,2,17,3],[17,4,18,4],[17,5,18,6],[17,7,18,8],[17,19,18,20],[19,21,20,21],[19,22,20,23],[20,2,20,3],[19,14,20,14],[19,15,20,17],[19,18,20,18],[19,19,20,20],[17,21,18,21],[17,22,18,23],[18,2,18,3],[17,14,18,14],[17,15,18,17],[17,18,18,18],[17,9,18,11],[17,12,18,12],[17,13,18,13],[1,3,1,8],[21,7,22,8],[21,9,22,11],[21,12,22,12],[19,12,20,12],[19,13,20,13],[19,1,20,1],[19,2,19,3],[19,4,20,4],[19,5,20,6],[19,7,20,8],[19,9,20,11],[23,19,24,20],[23,21,24,21],[23,22,24,23],[21,22,22,23],[22,2,22,3],[23,1,24,1],[23,2,23,3],[23,4,24,4],[23,5,24,6],[23,7,24,8],[23,9,24,11],[23,12,24,12],[23,13,24,13],[21,13,22,13],[21,14,22,14],[21,15,22,17],[21,18,22,18],[21,19,22,20],[21,21,22,21],[24,2,24,3],[21,1,22,1],[21,2,21,3],[21,4,22,4],[21,5,22,6],[25,1,26,1],[25,2,25,3],[25,4,26,4],[25,5,26,6],[25,7,26,8],[23,14,24,14],[23,15,24,17],[23,18,24,18],[29,1,29,5],[29,6,29,14],[29,16,29,18],[25,19,26,20],[25,21,26,21],[25,22,26,23],[26,2,26,3],[25,9,26,11],[25,12,26,12],[25,13,26,13],[25,14,26,14],[25,15,26,17],[25,18,26,18],[32,1,32,5],[32,6,32,14],[32,19,32,20],[30,1,30,5],[30,6,30,14],[30,17,30,18],[30,19,30,20],[31,1,31,5],[31,6,31,14],[31,19,31,20]]}
["白河総合支援学校オープンキャンパスについて"]
[null,"（あて先）",null,{"$f":"申込シート!R9","v":0},null,null,null,null,null,"学校長様"]
[null,null,null,null,null,null,null,null,null,null,null,null,null,null,null,null,null,"令和",3,"年",null,"月",null,"日"]
[]
[null,null,null,null,null,null,null,null,null,null,null,null,null,null,null,null,null,"京都市立白河総合支援学校"]
[]
[null,"　京都市立白河総合支援学校におけるオープンキャンパスへの参加について、以下のように決定いたしましたのでお知らせいたします。\n　大変申し訳ありませんが、参加人数を制限させていただいているため、下記日程について参加いただくことができません。ご理解いただきますようお願いいたします。"]
[]
[null,"１　希望日"]
[null,null,null,{"$f":"申込シート!C16","v":"00:00:00"}]
[]
[]
[]
[null,"２　参加者"]
[null,"①　高等部卒業後企業就職を希望する学校見学会参加希望者"]
[null,"学年等","ふりがな（上段）",null,"男・女","在籍\n学級",null,"参加\n回数",null,"参加保護者名",null,null,null,null,null,"（参加保護者名）"]
[null,null,"参加生徒名（下段）",null,null,null,null,null,null,"（生徒との関係）",null,null,null,null,null,"（生徒との関係）"]
[null,"１年",{"$f":"申込シート!C24","v":0},0,{"$f":"申込シート!E24","v":0},{"$f":"申込シート!F24","v":0},0,{"$f":"申込シート!H24","v":0},0,{"$f":"申込シート!J24","v":0},0,0,"（",{"$f":"申込シート!N24","v":0},"）",{"$f":"申込シート!P24","v":0},0,0,"（",{"$f":"申込シート!T24","v":0},0,"）"]
[null,null,{"$f":"申込シート!C25","v":0},1]
[null,"１年",{"$f":"申込シート!C26","v":0},2,{"$f":"申込シート!E26","v":0},{"$f":"申込シート!F26","v":0},1,{"$f":"申込シート!H26","v":0},1,{"$f":"申込シート!J26","v":0},0,0,"（",{"$f":"申込シート!N26","v":0},"）",0,0,0,"（",0,0,"）"]
[null,null,{"$f":"申込シート!C27","v":0},3]
[null,"１年",{"$f":"申込シート!C28","v":0},4,{"$f":"申込シート!E28","v":0},{"$f":"申込シート!F28","v":0},2,{"$f":"申込シート!H28","v":0},2,{"$f":"申込シート!J28","v":0},0,0,"（",{"$f":"申込シート!N28","v":0},"）",0,0,0,"（",0,0,"）"]
[null,null,{"$f":"申込シート!C29","v":0},5]
[null,"１年",{"$f":"申込シート!C30","v":0},6,{"$f":"申込シート!E30","v":0},{"$f":"申込シート!F30","v":0},3,{"$f":"申込シート!H30","v":0},3,{"$f":"申込シート!J30","v":0},0,0,"（",{"$f":"申込シート!N30","v":0},"）",0,0,0,"（",0,0,"）"]
[null,null,{"$f":"申込シート!C31","v":0},7]
[null,"１年",{"$f":"申込シート!C32","v":0},8,{"$f":"申込シート!E32","v":0},{"$f":"申込シート!F32","v":0},4,{"$f":"申込シート!H32","v":0},4,{"$f":"申込シート!J32","v":0},0,0,"（",{"$f":"申込シート!N32","v":0},"）",0,0,0,"（",0,0,"）"]
[null,null,{"$f":"申込シート!C33","v":0},9]
[]
[null,"②　中学校、総合支援学校（中学部）の教職員"]
[null,"教　職　員　の　氏　名",null,null,null,null,"参加生徒・保護者との関係 ／校務分掌"]
[null,{"$f":"申込シート!B37","v":0},null,null,null,null,{"$f":"申込シート!G37","v":0}]
[null,{"$f":"申込シート!B38","v":0},null,null,null,null,{"$f":"申込シート!G38","v":0}]
[null,{"$f":"申込シート!B39","v":0},null,null,null,null,{"$f":"申込シート!G39","v":0}]