{"text_format":"1","workbook":"xlsx","n_sheets":4,"sheets":["申込シート","参加確認","お断りシート","集計"],"not_rendered":{"charts":0,"images":0,"macros":1,"external_links":0,"defined_names":3,"comments":0,"pivot_tables":0},"unopened":[],"bounds":{"document_bytes":16777216,"sheet_cells":100000,"rows_first":2000,"rows_last":500,"rows_between":2000,"halvings":0,"cell_chars":16384,"cell_head_chars":4096},"cells_cut":0,"cells_raw":0,"read":"whole","date_system":"1900"}

{"sheet":"申込シート","index":0,"n_rows":42,"n_cols":40,"rows_kept":42,"cut":false,"hidden":false,"merged":[[14,2,16,12],[0,0,0,22],[20,14,21,19],[20,7,21,13],[32,7,33,13],[30,7,31,13],[28,7,29,13],[26,7,27,13],[24,7,25,13],[22,7,23,13],[30,1,31,1],[32,1,33,1],[28,1,29,1],[32,4,33,6],[24,2,25,3],[26,2,27,3],[38,6,38,12],[39,6,39,12],[30,2,31,3],[36,6,36,12],[37,6,37,12],[30,4,31,6],[24,14,25,14],[22,14,23,14],[28,2,29,3],[20,2,21,3],[20,4,21,6],[22,4,23,6],[24,4,25,6],[26,4,27,6],[28,4,29,6],[30,14,31,14],[28,14,29,14],[26,14,27,14],[28,15,29,18],[30,15,31,18],[26,15,27,18],[1,0,1,22],[32,20,33,21],[20,1,21,1],[7,6,7,7],[11,6,11,7],[22,1,23,1],[24,1,25,1],[26,1,27,1],[3,14,3,16],[20,20,21,21],[22,20,23,21],[7,15,7,20],[22,2,23,3],[24,20,25,21],[26,20,27,21],[30,20,31,21],[41,1,45,22],[32,19,33,19],[24,19,25,19],[26,19,27,19],[28,19,29,19],[32,14,33,14],[32,15,33,18],[32,2,33,3],[36,1,36,5],[37,1,37,5],[38,1,38,5],[39,1,39,5],[40,17,40,18],[38,15,38,16],[39,15,39,16],[30,19,31,19],[11,15,11,20],[9,15,9,20],[22,15,23,18],[24,15,25,18],[40,15,40,16],[22,19,23,19],[28,20,29,21],[37,17,37,18],[38,17,38,18],[39,17,39,18]]}
[]
["令和５年度　白河総合支援学校\n学校見学会（中１・小６対象オープンキャンパス）参加申込シート（小６用）\n《京都市立以外の学校専用》",null,null,null,null,null,null,null,null,null,null,null,null,null,null,null,null,null,null,null,null,null,null,null,null,null,null,"リスト","8","1",null,"１０月１７日（火）",null,"６年","男","特別支援","１回目",null,null,"　　"]
[null,"（あて先）京都市立白河総合支援学校　校長",null,null,null,null,null,null,null,null,null,null,null,null,null,null,null,null,null,null,null,null,null,null,null,null,null,null,"9","2",null,"１０月２５日（水）",null,null,"女","普通","２回目"]
[null,null,null,null,null,null,null,null,null,null,null,null,null,null,"令和５",null,null,"年",null,"月",null,"日",null,null,null,null,null,null,"10","3",null,"１１月　１日（水）",null,null,null,null,"３回目"]
[null,null,null,null,null,null,null,null,null,null,null,null,null,null,null,null,null,null,null,null,null,null,null,null,null,null,null,null,"11","4"]
[null,null,null,null,null,null,null,null,null,null,null,null,null,null,null,null,null,null,null,null,null,null,null,null,null,null,null,null,null,"5"]
[null,null,null,null,null,null,null,null,null,null,null,null,null,null,null,null,null,null,null,null,null,null,null,null,null,null,null,null,null,"6"]
[null,null,null,null,null,null,null,null,null,null,null,null,null,"学校名",null,null,null,null,null,null,null,null,null,null,null,null,null,null,null,"7"]
[null,null,null,null,null,null,null,null,null,null,null,null,null,null,null,null,null,null,null,null,null,null,null,null,null,null,null,null,null,"8"]
[null,null,null,null,null,null,null,null,null,null,null,null,null,"電話番号",null,null,null,null,null,null,null,null,null,null,null,null,null,null,null,"9"]
[null,null,null,null,null,null,null,null,null,null,null,null,null,null,null,null,null,null,null,null,null,null,null,null,null,null,null,null,null,"10"]
[null,null,null,null,null,null,null,null,null,null,null,null,null,"記入者　",null,null,null,null,null,null,null,null,null,null,null,null,null,null,null,"11"]
[null,null,null,null,null,null,null,null,null,null,null,null,null,null,null,null,null,null,null,null,null,null,null,null,null,null,null,null,null,"12"]
[null,"１　希望日",null,null,null,null,null,null,null,null,null,null,null,null,null,null,null,null,null,null,null,null,null,null,null,null,null,null,null,"13"]
[null,null,null,null,null,null,null,null,null,null,null,null,null,null,null,null,null,null,null,null,null,null,null,null,null,null,null,null,null,"14"]
[null,null,null,null,null,null,null,null,null,null,null,null,null,null,null,null,null,null,null,null,null,null,null,null,null,null,null,null,null,"15"]
[null,null,null,null,null,null,null,null,null,null,null,null,null,null,null,null,null,null,null,null,null,null,null,null,null,null,null,null,null,"16"]
[null,null,null,null,null,null,null,null,null,null,null,null,null,null,null,null,null,null,null,null,null,null,null,null,null,null,null,null,null,"17"]
[null,"２　参加者",null,null,null,null,null,null,null,null,null,null,null,null,null,null,null,null,null,null,null,null,null,null,null,null,null,null,null,"18"]
[null,"①　小学６年生児童の保護者、家族",null,null,null,null,null,null,null,null,null,null,null,null,null,null,null,null,null,null,null,null,null,null,null,null,null,null,null,"19"]
[null,"学年等","在籍学級",null,"参加回数",null,null,"参加保護者名",null,null,null,null,null,null,"児童との関係",null,null,null,null,null,null,null,null,null,null,null,null,null,null,"20"]
[null,null,null,null,null,null,null,null,null,null,null,null,null,null,null,null,null,null,null,null,null,null,null,null,null,null,null,null,null,"21"]
[null,"６年",null,null,null,null,null,null,null,null,null,null,null,null,"(",null,null,null,null,"）",null,null,null,null,null,null,null,null,null,"22"]
[null,null,null,null,null,null,null,null,null,null,null,null,null,null,null,null,null,null,null,null,null,null,null,null,null,null,null,null,null,"23"]
[null,"６年",null,null,null,null,null,null,null,null,null,null,null,null,"(",null,null,null,null,"）",null,null,null,null,null,null,null,null,null,"24"]
[null,null,null,null,null,null,null,null,null,null,null,null,null,null,null,null,null,null,null,null,null,null,null,null,null,null,null,null,null,"25"]
[null,"６年",null,null,null,null,null,null,null,null,null,null,null,null,"(",null,null,null,null,"）",null,null,null,null,null,null,null,null,null,"26"]
[null,null,null,null,null,null,null,null,null,null,null,null,null,null,null,null,null,null,null,null,null,null,null,null,null,null,null,null,null,"27"]
[null,"６年",null,null,null,null,null,null,null,null,null,null,null,null,"(",null,null,null,null,"）",null,null,null,null,null,null,null,null,null,"28"]
[null,null,null,null,null,null,null,null,null,null,null,null,null,null,null,null,null,null,null,null,null,null,null,null,null,null,null,null,null,"29"]
[null,"６年",null,null,null,null,null,null,null,null,null,null,null,null,"(",null,null,null,null,"）",null,null,null,null,null,null,null,null,null,"30"]
[null,null,null,null,null,null,null,null,null,null,null,null,null,null,null,null,null,null,null,null,null,null,null,null,null,null,null,null,null,"31"]
[null,"６年",null,null,null,null,null,null,null,null,null,null,null,null,"(",null,null,null,null,"）"]
[]
[]
[null,"②　小学校、総合支援学校（小学部）の教職員"]
[null,"教　職　員　の　氏　名",null,null,null,null,"児童・保護者との関係／校務分掌"]
[null,null,null,null,null,null,null,null,null,null,null,null,null,null,"参加人数"]
[null,null,null,null,null,null,null,null,null,null,null,null,null,null,null,"保護者",null,{"$f":"COUNTA(H23,H25,H27,H29,H31,H33)","v":0},null,"名"]
[null,null,null,null,null,null,null,null,null,null,null,null,null,null,null,"教職員",null,{"$f":"COUNTA(B38:F40)","v":0},null,"名"]
[null,null,null,null,null,null,null,null,null,null,null,null,null,null,null,"合　計",null,{"$f":"SUM(R39:S40)","v":0},null,"名"]
[null,"○学校からの白河総合支援学校への申込締切日および時刻は、各実施日２週間前の同じ曜日の\n　午後５時です。\n○参加申込シートは、管理職の先生から電子メールにて\n　白河総合支援学校 副教頭 植田 麻希 宛（E-mail : sf132-ueda@edu.city.kyoto.jp）\n　まで送信していただきますよう、お願いいたします。　　　　　　　　　　\n  （添付されるファイルの○○の所に貴校の学校名を含ませてください。セキュリティ強化により、\n    外部からエクセルデータが受付できません。お手数ですが必要事項を入力後、ＰＤＦに変換し、\n    メールに添付していただきますようお願いします。）\n○各回、定員を設けております。参加申込が多い場合は、お断りする場合もあります。\n○申込締切後、参加していただける方には参加確認書を、参加いただけない方にはその旨の\n　お知らせを　電子メールにて送付します。"]

{"sheet":"参加確認","index":1,"n_rows":39,"n_cols":24,"rows_kept":39,"cut":false,"hidden":true,"merged":[[23,2,24,3],[6,1,6,23],[17,15,18,15],[19,15,20,15],[21,15,22,15],[19,2,20,3],[21,2,22,3],[19,21,20,21],[23,21,24,21],[17,4,18,8],[19,4,20,8],[21,4,22,8],[23,4,24,8],[17,9,18,14],[19,9,20,14],[21,9,22,14],[0,0,0,23],[15,9,16,14],[15,15,16,21],[15,2,16,3],[9,3,11,13],[15,4,16,8],[23,9,24,14],[23,16,24,20],[23,15,24,15],[17,16,18,20],[21,16,22,20],[19,16,20,20],[38,1,38,23],[35,19,35,20],[1,3,1,8],[33,1,33,5],[33,6,33,14],[33,19,33,20],[34,1,34,5],[34,6,34,14],[34,19,34,20],[27,21,28,21],[27,22,28,23],[31,1,31,5],[31,6,31,14],[32,1,32,5],[19,22,20,23],[17,2,18,3],[32,19,32,20],[27,1,28,1],[25,21,26,21],[25,22,26,23],[32,16,32,18],[25,2,26,3],[27,2,28,3],[25,4,26,8],[27,4,28,8],[25,9,26,14],[27,9,28,14],[25,15,26,15],[27,15,28,15],[27,16,28,20],[25,16,26,20],[37,1,37,23],[31,16,31,18],[2,16,2,18],[15,22,16,23],[17,21,18,21],[17,22,18,23],[15,1,16,1],[21,1,22,1],[19,1,20,1],[17,1,18,1],[23,22,24,23],[23,1,24,1],[25,1,26,1],[21,22,22,23],[21,21,22,21],[32,6,32,14]]}
["令和３年度  白河総合支援学校\n　　学校見学会（中１・小６対象オープンキャンパス）参加について"]
[null,"（あて先）",null,{"$f":"申込シート!P8","v":0},null,null,null,null,null,"学校長様"]
[null,null,null,null,null,null,null,null,null,null,null,null,null,null,null,null,"令和３",null,null,"年",null,"月",null,"日"]
[]
[null,null,null,null,null,null,null,null,null,null,null,null,null,null,null,null,null,"京都市立白河総合支援学校"]
[]
[null,"　京都市立白河総合支援学校におけるオープンキャンパス(中１・小６対象）への参加について，以下のように決定いたしましたのでお知らせいたします。参加日，参加者及び内容をご確認いただきますようお願いいたします。"]
[]
[null,"１　希望日"]
[null,null,null,{"$f":"申込シート!C15","v":"00:00:00"}]
[]
[]
[]
[null,"２　参加者"]
[null,"①　小学６年生児童の保護者，家族"]
[null,"学年","在籍学級",null,"参加回数",null,null,null,null,"参加保護者名",null,null,null,null,null,"児童との関係"]
[]
[null,{"$f":"申込シート!B23","v":"６年"},{"$f":"申込シート!C23","v":0},null,{"$f":"申込シート!E23","v":0},null,null,null,null,{"$f":"申込シート!H23","v":0},{"$f":"申込シート!I23","v":0},{"$f":"申込シート!J23","v":0},null,null,null,"（",{"$f":"申込シート!P23","v":0},null,null,null,null,"）"]
[]
[null,{"$f":"申込シート!B25","v":"６年"},{"$f":"申込シート!C25","v":0},null,{"$f":"申込シート!E25","v":0},null,null,null,null,{"$f":"申込シート!H25","v":0},{"$f":"申込シート!I25","v":0},{"$f":"申込シート!J25","v":0},null,null,null,"（",{"$f":"申込シート!H25","v":0},null,null,null,null,"）"]
[]
[null,{"$f":"申込シート!B27","v":"６年"},{"$f":"申込シート!C27","v":0},null,{"$f":"申込シート!E27","v":0},null,null,null,null,{"$f":"申込シート!H27","v":0},{"$f":"申込シート!I27","v":0},{"$f":"申込シート!J27","v":0},null,null,null,"（",{"$f":"申込シート!H27","v":0},null,null,null,null,"）"]
[]
[null,{"$f":"申込シート!B29","v":"６年"},{"$f":"申込シート!C29","v":0},null,{"$f":"申込シート!E29","v":0},null,null,null,null,{"$f":"申込シート!H29","v":0},{"$f":"申込シート!I29","v":0},{"$f":"申込シート!J29","v":0},null,null,null,"（",{"$f":"申込シート!H29","v":0},null,null,null,null,"）"]
[]
[null,{"$f":"申込シート!B31","v":"６年"},{"$f":"申込シート!C31","v":0},null,{"$f":"申込シート!E31","v":0},null,null,null,null,{"$f":"申込シート!H31","v":0},{"$f":"申込シート!I31","v":0},{"$f":"申込シート!J31","v":0},null,null,null,"（",{"$f":"申込シート!H31","v":0},null,null,null,null,"）"]
[]
[null,{"$f":"申込シート!B33","v":"６年"},{"$f":"申込シート!C33","v":0},null,{"$f":"申込シート!E33","v":0},null,null,null,null,{"$f":"申込シート!H33","v":0},{"$f":"申込シート!I33","v":0},{"$f":"申込シート!J33","v":0},null,null,null,"（",{"$f":"申込シート!H33","v":0},null,null,null,null,"）"]
[]
[]
[null,"②　小学校，総合支援学校（小学部）の教職員"]
[null,"教　職　員　の　氏　名",null,null,null,null,"児童・保護者との関係 ／校務分掌"]
[null,{"$f":"申込シート!B38","v":0},null,null,null,null,{"$f":"申込シート!G38","v":0},null,null,null,null,null,null,null,null,null,"参加人数"]
[null,{"$f":"申込シート!B39","v":0},null,null,null,null,{"$f":"申込シート!G39","v":0},null,null,null,null,null,null,null,null,null,null,"保護者",null,{"$f":"申込シート!R39","v":0},null,"名"]
[null,{"$f":"申込シート!B40","v":0},null,null,null,null,{"$f":"申込シート!G40","v":0},null,null,null,null,null,null,null,null,null,null,"教職員",null,{"$f":"申込シート!R40","v":0},null,"名"]
[null,null,null,null,null,null,null,null,null,null,null,null,null,null,null,null,null,"合　計",null,{"$f":"申込シート!R41","v":0},null,"名"]
[null,"③　日　程"]
[null,"　　【第１部】　　【第２部】\n　　　９：００　　１０：５５　　　　受付開始\n　　　９：１０　　１１：０５　　　　①学校紹介　写真等で学校紹介をします　　　　　　 　\n　　　９：４５　　１０：１２　　　　②見学　　　グループに分けて実施します\n　　１０：２４    １２：２０　　　　③振返り　　生徒のみです\n　　１０：３４　　１２：３０　　　　終了予定　　　"]
[null,"※　本校は，二足制になっております。必ず上靴と袋をご持参ください。\n※　遅刻・不参加の場合は, 中学校・中学部を通して白河総合（７７１－５５１０）へ連絡してください。\n※　マスクの着用，受付での検温・手指消毒にご協力ください。\n※　体調不良や発熱などの症状が見られた場合，参加の自粛をお願いいたします。"]

{"sheet":"お断りシート","index":2,"n_rows":37,"n_cols":24,"rows_kept":37,"cut":false,"hidden":true,"merged":[[36,19,36,20],[0,0,0,23],[34,1,34,5],[34,6,34,14],[34,19,34,20],[35,1,35,5],[35,6,35,14],[35,19,35,20],[27,21,28,21],[27,22,28,23],[32,1,32,5],[32,6,32,14],[32,16,32,18],[33,1,33,5],[33,6,33,14],[33,16,33,18],[33,19,33,20],[27,1,28,1],[27,2,28,3],[27,4,28,8],[27,9,28,14],[27,15,28,15],[27,16,28,20],[23,21,24,21],[23,22,24,23],[25,1,26,1],[25,2,26,3],[25,4,26,8],[25,9,26,14],[25,15,26,15],[25,16,26,20],[25,21,26,21],[25,22,26,23],[23,1,24,1],[23,2,24,3],[23,4,24,8],[23,9,24,14],[23,15,24,15],[23,16,24,20],[21,16,22,20],[21,21,22,21],[21,22,22,23],[19,1,20,1],[19,2,20,3],[19,4,20,8],[19,9,20,14],[19,15,20,15],[19,16,20,20],[21,1,22,1],[21,2,22,3],[21,4,22,8],[21,9,22,14],[21,15,22,15],[17,16,18,20],[17,21,18,21],[17,22,18,23],[19,21,20,21],[19,22,20,23],[17,1,18,1],[17,2,18,3],[17,4,18,8],[17,9,18,14],[17,15,18,15],[1,3,1,8],[2,16,2,18],[6,1,6,23],[15,1,16,1],[15,2,16,3],[15,4,16,8],[15,9,16,14],[15,15,16,21],[15,22,16,23],[9,3,11,14]]}
["令和４年度  白河総合支援学校\n　　学校見学会（中１・小６対象オープンキャンパス）参加について"]
[null,"（あて先）",null,{"$f":"申込シート!P8","v":0},null,null,null,null,null,"学校長様"]
[null,null,null,null,null,null,null,null,null,null,null,null,null,null,null,null,"令和４",null,null,"年",null,"月",null,"日"]
[]
[null,null,null,null,null,null,null,null,null,null,null,null,null,null,null,null,null,"京都市立白河総合支援学校"]
[]
[null,"　京都市立白河総合支援学校におけるオープンキャンパスへの参加について、以下のように決定いたしましたのでお知らせいたします。\n　大変申し訳ありませんが、参加人数を制限させていただいているため、下記日程について参加いただくことができません。ご理解いただきますようお願いいたします。"]
[]
[null,"１　希望日"]
[null,null,null,{"$f":"申込シート!C15","v":"00:00:00"}]
[]
[]
[]
[null,"２　参加者"]
[null,"①　小学６年生児童の保護者、家族"]
[null,"学年","在籍学級",null,"参加回数",null,null,null,null,"参加保護者名",null,null,null,null,null,"児童との関係"]
[]
[null,{"$f":"申込シート!B23","v":"６年"},{"$f":"申込シート!C23","v":0},null,{"$f":"申込シート!E23","v":0},null,null,null,null,{"$f":"申込シート!H23","v":0},{"$f":"申込シート!I23","v":0},{"$f":"申込シート!J23","v":0},null,null,null,"（",{"$f":"申込シート!P23","v":0},null,null,null,null,"）"]
[]
[null,{"$f":"申込シート!B25","v":"６年"},{"$f":"申込シート!C25","v":0},null,{"$f":"申込シート!E25","v":0},null,null,null,null,{"$f":"申込シート!H25","v":0},{"$f":"申込シート!I25","v":0},{"$f":"申込シート!J25","v":0},null,null,null,"（",{"$f":"申込シート!H25","v":0},null,null,null,null,"）"]
[]
[null,{"$f":"申込シート!B27","v":"６年"},{"$f":"申込シート!C27","v":0},null,{"$f":"申込シート!E27","v":0},null,null,null,null,{"$f":"申込シート!H27","v":0},{"$f":"申込シート!I27","v":0},{"$f":"申込シート!J27","v":0},null,null,null,"（",{"$f":"申込シート!H27","v":0},null,null,null,null,"）"]
[]
[null,{"$f":"申込シート!B29","v":"６年"},{"$f":"申込シート!C29","v":0},null,{"$f":"申込シート!E29","v":0},null,null,null,null,{"$f":"申込シート!H29","v":0},{"$f":"申込シート!I29","v":0},{"$f":"申込シート!J29","v":0},null,null,null,"（",{"$f":"申込シート!H29","v":0},null,null,null,null,"）"]
[]
[null,{"$f":"申込シート!B31","v":"６年"},{"$f":"申込シート!C31","v":0},null,{"$f":"申込シート!E31","v":0},null,null,null,null,{"$f":"申込シート!H31","v":0},{"$f":"申込シート!I31","v":0},{"$f":"申込シート!J31","v":0},null,null,null,"（",{"$f":"申込シート!H31","v":0},null,null,null,null,"）"]
[]
[null,{"$f":"申込シート!B33","v":"６年"},{"$f":"申込シート!C33","v":0},null,{"$f":"申込シート!E33","v":0},null,null,null,null,{"$f":"申込シート!H33","v":0},{"$f":"申込シート!I33","v":0},{"$f":"申込シート!J33","v":0},null,null,null,"（",{"$f":"申込シート!H33","v":0},null,null,null,null,"）"]
[]
[]
[]
[null,"②　小学校、総合支援学校（小学部）の教職員"]
[null,"教　職　員　の　氏　名",null,null,null,null,"児童・保護者との関係 ／校務分掌"]
[null,{"$f":"申込シート!B38","v":0},null,null,null,null,{"$f":"申込シート!G38","v":0},null,null,null,null,null,null,null,null,null,"参加人数"]
[null,{"$f":"申込シート!B39","v":0},null,null,null,null,{"$f":"申込シート!G39","v":0},null,null,null,null,null,null,null,null,null,null,"保護者",null,{"$f":"申込シート!R39","v":0},null,"名"]
[null,{"$f":"申込シート!B40","v":0},null,null,null,null,{"$f":"申込シート!G40","v":0},null,null,null,null,null,null,null,null,null,null,"教職員",null,{"$f":"申込シート!R40","v":0},null,"名"]
[null,null,null,null,null,null,null,null,null,null,null,null,null,null,null,null,null,"合　計",null,{"$f":"申込シート!R41","v":0},null,"名"]

{"sheet":"集計","index":3,"n_rows":9,"n_cols":15,"rows_kept":9,"cut":false,"hidden":true,"merged":[[0,0,0,3]]}
["オープンキャンパス集計表（1年）",null,null,null,null,{"$f":"申込シート!C15","v":0}]
[]
["学校名","学年","在籍","参加回数","保護者１","関係","保護者２","関係","教職員","関係"]
[{"$f":"O4","v":"0"},{"$f":"参加確認!B18","v":"６年"},{"$f":"参加確認!C18","v":0},{"$f":"参加確認!E18","v":0},{"$f":"参加確認!J18","v":0},{"$f":"参加確認!N18","v":0},{"$f":"参加確認!P18","v":"（"},{"$f":"参加確認!T18","v":0},{"$f":"申込シート!B38","v":0},{"$f":"申込シート!G38","v":0},null,null,null,{"$f":"申込シート!P8","v":0},{"$f":"SUBSTITUTE(N4,\"学校\",\"\")","v":"0"}]
[{"$f":"$A$4","v":"0"},{"$f":"参加確認!B20","v":"６年"},{"$f":"参加確認!C20","v":0},{"$f":"参加確認!E20","v":0},{"$f":"参加確認!J20","v":0},{"$f":"参加確認!N20","v":0},{"$f":"参加確認!P20","v":"（"},{"$f":"参加確認!T20","v":0},{"$f":"申込シート!B39","v":0},{"$f":"申込シート!G39","v":0}]
[{"$f":"$A$4","v":"0"},{"$f":"参加確認!B22","v":"６年"},{"$f":"参加確認!C22","v":0},{"$f":"参加確認!E22","v":0},{"$f":"参加確認!J22","v":0},{"$f":"参加確認!N22","v":0},{"$f":"参加確認!P22","v":"（"},{"$f":"参加確認!T22","v":0},{"$f":"申込シート!B40","v":0},{"$f":"申込シート!G40","v":0}]
["0",{"$f":"参加確認!B24","v":"６年"},{"$f":"参加確認!C24","v":0},{"$f":"参加確認!E24","v":0},{"$f":"参加確認!J24","v":0},{"$f":"参加確認!N24","v":0},{"$f":"参加確認!P24","v":"（"},{"$f":"参加確認!T24","v":0},null,{"$f":"申込シート!G41","v":0}]
["0",{"$f":"参加確認!B26","v":"６年"},{"$f":"参加確認!C26","v":0},{"$f":"参加確認!E26","v":0},{"$f":"参加確認!J26","v":0},{"$f":"参加確認!N26","v":0},{"$f":"参加確認!P26","v":"（"},{"$f":"参加確認!T26","v":0},null,{"$f":"申込シート!G42","v":0}]
["0",{"$f":"参加確認!B28","v":"６年"},{"$f":"参加確認!C28","v":0},{"$f":"参加確認!E28","v":0},{"$f":"参加確認!J28","v":0},{"$f":"参加確認!N28","v":0},{"$f":"参加確認!P28","v":"（"},{"$f":"参加確認!T28","v":0},null,{"$f":"申込シート!G43","v":0}]