{"text_format":"1","workbook":"xlsx","n_sheets":3,"sheets":["申込シート","参加確認","集計"],"not_rendered":{"charts":0,"images":0,"macros":1,"external_links":0,"defined_names":2,"comments":0,"pivot_tables":0},"unopened":[],"bounds":{"document_bytes":16777216,"sheet_cells":100000,"rows_first":2000,"rows_last":500,"rows_between":2000,"halvings":0,"cell_chars":16384,"cell_head_chars":4096},"cells_cut":0,"cells_raw":0,"read":"whole","date_system":"1900"}

{"sheet":"申込シート","index":0,"n_rows":43,"n_cols":42,"rows_kept":43,"cut":false,"hidden":false,"merged":[[29,1,30,1],[31,1,32,1],[21,13,22,13],[23,13,24,13],[31,4,32,4],[21,5,22,6],[23,5,24,6],[25,5,26,6],[29,5,30,6],[31,5,32,6],[23,4,24,4],[25,4,26,4],[29,7,30,8],[31,7,32,8],[29,13,30,13],[31,13,32,13],[29,9,30,11],[31,9,32,11],[21,12,22,12],[23,12,24,12],[29,12,30,12],[31,12,32,12],[31,2,31,3],[32,2,32,3],[40,1,40,22],[43,1,43,22],[35,1,35,5],[36,1,36,5],[37,1,37,5],[38,1,38,5],[41,1,41,23],[35,6,35,14],[36,6,36,14],[37,6,37,14],[38,6,38,14],[36,17,36,18],[36,19,36,20],[37,19,37,20],[38,19,38,20],[39,19,39,20],[37,17,37,18],[38,17,38,18],[39,17,39,18],[42,1,42,23],[23,22,24,23],[25,22,26,23],[29,22,30,23],[23,19,24,20],[25,19,26,20],[19,15,19,21],[20,15,20,21],[21,15,22,17],[21,18,22,18],[21,21,22,21],[29,15,30,17],[29,18,30,18],[29,21,30,21],[24,2,24,3],[26,2,26,3],[30,2,30,3],[23,2,23,3],[21,2,21,3],[25,2,25,3],[29,2,29,3],[29,4,30,4],[21,9,22,11],[23,9,24,11],[31,22,32,23],[21,14,22,14],[29,14,30,14],[31,14,32,14],[23,7,24,8],[25,7,26,8],[19,1,20,1],[6,8,6,9],[10,8,10,9],[19,4,20,4],[19,7,20,8],[19,9,19,14],[20,9,20,14],[21,4,22,4],[19,5,20,6],[23,14,24,14],[25,9,26,11],[25,12,26,12],[25,14,26,14],[25,13,26,13],[21,1,22,1],[23,1,24,1],[25,1,26,1],[21,19,22,20],[1,1,1,23],[21,7,22,8],[13,3,15,9],[4,16,4,18],[19,22,20,23],[19,2,19,3],[20,2,20,3],[22,2,22,3],[21,22,22,23],[6,17,6,22],[8,17,8,22],[10,17,10,22],[31,15,32,17],[31,18,32,18],[31,21,32,21],[23,15,24,17],[23,18,24,18],[23,21,24,21],[25,15,26,17],[25,18,26,18],[25,21,26,21],[29,19,30,20],[31,19,32,20],[27,14,28,14],[27,15,28,17],[27,18,28,18],[27,19,28,20],[27,21,28,21],[27,22,28,23],[27,1,28,1],[27,2,27,3],[28,2,28,3],[27,4,28,4],[27,5,28,6],[27,7,28,8],[27,9,28,11],[27,12,28,12],[27,13,28,13]]}
[null,null,null,null,null,null,null,null,null,null,null,null,null,null,null,null,null,null,null,null,null,null,null,null,null,null,null,null,null,null,null,null,null,"2014-01-01","本日"]
[null,"白河総合支援学校オープンキャンパス（中学３年生対象）参加申込シート\n（京都市立以外の学校専用）",null,null,null,null,null,null,null,null,null,null,null,null,null,null,null,null,null,null,null,null,null,null,null,null,null,null,null,"リスト","1","1",{"$f":"LOOKUP(MAX(AH1,AI$2+ROW(A1)*7+7-1),AH$1:AH$9,AH$2:AH$10)","v":"６月１４日(水)"},"６月１４日(水)","2014-06-05","３年","男","特別支援","１回目","あり","令和５年","令和５年"]
[null,null,null,null,null,null,null,null,null,null,null,null,null,null,null,null,null,null,null,null,null,null,null,null,null,null,null,null,null,null,"2","2","６月１４日(水)","６月２０日(火)",null,"過年度","女","普通","２回目","なし","令和６年","令和６年"]
[null,"（あて先）京都市立白河総合支援学校　校長",null,null,null,null,null,null,null,null,null,null,null,null,null,null,null,null,null,null,null,null,null,null,null,null,null,null,null,null,"3","3","６月１４日(水)","７月　５日(水)",null,null,null,null,"３回目",null,"令和７年","令和７年"]
[null,null,null,null,null,null,null,null,null,null,null,null,null,null,null,null,"令和５年",null,null,"年",null,"月",null,"日",null,null,null,null,null,null,"4","4","６月１４日(水)","７月１１日(火)",null,null,null,null,"４回目",null,"令和８年","令和８年"]
[null,null,null,null,null,null,null,null,null,null,null,null,null,null,null,null,null,null,null,null,null,null,null,null,null,null,null,null,null,null,"5","5","６月１４日(水)","９月　５日(火）",null,null,null,null,"５回目"]
[null,null,null,null,null,null,null,null,null,null,null,null,null,null,null,"学校名",null,null,null,null,null,null,null,null,null,null,null,null,null,null,"6","6","６月１４日(水)","９月１３日(水）",null,null,null,null,"６回目"]
[null,null,null,null,null,null,null,null,null,null,null,null,null,null,null,null,null,null,null,null,null,null,null,null,null,null,null,null,null,null,"7","7","６月１４日(水)","９月２６日(火）",null,null,null,null,"７回目"]
[null,null,null,null,null,null,null,null,null,null,null,null,null,null,null,"電話番号",null,null,null,null,null,null,null,null,null,null,null,null,null,null,"8","8",{"$f":"LOOKUP(MAX(AH8,AI$2+ROW(A8)*7+7-1),AH$1:AH$9,AH$2:AH$10)","v":"６月１４日(水)"},"１０月　４日(水）",null,null,null,null,"８回目"]
[null,null,null,null,null,null,null,null,null,null,null,null,null,null,null,null,null,null,null,null,null,null,null,null,null,null,null,null,null,null,"9","9",null," "]
[null,null,null,null,null,null,null,null,null,null,null,null,null,null,null,"記入者　",null,null,null,null,null,null,null,null,null,null,null,null,null,null,"10","10"]
[null,null,null,null,null,null,null,null,null,null,null,null,null,null,null,null,null,null,null,null,null,null,null,null,null,null,null,null,null,null,"11","11"]
[null,"１　希望日",null,null,null,null,null,null,null,null,null,null,null,null,null,null,null,null,null,null,null,null,null,null,null,null,null,null,null,null,"12","12"]
[null,null,null," ",null,null,null,null,null,null,null,null,null,null,null,null,null,null,null,null,null,null,null,null,null,null,null,null,null,null,null,"13"]
[null,null,null,null,null,null,null,null,null,null,null,null,null,null,null,null,null,null,null,null,null,null,null,null,null,null,null,null,null,null,null,"14"]
[null,null,null,null,null,null,null,null,null,null,null,null,null,null,null,null,null,null,null,null,null,null,null,null,null,null,null,null,null,null,null,"15"]
[null,null,null,null,null,null,null,null,null,null,null,null,null,null,null,null,null,null,null,null,null,null,null,null,null,null,null,null,null,null,null,"16"]
[null,"２　参加者",null,null,null,null,null,null,null,null,null,null,null,null,null,null,null,null,null,null,null,null,null,null,null,null,null,null,null,null,null,"17"]
[null,"①　中学３年生及び保護者、家族",null,null,null,null,null,null,null,null,null,null,null,null,null,null,null,null,null,null,null,null,null,null,null,null,null,null,null,null,null,"18"]
[null,"学年等","ふりがな（上段）",null,"男・女","在籍\n学級",null,"参加\n回数",null,"参加保護者名",null,null,null,null,null,"参加保護者名",null,null,null,null,null,null,"アンケート\n希望の有無",null,null,null,null,null,null,null,null,"19"]
[null,null,"参加生徒名（下段）",null,null,null,null,null,null,"（生徒との関係）",null,null,null,null,null,"（生徒との関係）",null,null,null,null,null,null,null,null,null,null,null,null,null,null,null,"20"]
[null,3,null,null,null,null,null,null,null,null,null,null,null,null,null,null,null,null,null,null,null,null,null,null,null,null,null,null,null,null,null,"21"]
[null,null,null,null,null,null,null,null,null,null,null,null,null,null,null,null,null,null,null,null,null,null,null,null,null,null,null,null,null,null,null,"22"]
[null,3,null,null,null,null,null,null,null,null,null,null,"（",null,"）",null,null,null,"（",null,null,"）",null,null,null,null,null,null,null,null,null,"23"]
[null,null,null,null,null,null,null,null,null,null,null,null,null,null,null,null,null,null,null,null,null,null,null,null,null,null,null,null,null,null,null,"24"]
[null,3,null,null,null,null,null,null,null,null,null,null,"（",null,"）",null,null,null,"（",null,null,"）",null,null,null,null,null,null,null,null,null,"25"]
[null,null,null,null,null,null,null,null,null,null,null,null,null,null,null,null,null,null,null,null,null,null,null,null,null,null,null,null,null,null,null,"26"]
[null,3,null,null,null,null,null,null,null,null,null,null,"（",null,"）",null,null,null,"（",null,null,"）",null,null,null,null,null,null,null,null,null,"27"]
[null,null,null,null,null,null,null,null,null,null,null,null,null,null,null,null,null,null,null,null,null,null,null,null,null,null,null,null,null,null,null,"28"]
[null,3,null,null,null,null,null,null,null,null,null,null,"（",null,"）",null,null,null,"（",null,null,"）",null,null,null,null,null,null,null,null,null,"29"]
[null,null,null,null,null,null,null,null,null,null,null,null,null,null,null,null,null,null,null,null,null,null,null,null,null,null,null,null,null,null,null,"30"]
[null,3,null,null,null,null,null,null,null,null,null,null,"（",null,"）",null,null,null,"（",null,null,"）",null,null,null,null,null,null,null,null,null,"31"]
[]
[]
[null,"②　中学校，特別支援学校（中学部）の教職員"]
[null,"教　職　員　の　氏　名",null,null,null,null,"参加生徒・保護者との関係 ／校務分掌",null,null,null,null,null,null,null,null,null,"参加人数"]
[null,null,null,null,null,null,null,null,null,null,null,null,null,null,null,null,null,"生　徒",null,{"$f":"COUNTA(C23,C25,C27,C29,C31,C33)","v":0},null,"名"]
[null,null,null,null,null,null,null,null,null,null,null,null,null,null,null,null,null,"保護者",null,{"$f":"COUNTA(J22,J24,J26,J28,J30,J32,P22,P24,P26,P28,P30,P32)","v":0},null,"名"]
[null,null,null,null,null,null,null,null,null,null,null,null,null,null,null,null,null,"教職員",null,{"$f":"COUNTA(B37:F39)","v":0},null,"名"]
[null,null,null,null,null,null,null,null,null,null,null,null,null,null,null,null,null,"合　計",null,{"$f":"SUM(T37:U39)","v":0},null,"名"]
[null,"○欄が不足する場合はファイルをコピーして使用してください"]
[null,"○学校からの白河総合支援学校への申込締切日および時刻は、各実施日２週間前の同じ曜日の午後５時です\n○参加申込シートは管理職の先生から，電子メールで白河総合支援学校 副教頭 植田　麻希まで送信していただきます様お願いいたします 　 E-mail：shirakawa-y@edu.city.kyoto.jp\n（セキュルティ強化により外部からExcelデータが受付できませんので、お手数ですが必要事項を入力後、PDFデータに変換し、メールに添付していただきますようお願いします）\n〇添付されているファイル名の○○のところに貴校の学校名を含ませてください"]
[null,"○参加確認書を電子メールにて送付します（期限内でも参加者数が多い(２０組を超える）場合は、ご希望に添えないこともありますので、ご了承ください）"]

{"sheet":"参加確認","index":1,"n_rows":39,"n_cols":24,"rows_kept":39,"cut":false,"hidden":true,"merged":[[37,1,37,23],[38,1,38,23],[6,1,6,23],[26,2,26,3],[35,19,35,20],[1,3,1,8],[33,1,33,5],[33,6,33,14],[33,19,33,20],[34,1,34,5],[34,6,34,14],[34,19,34,20],[27,21,28,21],[27,22,28,23],[28,2,28,3],[31,1,31,5],[31,6,31,14],[32,1,32,5],[32,6,32,14],[32,17,32,18],[32,19,32,20],[27,12,28,12],[27,13,28,13],[27,1,28,1],[27,2,27,3],[27,4,28,4],[27,5,28,6],[27,7,28,8],[27,9,28,11],[25,9,26,11],[25,12,26,12],[23,14,24,14],[23,1,24,1],[23,2,23,3],[23,4,24,4],[23,5,24,6],[23,7,24,8],[23,9,24,11],[23,12,24,12],[23,13,24,13],[25,13,26,13],[25,14,26,14],[25,1,26,1],[25,2,25,3],[25,4,26,4],[25,5,26,6],[25,7,26,8],[24,2,24,3],[23,18,24,18],[27,15,28,17],[27,18,28,18],[23,19,24,20],[23,21,24,21],[23,22,24,23],[21,22,22,23],[21,14,22,14],[21,15,22,17],[21,18,22,18],[21,19,22,20],[21,21,22,21],[27,19,28,20],[25,19,26,20],[25,21,26,21],[25,22,26,23],[25,15,26,17],[25,18,26,18],[27,14,28,14],[23,15,24,17],[21,1,22,1],[21,2,21,3],[21,4,22,4],[21,5,22,6],[21,7,22,8],[21,9,22,11],[21,12,22,12],[19,12,20,12],[19,13,20,13],[19,1,20,1],[19,2,19,3],[19,4,20,4],[19,5,20,6],[19,7,20,8],[19,9,20,11],[22,2,22,3],[21,13,22,13],[17,2,17,3],[17,4,18,4],[17,5,18,6],[17,7,18,8],[17,19,18,20],[19,21,20,21],[19,22,20,23],[20,2,20,3],[19,14,20,14],[19,15,20,17],[19,18,20,18],[19,19,20,20],[31,16,31,18],[0,1,0,23],[15,15,15,21],[15,22,16,23],[16,2,16,3],[16,9,16,14],[16,15,16,21],[17,21,18,21],[17,22,18,23],[18,2,18,3],[17,14,18,14],[17,15,18,17],[17,18,18,18],[9,3,11,9],[15,1,16,1],[15,2,15,3],[15,4,16,4],[15,5,16,6],[15,7,16,8],[15,9,15,14],[17,9,18,11],[17,12,18,12],[17,13,18,13],[17,1,18,1]]}
[null,"白河総合支援学校オープンキャンパス（中学２年生対象）参加確認書"]
[null,"（あて先）",null,{"$f":"申込シート!R7","v":0},null,null,null,null,null,"学校長様"]
[null,null,null,null,null,null,null,null,null,null,null,null,null,null,null,null,null,"平成28",null,"年",null,"月",null,"日"]
[]
[null,null,null,null,null,null,null,null,null,null,null,null,null,null,null,null,null,"京都市立白河総合支援学校"]
[]
[null,"　京都市立白河総合支援学校におけるオープンキャンパスへの参加について，以下のように決定いたしましたのでお知らせいたします。参加日，参加者及び内容をご確認いただきますようお願いいたします。"]
[]
[null,"１　参加日"]
[null,null,null,{"$f":"申込シート!D14","v":" "}]
[]
[]
[]
[null,"２　参加者"]
[null,"①　中学２年生及び保護者，家族"]
[null,"学年等","ふりがな（上段）",null,"男・女","在籍\n学級",null,"参加\n回数",null,"参加保護者名",null,null,null,null,null,"参加保護者名",null,null,null,null,null,null,"アンケート希望の有無"]
[null,null,"参加生徒名（下段）",null,null,null,null,null,null,"（生徒との関係）",null,null,null,null,null,"（生徒との関係）"]
[null,{"$f":"申込シート!B22","v":3},{"$f":"申込シート!C22","v":0},{"$f":"申込シート!D22","v":0},{"$f":"申込シート!E22","v":0},{"$f":"申込シート!F22","v":0},{"$f":"申込シート!G22","v":0},{"$f":"申込シート!H22","v":0},{"$f":"申込シート!I22","v":0},{"$f":"申込シート!J22","v":0},{"$f":"申込シート!K22","v":0},{"$f":"申込シート!L22","v":0},"（",{"$f":"申込シート!N22","v":0},"）",{"$f":"申込シート!P22","v":0},{"$f":"申込シート!Q22","v":0},{"$f":"申込シート!R22","v":0},"（",{"$f":"申込シート!T22","v":0},{"$f":"申込シート!U22","v":0},"）",{"$f":"申込シート!W22","v":0},{"$f":"申込シート!X22","v":0}]
[null,null,{"$f":"申込シート!C23","v":0}]
[null,{"$f":"申込シート!B24","v":3},{"$f":"申込シート!C24","v":0},{"$f":"申込シート!D24","v":0},{"$f":"申込シート!E24","v":0},{"$f":"申込シート!F24","v":0},{"$f":"申込シート!G24","v":0},{"$f":"申込シート!H24","v":0},{"$f":"申込シート!I24","v":0},{"$f":"申込シート!J24","v":0},{"$f":"申込シート!K24","v":0},{"$f":"申込シート!L24","v":0},"（",{"$f":"申込シート!N24","v":0},"）",{"$f":"申込シート!P24","v":0},{"$f":"申込シート!Q24","v":0},{"$f":"申込シート!R24","v":0},"（",{"$f":"申込シート!T24","v":0},{"$f":"申込シート!U24","v":0},"）",{"$f":"申込シート!W24","v":0},{"$f":"申込シート!X24","v":0}]
[null,null,{"$f":"申込シート!C25","v":0}]
[null,{"$f":"申込シート!B26","v":3},{"$f":"申込シート!C26","v":0},{"$f":"申込シート!D26","v":0},{"$f":"申込シート!E26","v":0},{"$f":"申込シート!F26","v":0},{"$f":"申込シート!G26","v":0},{"$f":"申込シート!H26","v":0},{"$f":"申込シート!I26","v":0},{"$f":"申込シート!J26","v":0},{"$f":"申込シート!K26","v":0},{"$f":"申込シート!L26","v":0},"（",{"$f":"申込シート!N26","v":0},"）",{"$f":"申込シート!P26","v":0},{"$f":"申込シート!Q26","v":0},{"$f":"申込シート!R26","v":0},"（",{"$f":"申込シート!T26","v":0},{"$f":"申込シート!U26","v":0},"）",{"$f":"申込シート!W26","v":0},{"$f":"申込シート!X26","v":0}]
[null,null,{"$f":"申込シート!C27","v":0}]
[null,{"$f":"申込シート!B28","v":3},{"$f":"申込シート!C28","v":0},{"$f":"申込シート!D28","v":0},{"$f":"申込シート!E28","v":0},{"$f":"申込シート!F28","v":0},{"$f":"申込シート!G28","v":0},{"$f":"申込シート!H28","v":0},{"$f":"申込シート!I28","v":0},{"$f":"申込シート!J28","v":0},{"$f":"申込シート!K28","v":0},{"$f":"申込シート!L28","v":0},"（",{"$f":"申込シート!N28","v":0},"）",{"$f":"申込シート!P28","v":0},{"$f":"申込シート!Q28","v":0},{"$f":"申込シート!R28","v":0},"（",{"$f":"申込シート!T28","v":0},{"$f":"申込シート!U28","v":0},"）",{"$f":"申込シート!W28","v":0},{"$f":"申込シート!X28","v":0}]
[null,null,{"$f":"申込シート!C29","v":0}]
[null,{"$f":"申込シート!B30","v":3},{"$f":"申込シート!C30","v":0},{"$f":"申込シート!D30","v":0},{"$f":"申込シート!E30","v":0},{"$f":"申込シート!F30","v":0},{"$f":"申込シート!G30","v":0},{"$f":"申込シート!H30","v":0},{"$f":"申込シート!I30","v":0},{"$f":"申込シート!J30","v":0},{"$f":"申込シート!K30","v":0},{"$f":"申込シート!L30","v":0},"（",{"$f":"申込シート!N30","v":0},"）",{"$f":"申込シート!P30","v":0},{"$f":"申込シート!Q30","v":0},{"$f":"申込シート!R30","v":0},"（",{"$f":"申込シート!T30","v":0},{"$f":"申込シート!U30","v":0},"）",{"$f":"申込シート!W30","v":0},{"$f":"申込シート!X30","v":0}]
[null,null,{"$f":"申込シート!C31","v":0}]
[null,{"$f":"申込シート!B32","v":3},{"$f":"申込シート!C32","v":0},{"$f":"申込シート!D32","v":0},{"$f":"申込シート!E32","v":0},{"$f":"申込シート!F32","v":0},{"$f":"申込シート!G32","v":0},{"$f":"申込シート!H32","v":0},{"$f":"申込シート!I32","v":0},{"$f":"申込シート!J32","v":0},{"$f":"申込シート!K32","v":0},{"$f":"申込シート!L32","v":0},"（",{"$f":"申込シート!N32","v":0},"）",{"$f":"申込シート!P32","v":0},{"$f":"申込シート!Q32","v":0},{"$f":"申込シート!R32","v":0},"（",{"$f":"申込シート!T32","v":0},{"$f":"申込シート!U32","v":0},"）",{"$f":"申込シート!W32","v":0},{"$f":"申込シート!X32","v":0}]
[null,null,{"$f":"申込シート!C33","v":0}]
[]
[null,"②　中学校，特別支援学校（中学部）の教職員"]
[null,"教　職　員　の　氏　名",null,null,null,null,"参加生徒・保護者との関係 ／校務分掌",null,null,null,null,null,null,null,null,null,"参加人数"]
[null,{"$f":"申込シート!B37","v":0},null,null,null,null,{"$f":"申込シート!G37","v":0},null,null,null,null,null,null,null,null,null,null,"生　徒",null,{"$f":"申込シート!T37","v":0},null,"名"]
[null,{"$f":"申込シート!B38","v":0},null,null,null,null,{"$f":"申込シート!G38","v":0},null,null,null,null,null,null,null,null,null,null,"保護者",null,{"$f":"申込シート!T38","v":0},null,"名"]
[null,{"$f":"申込シート!B39","v":0},null,null,null,null,{"$f":"申込シート!G39","v":0},null,null,null,null,null,null,null,null,null,null,"教職員",null,{"$f":"申込シート!T39","v":0},null,"名"]
[null,null,null,null,null,null,null,null,null,null,null,null,null,null,null,null,null,"合　計",null,{"$f":"申込シート!T40","v":0},null,"名"]
[null,"③　日　程"]
[null,"   ９ ：００　　　　　　　　　受付開始\n   ９ ：２０～　　 　　　　  ①ガイダンス　　　　　　 　\n １０ ：１０～１１ ：３０　　②見学・体験（グループごとに実施）\n １０ ：１０～１１ ：３０　　③個別の相談（希望者のみ）　　　　　　　　　　　　\n １１ ：４０～１２ ：００    ④学習の振返り\n"]
[null,"※　本校は，二足制になっております。必ず上靴をご持参ください。\n※　遅刻・不参加の場合は, 中学校・中学部から白河総合（７７１-５５１０）へ連絡してください。"]

{"sheet":"集計","index":2,"n_rows":9,"n_cols":19,"rows_kept":9,"cut":false,"hidden":true,"merged":[]}
["オープンキャンパス集計表（２年）",null,null,null,{"$f":"申込シート!D14","v":" "}]
[]
["学校名","学年","氏名","ふりがな","性別","在籍","参加回数","保護者１","関係","保護者２","関係","アンケート","教職員","関係"]
[{"$f":"申込シート!R7","v":0},{"$f":"参加確認!B18","v":3},{"$f":"参加確認!C19","v":0},{"$f":"参加確認!C18","v":0},{"$f":"参加確認!E18","v":0},{"$f":"参加確認!F18","v":0},{"$f":"参加確認!H18","v":0},{"$f":"参加確認!J18","v":0},{"$f":"参加確認!N18","v":0},{"$f":"参加確認!P18","v":0},{"$f":"参加確認!T18","v":0},{"$f":"参加確認!W18","v":0},{"$f":"申込シート!B37","v":0},{"$f":"申込シート!G37","v":0},null,null,null,{"$f":"申込シート!R7","v":0},{"$f":"SUBSTITUTE(R4,\"京都市立\",\"\")","v":"0"}]
[{"$f":"$A$4","v":0},{"$f":"参加確認!B20","v":3},{"$f":"参加確認!C21","v":0},{"$f":"参加確認!C20","v":0},{"$f":"参加確認!E20","v":0},{"$f":"参加確認!F20","v":0},{"$f":"参加確認!H20","v":0},{"$f":"参加確認!J20","v":0},{"$f":"参加確認!N20","v":0},{"$f":"参加確認!P20","v":0},{"$f":"参加確認!T20","v":0},{"$f":"参加確認!W20","v":0},{"$f":"申込シート!B38","v":0},{"$f":"申込シート!G38","v":0}]
[{"$f":"$A$4","v":0},{"$f":"参加確認!B22","v":3},{"$f":"参加確認!C23","v":0},{"$f":"参加確認!C22","v":0},{"$f":"参加確認!E22","v":0},{"$f":"参加確認!F22","v":0},{"$f":"参加確認!H22","v":0},{"$f":"参加確認!J22","v":0},{"$f":"参加確認!N22","v":0},{"$f":"参加確認!P22","v":0},{"$f":"参加確認!T22","v":0},{"$f":"参加確認!W22","v":0},{"$f":"申込シート!B39","v":0},{"$f":"申込シート!G39","v":0}]
[0,{"$f":"参加確認!B24","v":3},{"$f":"参加確認!C25","v":0},{"$f":"参加確認!C24","v":0},{"$f":"参加確認!E24","v":0},{"$f":"参加確認!F24","v":0},{"$f":"参加確認!H24","v":0},{"$f":"参加確認!J24","v":0},{"$f":"参加確認!N24","v":0},{"$f":"参加確認!P24","v":0},{"$f":"参加確認!T24","v":0},{"$f":"参加確認!W24","v":0}]
[0,{"$f":"参加確認!B26","v":3},{"$f":"参加確認!C27","v":0},{"$f":"参加確認!C26","v":0},{"$f":"参加確認!E26","v":0},{"$f":"参加確認!F26","v":0},{"$f":"参加確認!H26","v":0},{"$f":"参加確認!J26","v":0},{"$f":"参加確認!N26","v":0},{"$f":"参加確認!P26","v":0},{"$f":"参加確認!T26","v":0},{"$f":"参加確認!W26","v":0}]
[0,{"$f":"参加確認!B28","v":3},{"$f":"参加確認!C29","v":0},{"$f":"参加確認!C28","v":0},{"$f":"参加確認!E28","v":0},{"$f":"参加確認!F28","v":0},{"$f":"参加確認!H28","v":0},{"$f":"参加確認!J28","v":0},{"$f":"参加確認!N28","v":0},{"$f":"参加確認!P28","v":0},{"$f":"参加確認!T28","v":0},{"$f":"参加確認!W28","v":0}]